BEGIN:VCALENDAR
VERSION:2.0
PRODID:-//Kein Schritt nach rechts - ECPv6.15.20//NONSGML v1.0//EN
CALSCALE:GREGORIAN
METHOD:PUBLISH
X-ORIGINAL-URL:https://keinschrittnachrechts.de
X-WR-CALDESC:Veranstaltungen für Kein Schritt nach rechts
REFRESH-INTERVAL;VALUE=DURATION:PT1H
X-Robots-Tag:noindex
X-PUBLISHED-TTL:PT1H
BEGIN:VTIMEZONE
TZID:Europe/Berlin
BEGIN:DAYLIGHT
TZOFFSETFROM:+0100
TZOFFSETTO:+0200
TZNAME:CEST
DTSTART:20240331T010000
END:DAYLIGHT
BEGIN:STANDARD
TZOFFSETFROM:+0200
TZOFFSETTO:+0100
TZNAME:CET
DTSTART:20241027T010000
END:STANDARD
BEGIN:DAYLIGHT
TZOFFSETFROM:+0100
TZOFFSETTO:+0200
TZNAME:CEST
DTSTART:20250330T010000
END:DAYLIGHT
BEGIN:STANDARD
TZOFFSETFROM:+0200
TZOFFSETTO:+0100
TZNAME:CET
DTSTART:20251026T010000
END:STANDARD
BEGIN:DAYLIGHT
TZOFFSETFROM:+0100
TZOFFSETTO:+0200
TZNAME:CEST
DTSTART:20260329T010000
END:DAYLIGHT
BEGIN:STANDARD
TZOFFSETFROM:+0200
TZOFFSETTO:+0100
TZNAME:CET
DTSTART:20261025T010000
END:STANDARD
END:VTIMEZONE
BEGIN:VEVENT
DTSTART;TZID=Europe/Berlin:20250516T180000
DTEND;TZID=Europe/Berlin:20250516T180000
DTSTAMP:20260426T020928
CREATED:20250505T145932Z
LAST-MODIFIED:20250506T185413Z
UID:1824-1747418400-1747418400@keinschrittnachrechts.de
SUMMARY:Extern | Dokumentations- und Kulturzentrum Deutscher Sinti und Roma: Führung zum Deportationstag
DESCRIPTION:Das Dokumentations- und Kulturzentrum Deutscher Sinti und Roma lädt am Freitag\, dem 16. Mai um 18 Uhr zu einer Führung ein\, bei der das Schicksal der Heidelberger Sinti im Mittelpunkt steht. Genau vor 85 Jahren\, am 16. Mai 1940\, verschleppten NS-Schergen hunderte Sinti aus ganz Südwestdeutschland – darunter auch Familien der Minderheit aus der Neckarstadt. \nWeitere Informationen: (externer Link) \nhttps://dokuzentrum.sintiundroma.de/fuehrungen/ \n  \n 
URL:https://keinschrittnachrechts.de/event/extern-dokumentations-und-kulturzentrum-deutscher-sinti-und-roma-fuehrung-zum-deportationstag
LOCATION:Dokumentations- und Kulturzentrum deutscher Sinti und Roma\, Bremeneckgasse 2\, Heidelberg\, Germany
CATEGORIES:Externe Veranstaltungen
END:VEVENT
BEGIN:VEVENT
DTSTART;TZID=Europe/Berlin:20250518T110000
DTEND;TZID=Europe/Berlin:20250518T140000
DTSTAMP:20260426T020928
CREATED:20250505T150537Z
LAST-MODIFIED:20250506T185353Z
UID:1830-1747566000-1747576800@keinschrittnachrechts.de
SUMMARY:Extern | Dokumentations- und Kulturzentrum Deutscher Sinti und Roma: Führungen zum Internationalen Museumstag
DESCRIPTION:Weltweit wird am Sonntag\, dem 18. Mai 2025\, der Internationale Museumstag gefeiert. Natürlich auch in Heidelberg. Und daran beteiligt sich das Dokumentations- und Kulturzentrum Deutscher mit einem besonderen Angebot. Um 11 und um 14 Uhr gibt es an diesem Tag zwei kostenlose Führungen jeweils mit Gespräch zu „Schwerpunkten der Dauerausstellung“. \nWeitere Informationen: (externer Link) \nhttps://dokuzentrum.sintiundroma.de/fuehrungen/ \n  \n 
URL:https://keinschrittnachrechts.de/event/extern-dokumentations-und-kulturzentrum-deutscher-sinti-und-roma-fuehrungen-zum-internationalen-museumstag
LOCATION:Dokumentations- und Kulturzentrum deutscher Sinti und Roma\, Bremeneckgasse 2\, Heidelberg\, Germany
CATEGORIES:Externe Veranstaltungen
END:VEVENT
END:VCALENDAR