BEGIN:VCALENDAR
VERSION:2.0
PRODID:-//Kein Schritt nach rechts - ECPv6.15.20//NONSGML v1.0//EN
CALSCALE:GREGORIAN
METHOD:PUBLISH
X-WR-CALNAME:Kein Schritt nach rechts
X-ORIGINAL-URL:https://keinschrittnachrechts.de
X-WR-CALDESC:Veranstaltungen für Kein Schritt nach rechts
REFRESH-INTERVAL;VALUE=DURATION:PT1H
X-Robots-Tag:noindex
X-PUBLISHED-TTL:PT1H
BEGIN:VTIMEZONE
TZID:Europe/Berlin
BEGIN:DAYLIGHT
TZOFFSETFROM:+0100
TZOFFSETTO:+0200
TZNAME:CEST
DTSTART:20240331T010000
END:DAYLIGHT
BEGIN:STANDARD
TZOFFSETFROM:+0200
TZOFFSETTO:+0100
TZNAME:CET
DTSTART:20241027T010000
END:STANDARD
BEGIN:DAYLIGHT
TZOFFSETFROM:+0100
TZOFFSETTO:+0200
TZNAME:CEST
DTSTART:20250330T010000
END:DAYLIGHT
BEGIN:STANDARD
TZOFFSETFROM:+0200
TZOFFSETTO:+0100
TZNAME:CET
DTSTART:20251026T010000
END:STANDARD
BEGIN:DAYLIGHT
TZOFFSETFROM:+0100
TZOFFSETTO:+0200
TZNAME:CEST
DTSTART:20260329T010000
END:DAYLIGHT
BEGIN:STANDARD
TZOFFSETFROM:+0200
TZOFFSETTO:+0100
TZNAME:CET
DTSTART:20261025T010000
END:STANDARD
END:VTIMEZONE
BEGIN:VEVENT
DTSTART;TZID=Europe/Berlin:20250717T190000
DTEND;TZID=Europe/Berlin:20250717T190000
DTSTAMP:20260425T175534
CREATED:20250714T112320Z
LAST-MODIFIED:20250714T112506Z
UID:2133-1752778800-1752778800@keinschrittnachrechts.de
SUMMARY:Extern | We Reclaim die Untere - Kneipentour
DESCRIPTION:Du hast Lust mit anderen Queers (und Friends) die Untere unsicher zu machen? Dann sei bei unserer ersten Kneipentour dabei! \nMeldet euch per Mail an: queerfeministisches.kollektiv.hd@gmail.com \nEs gibt keinen Alkoholzwang und wir werden eine Awarenessperson dabei haben. Wir besuchen Bars die Nachtsam geschult sind oder eine Schulung demnächst durchführen. Wir versuchen möglichst barrierearme Bars auszusuchen.
URL:https://keinschrittnachrechts.de/event/extern-we-reclaim-die-untere-kneipentour
CATEGORIES:Externe Veranstaltungen
END:VEVENT
BEGIN:VEVENT
DTSTART;TZID=Europe/Berlin:20250726T140000
DTEND;TZID=Europe/Berlin:20250726T140000
DTSTAMP:20260425T175534
CREATED:20250722T200234Z
LAST-MODIFIED:20250722T200234Z
UID:2157-1753538400-1753538400@keinschrittnachrechts.de
SUMMARY:Extern | Tanzworkshop "Ineinandersetzungen: Begegnung"
DESCRIPTION:Inklusiver Tanzworkshop für alle FLINTA* Personen ab 16 Jahren\nWir begegnen einander jeden Tag\, auf unterschiedliche Weise. Aber was bedeutet Begegnung überhaupt und wie kann Begegnung im Tanz aussehen? Wo entstehen Grenzen in Begegnung und können oder müssen sie überwunden werden? \nDurch somatische Übungen\, Improvisation und Techniken aus dem modernen Tanz und anderen kreativen Methoden findet ihr in diesem Workshop auf diese Fragen individuelle und kollektive Antworten und entwickelt Möglichkeiten tänzerischer Begegnung. \nSo wie ihr seid\, seid ihr herzlich willkommen\, unabhängig davon wie euer Körper aussieht\, wie er sich bewegt und ob ihr Vorkenntnisse im Tanz habt oder nicht. \nWeitere Informationen (externer Link): \nhttps://www.karlstorbahnhof.de/programm/veranstaltung/ineinandersetzungen-begegnung/
URL:https://keinschrittnachrechts.de/event/extern-tanzworkshop-ineinandersetzungen-begegnung
LOCATION:Karlstorbahnhof (Südstadt)\, Marlene-Dietrich-Platz 3\, Heidelberg\, Germany
CATEGORIES:Externe Veranstaltungen
END:VEVENT
BEGIN:VEVENT
DTSTART;TZID=Europe/Berlin:20250731T200000
DTEND;TZID=Europe/Berlin:20250731T200000
DTSTAMP:20260425T175534
CREATED:20250705T093457Z
LAST-MODIFIED:20250705T093457Z
UID:2086-1753992000-1753992000@keinschrittnachrechts.de
SUMMARY:Extern | Demo: We Reclaim the Night!
DESCRIPTION:Am 31. Mai wurden wir auf unserer “FLINTA* Reclaim the Night”-Demo mit Glas beworfen und Alkohol übergossen. Auf der Kundgebung wurden wir beobachtet und auf dem Weg Nachhause verfolgt. Gewalt gegen Queere und Frauen ist Alltag und wurde an diesem Abend auf die Spitze getrieben. \nVon diesen Erlebnissen werden wir uns aber nicht einschüchtern lassen. Deswegen organisieren wir am 31. Juli um 20 Uhr wieder eine Demo\, um zu zeigen\, dass wir nicht aufhören werden\, für Sicherheit und Sichtbarkeit von Queeren\, Migrantisierten\, Rassifizierten\, Behinderten und Frauen bei Nacht zu kämpfen. \nWir möchten insbesondere Allys dazu einladen\, an dieser Demo teilzunehmen und mit uns für grundlegende Rechte zu kämpfen. \nWir versammeln uns ab 19:30 Uhr auf der Schwanenteichanlage und ziehen über die Poststraße\, kleine Plöck\, Sofienstraße und Hauptstraße zum Rathausplatz\, um dort eine Kundgebung abzuhalten. Danach möchten wir Gruppen organisieren\, damit möglichst alle sicher Nachhause kommen. We Reclaim the Night!
URL:https://keinschrittnachrechts.de/event/extern-demo-we-reclaim-the-night
LOCATION:Stadtbücherei\, Poststraße 15\, Heidelberg\, Baden-Württemberg\, 69126\, Germany
CATEGORIES:Externe Veranstaltungen
END:VEVENT
END:VCALENDAR