BEGIN:VCALENDAR
VERSION:2.0
PRODID:-//Kein Schritt nach rechts - ECPv6.15.20//NONSGML v1.0//EN
CALSCALE:GREGORIAN
METHOD:PUBLISH
X-ORIGINAL-URL:https://keinschrittnachrechts.de
X-WR-CALDESC:Veranstaltungen für Kein Schritt nach rechts
REFRESH-INTERVAL;VALUE=DURATION:PT1H
X-Robots-Tag:noindex
X-PUBLISHED-TTL:PT1H
BEGIN:VTIMEZONE
TZID:Europe/Berlin
BEGIN:DAYLIGHT
TZOFFSETFROM:+0100
TZOFFSETTO:+0200
TZNAME:CEST
DTSTART:20240331T010000
END:DAYLIGHT
BEGIN:STANDARD
TZOFFSETFROM:+0200
TZOFFSETTO:+0100
TZNAME:CET
DTSTART:20241027T010000
END:STANDARD
BEGIN:DAYLIGHT
TZOFFSETFROM:+0100
TZOFFSETTO:+0200
TZNAME:CEST
DTSTART:20250330T010000
END:DAYLIGHT
BEGIN:STANDARD
TZOFFSETFROM:+0200
TZOFFSETTO:+0100
TZNAME:CET
DTSTART:20251026T010000
END:STANDARD
BEGIN:DAYLIGHT
TZOFFSETFROM:+0100
TZOFFSETTO:+0200
TZNAME:CEST
DTSTART:20260329T010000
END:DAYLIGHT
BEGIN:STANDARD
TZOFFSETFROM:+0200
TZOFFSETTO:+0100
TZNAME:CET
DTSTART:20261025T010000
END:STANDARD
END:VTIMEZONE
BEGIN:VEVENT
DTSTART;TZID=Europe/Berlin:20251008T183000
DTEND;TZID=Europe/Berlin:20251008T183000
DTSTAMP:20260425T130251
CREATED:20251006T132056Z
LAST-MODIFIED:20251007T081359Z
UID:2442-1759948200-1759948200@keinschrittnachrechts.de
SUMMARY:Extern | Filmvorführung "Die Möllner-Briefe" im Karlstorkino
DESCRIPTION:Im November 1992 zerstörte der rassistische Brandanschlag von Mölln die Leben von İbrahim Arslan und seiner Familie. Der damals siebenjährige verlor seine Schwester\, Cousine und Großmutter. Die Stadt Mölln erhielt Hunderte Briefe mit Solidaritätsbekundungen\, die fast drei Jahrzehnte im Verborgenen lagen. Der Film folgt İbrahim beim Entdecken dieser Briefe\, sowie den Begegnungen mit drei ihrer Verfasser*innen und zeichnet ein komplexes Porträt des Traumas\, das ihn und seine Geschwister bis heute beeinträchtigt. İbrahim kämpft in der Zwischenzeit aktiv gegen Rassismus und setzt sich für eine Erinnerungskultur ein\, während sein Bruder sich noch am Anfang seiner Bewältigung befindet. \nDer Film beleuchtet die Erfahrungen der Überlebenden und deckt die große Solidarität auf\, die sie erfahren. Dabei wird eine Perspektive des Erinnerns eingenommen\, die den Stimmen der Betroffenen den verdienten Raum und die Anerkennung gibt. In einer Zeit\, in der die Demokratie in Deutschland so bedroht ist wie seit 80 Jahren nicht mehr\, stellt der Film entscheidende Fragen\, gibt den persönlichen Verlusten der Opfer Raum und macht Solidarität sichtbar. \nIn Kooperation mit dem Runden Tisch gegen Rassismus der Stadt Heidelberg im Rahmen des Bundesprogramms „Demokratie leben!“ des Bundesministeriums für Bildung\, Familie\, Senioren\, Frauen und Jugend. \nAn mehreren Terminen im Karlstorkino: \nDi 07.10.25 – 19.00 Uhr\nMi 08.10.25 – 18.30 Uhr\nSo 12.10.25 – 17.00 Uhr \nWeitere Informationen (externer Link): \nhttps://www.karlstorkino.de/programm/die-moellner-briefe\n \n \n \n 
URL:https://keinschrittnachrechts.de/event/extern-filmvorfuehrung-die-moellner-briefe-im-karlstorkino
LOCATION:Karlstorkino (Südstadt)\, Marlene-Dietrich-Platz 3\, Heidelberg\, Germany
CATEGORIES:Externe Veranstaltungen
END:VEVENT
BEGIN:VEVENT
DTSTART;TZID=Europe/Berlin:20251011T130000
DTEND;TZID=Europe/Berlin:20251011T130000
DTSTAMP:20260425T130251
CREATED:20251007T081051Z
LAST-MODIFIED:20251007T081051Z
UID:2447-1760187600-1760187600@keinschrittnachrechts.de
SUMMARY:Extern | Dokumentarfilm SISTERQUEENS und Diskussion im Gloria Kino
DESCRIPTION:Die drei Freundinnen Jamila (9)\, Rachel (11) und Faseeha (12) sind Teil des Rap-Projekts „Sisterqueens“ im Berliner Wedding. Unter Anleitung etablierter Rapperinnen lernen sie\, sich selbst zu feiern\, gesellschaftliche Normen zu hinterfragen und Ungerechtigkeiten anzuprangern. Der beobachtende Dokumentarfilm begleitet die drei Mädchen über mehrere Jahre hinweg bei ihren ersten Schritten als junge\, selbstbewusste Künstlerinnen\, die nicht zuletzt den Geschlechterklischees im Rap die Stirn bieten. \nClara Stella Hünekes Abschlussfilm an der Filmakademie Baden-Württemberg gewährt über mehrere Jahre hinweg einen tiefen Einblick in ein Projekt\, dessen Bedeutung gar nicht stark genug betont werden kann. \nDas Rap-Projekt SISTERQUEENS ist ein feministisches Projekt des Kollektivs Peira in Kooperation mit diversen Rapperinnen\, MÄDEA und anderen Mädchenzentren in Berlin. \nSondervorstellung am Samstag\, 11.10.\, 13:00 Uhr\, Gloria \nIn Kooperation mit HipHop Kulturtage Heidelberg\, LuCa Heidelberg e.V. und Frauen helfen Frauen für das Heidelberger Bündnis gegen Armut und Ausgrenzung \nWeitere Informationen (externer Link): \nhttps://www.gloria-kamera-kinos.de/de/specials/sondervorstellungen\n \n \n \n 
URL:https://keinschrittnachrechts.de/event/extern-dokumentarfilm-sisterqueens-und-diskussion-im-gloria-kino
LOCATION:Gloria Kino\, Hauptstr. 146\, Heidelberg\, Germany
CATEGORIES:Externe Veranstaltungen
END:VEVENT
END:VCALENDAR