BEGIN:VCALENDAR
VERSION:2.0
PRODID:-//Kein Schritt nach rechts - ECPv6.15.20//NONSGML v1.0//EN
CALSCALE:GREGORIAN
METHOD:PUBLISH
X-ORIGINAL-URL:https://keinschrittnachrechts.de
X-WR-CALDESC:Veranstaltungen für Kein Schritt nach rechts
REFRESH-INTERVAL;VALUE=DURATION:PT1H
X-Robots-Tag:noindex
X-PUBLISHED-TTL:PT1H
BEGIN:VTIMEZONE
TZID:Europe/Berlin
BEGIN:DAYLIGHT
TZOFFSETFROM:+0100
TZOFFSETTO:+0200
TZNAME:CEST
DTSTART:20240331T010000
END:DAYLIGHT
BEGIN:STANDARD
TZOFFSETFROM:+0200
TZOFFSETTO:+0100
TZNAME:CET
DTSTART:20241027T010000
END:STANDARD
BEGIN:DAYLIGHT
TZOFFSETFROM:+0100
TZOFFSETTO:+0200
TZNAME:CEST
DTSTART:20250330T010000
END:DAYLIGHT
BEGIN:STANDARD
TZOFFSETFROM:+0200
TZOFFSETTO:+0100
TZNAME:CET
DTSTART:20251026T010000
END:STANDARD
BEGIN:DAYLIGHT
TZOFFSETFROM:+0100
TZOFFSETTO:+0200
TZNAME:CEST
DTSTART:20260329T010000
END:DAYLIGHT
BEGIN:STANDARD
TZOFFSETFROM:+0200
TZOFFSETTO:+0100
TZNAME:CET
DTSTART:20261025T010000
END:STANDARD
END:VTIMEZONE
BEGIN:VEVENT
DTSTART;TZID=Europe/Berlin:20250924T190000
DTEND;TZID=Europe/Berlin:20250924T190000
DTSTAMP:20260425T122004
CREATED:20250908T092905Z
LAST-MODIFIED:20250908T092905Z
UID:2338-1758740400-1758740400@keinschrittnachrechts.de
SUMMARY:Extern | Filmpremiere "Solidarity" und Podiumsdiskussion im Kino Kamera
DESCRIPTION:Solidarity\nDokumentarfilm von David Bernet \nSolidarität ist eines der wertvollsten Prinzipien menschlicher Gemeinschaften – und zugleich ein zutiefst widersprüchliches. Sie kann als universeller Anspruch verstanden werden\, sich um alles Lebendige zu kümmern\, aber sie kann sich auch in eine Kraft der Ausgrenzung oder gar in einen Aufruf zu bestialischer Gewalt verwandeln. \nDie Protagonist:innen dieses Films sind Profis in der solidarischen Arbeit. Sie sind keine First Responder\, sondern Menschen\, die tief im humanitären System der „globalen Solidarität“ arbeiten. Sie agieren auf unterschiedlichen Ebenen\, in regionalen Graswurzelstrukturen bis in den höchsten Ebenen der Vereinten Nationen: \nEine Menschenrechtsaktivistin und eine Migrationsberaterin in Polen\, Vertreter*innen des UNHCR (Flüchtlingshilfswerk der UNO) in Genf\, sowie ein Philosoph in Beirut zeigen uns die hellen wie die dunklen Seiten der Solidarität. Der Film führt uns von der Migrationskrise an der belarussisch-polnischen Grenze über die Fluchtbewegung aus der Ukraine direkt nach der russischen Invasion schließlich in den Solidaritätsclash im Nahen Osten\, wo die humanitären Menschenrechte ins Wanken geraten sind. \n„Globale Solidarität“ ist eine Errungenschaft der Weltgemeinschaft als Lehre aus den Zerstörungen des Zweiten Weltkriegs und seitdem ein kompliziertes und sensibles Menschheitsprojekt. Muss diese Solidarität heute in einer Welt voller Krisen und Katastrophen neu erfunden werden? \nPremiere am Mittwoch\, 24.09. um 19:00 Uhr in der Kamera\, in Kooperation mit der Friedrich-Ebert-Stiftung. \nAnschließend Podiumsdiskussion mit: \nDavid Bernet\, Regisseur\nRené Repasi\, MdEP\nMarta Siciarek\, polnische Menschenrechtsaktivistin und Protagonistin aus dem Film\nModeration: Jasmin Astaki-Bardeh\, Journalistin \nWeitere Informationen (externer Link): \nhttps://www.gloria-kamera-kinos.de/de/programm-specials
URL:https://keinschrittnachrechts.de/event/extern-filmpremiere-solidarity-und-podiumsdiskussion-im-kino-kamera
LOCATION:Kamera Kino\, Brückenstr. 26\, Heidelberg\, 69120\, Germany
CATEGORIES:Externe Veranstaltungen
END:VEVENT
END:VCALENDAR