BEGIN:VCALENDAR
VERSION:2.0
PRODID:-//Kein Schritt nach rechts - ECPv6.15.20//NONSGML v1.0//EN
CALSCALE:GREGORIAN
METHOD:PUBLISH
X-WR-CALNAME:Kein Schritt nach rechts
X-ORIGINAL-URL:https://keinschrittnachrechts.de
X-WR-CALDESC:Veranstaltungen für Kein Schritt nach rechts
REFRESH-INTERVAL;VALUE=DURATION:PT1H
X-Robots-Tag:noindex
X-PUBLISHED-TTL:PT1H
BEGIN:VTIMEZONE
TZID:Europe/Berlin
BEGIN:DAYLIGHT
TZOFFSETFROM:+0100
TZOFFSETTO:+0200
TZNAME:CEST
DTSTART:20240331T010000
END:DAYLIGHT
BEGIN:STANDARD
TZOFFSETFROM:+0200
TZOFFSETTO:+0100
TZNAME:CET
DTSTART:20241027T010000
END:STANDARD
BEGIN:DAYLIGHT
TZOFFSETFROM:+0100
TZOFFSETTO:+0200
TZNAME:CEST
DTSTART:20250330T010000
END:DAYLIGHT
BEGIN:STANDARD
TZOFFSETFROM:+0200
TZOFFSETTO:+0100
TZNAME:CET
DTSTART:20251026T010000
END:STANDARD
BEGIN:DAYLIGHT
TZOFFSETFROM:+0100
TZOFFSETTO:+0200
TZNAME:CEST
DTSTART:20260329T010000
END:DAYLIGHT
BEGIN:STANDARD
TZOFFSETFROM:+0200
TZOFFSETTO:+0100
TZNAME:CET
DTSTART:20261025T010000
END:STANDARD
END:VTIMEZONE
BEGIN:VEVENT
DTSTART;TZID=Europe/Berlin:20250214T150000
DTEND;TZID=Europe/Berlin:20250214T150000
DTSTAMP:20260426T004740
CREATED:20250110T152648Z
LAST-MODIFIED:20250213T122523Z
UID:1127-1739545200-1739545200@keinschrittnachrechts.de
SUMMARY:Extern | Fridays for Future: Demo: Klimastreik vor der Bundestagswahl
DESCRIPTION:Die Klimakrise eskaliert immer stärker und wird in der öffentlichen Debatte vor der vorgezogenen Bundestagswahl zu unrecht verdrängt. \nDeshalb streiken wir auch in Heidelberg am 14.2.! Gemeinsam machen wir Klimaschutz wieder zur obersten politischen Priorität 🔥 Los geht’s am 14.2. um 15 Uhr an der Stadtbücherei. Wir freuen uns auf euch! \n  \nAktuelle Informationen unter: (Externer Link)\nhttps://fridaysforfuture-heidelberg.de/14-2-klimastreik-zur-bundestagswahl/ \n 
URL:https://keinschrittnachrechts.de/event/extern-klimastreik-fridays-for-future
LOCATION:Stadtbücherei\, Poststraße 15\, Heidelberg\, Baden-Württemberg\, 69126\, Germany
CATEGORIES:Externe Veranstaltungen
END:VEVENT
END:VCALENDAR