BEGIN:VCALENDAR
VERSION:2.0
PRODID:-//Kein Schritt nach rechts - ECPv6.15.20//NONSGML v1.0//EN
CALSCALE:GREGORIAN
METHOD:PUBLISH
X-WR-CALNAME:Kein Schritt nach rechts
X-ORIGINAL-URL:https://keinschrittnachrechts.de
X-WR-CALDESC:Veranstaltungen für Kein Schritt nach rechts
REFRESH-INTERVAL;VALUE=DURATION:PT1H
X-Robots-Tag:noindex
X-PUBLISHED-TTL:PT1H
BEGIN:VTIMEZONE
TZID:Europe/Berlin
BEGIN:DAYLIGHT
TZOFFSETFROM:+0100
TZOFFSETTO:+0200
TZNAME:CEST
DTSTART:20240331T010000
END:DAYLIGHT
BEGIN:STANDARD
TZOFFSETFROM:+0200
TZOFFSETTO:+0100
TZNAME:CET
DTSTART:20241027T010000
END:STANDARD
BEGIN:DAYLIGHT
TZOFFSETFROM:+0100
TZOFFSETTO:+0200
TZNAME:CEST
DTSTART:20250330T010000
END:DAYLIGHT
BEGIN:STANDARD
TZOFFSETFROM:+0200
TZOFFSETTO:+0100
TZNAME:CET
DTSTART:20251026T010000
END:STANDARD
BEGIN:DAYLIGHT
TZOFFSETFROM:+0100
TZOFFSETTO:+0200
TZNAME:CEST
DTSTART:20260329T010000
END:DAYLIGHT
BEGIN:STANDARD
TZOFFSETFROM:+0200
TZOFFSETTO:+0100
TZNAME:CET
DTSTART:20261025T010000
END:STANDARD
END:VTIMEZONE
BEGIN:VEVENT
DTSTART;VALUE=DATE:20250312
DTEND;VALUE=DATE:20250501
DTSTAMP:20260425T215958
CREATED:20250304T213108Z
LAST-MODIFIED:20250304T213342Z
UID:1568-1741737600-1746057599@keinschrittnachrechts.de
SUMMARY:Extern | Verschiedene Veranstalter im IZ: Comic-Ausstellung 'Wie geht es dir?'
DESCRIPTION:Ausstellung\n„Wie geht es dir?“\nZeichnerinnen und Zeichner gegen Antisemitismus\, Hass und Rassismus \nEröffnung: 12. März 2025\, ab 18.00 h\nInterkulturelles Zentrum Heidelberg\, Bergheimer Str. 147\, 69115 Heidelberg \nErgebnis der Initiative „Wie geht es dir? Zeichner:innen gegen\nAntisemitismus\, Hass und Rassismus“ sind Arbeiten von 48 der\nbedeutendsten deutschsprachigen Comic-Künstler:innen\, die in der\nAusstellung präsentiert werden. Die Künstler:innen wollen die\nSprachlosigkeit überwinden angesichts des entsetzlichen Leids\, dem die\nMenschen im Nahen Osten seit dem Terrorangriff der Hamas am 7. Oktober\n2023 und dem folgenden Krieg v.a. in Gaza ausgesetzt sind. Sie wollen\nder Polarisierung gerade auch in unserer Gesellschaft entgegenwirken und\nladen zum Dialog ein. \nDen Comics liegen Interviews mit in unterschiedlicher Weise betroffenen\nMenschen zugrunde. Durch die künstlerische Form der Comics wird den\nInterviews eine eindrucksvolle Sprache verliehen\, die zum Nachdenken und\nAustausch anregt. \nTeil des Eröffnung-Programms ist um 18.32 Uhr auch das muslimische\nFastenbrechen und Einladung zum offenem Buffet für alle Besucher:innen.\nDanach gibt es Gespräche mit den Veranstaltenden und Initiator*innen zu\nIdee\, Zielen\, umsetzung und Geschichte der Ausstellung. \nIm Rahmen des Begleitprogramms finden noch Gespräche mir Initiatorinnen\nund Initiatoren\, Comic-Workshops\, Debatten und Führungen statt. Näheres\nim Faltblatt. \nDie Ausstellung ist vom 12. März bis 30. April 2025 von Mo-Do\, 10.00\n-16.00 h und an den Samstagen von 15.00 bis 18.00 h geöffnet. \nVeranstalter: Heinrich-Böll-Stiftung Baden-Württemberg e.V.\, Muslimische\nAkademie Heidelberg\, Interkulturelles Zentrum Heidelberg\, Hochschule für\nJüdische Studien \nDer Eintritt ist frei. \nWeitere Informationen: (Externer Link) \nhttps://www.iz-heidelberg.de/aktuelles/news/07_02_2025+ausstellung+_wie+geht+es+dir_
URL:https://keinschrittnachrechts.de/event/extern-verschiedene-veranstalter-im-iz-comic-ausstellung-wie-geht-es-dir
LOCATION:Interkulturelles Zentrum\, Bergheimer Straße 147\, Heidelberg\, 69115
CATEGORIES:Externe Veranstaltungen
END:VEVENT
BEGIN:VEVENT
DTSTART;VALUE=DATE:20250317
DTEND;VALUE=DATE:20250409
DTSTAMP:20260425T215958
CREATED:20250301T201310Z
LAST-MODIFIED:20250301T201635Z
UID:1551-1742169600-1744156799@keinschrittnachrechts.de
SUMMARY:Extern | Internationale Wochen gegen Rassismus 2025  (17.3.-8.4.)
DESCRIPTION:Die Aktionswochen finden in Heidelberg vom 17. März bis zum 8. April 2025 unter dem Motto „Menschenwürde schützen“ statt. \nDort findet man das Programm mit vielfältigen Veranstaltungen zum Herunterladen und online:\nhttps://www.iz-heidelberg.de/internationale+wochen+gegen+rassismus\n(externer Link) \nEs gibt Workshops\, Aufführungen\, Ausstellungen\, Begegnungsmöglichkeiten\, Gespräche\, Lesungen\, Kunst\, Filmvorführungen\, Feste\,… Sich informieren\, vielleicht zum Mitmachen angeregt werden\, diskutieren. Menschen begegnen und nicht zu vergessen\, das zu feiern. \nDie Veranstaltungen werden von Heidelberger Vereinen\, Initiativen und Institutionen organisiert und vom Interkulturellen Zentrum koordiniert.
URL:https://keinschrittnachrechts.de/event/extern-internationale-wochen-gegen-rassismus-2025-17-3-8-4
CATEGORIES:Externe Veranstaltungen
END:VEVENT
BEGIN:VEVENT
DTSTART;VALUE=DATE:20250401
DTEND;VALUE=DATE:20250601
DTSTAMP:20260425T215958
CREATED:20250318T185555Z
LAST-MODIFIED:20250318T185555Z
UID:1617-1743465600-1748735999@keinschrittnachrechts.de
SUMMARY:Extern | Wanderausstellung „Wir sind Hanau“ ab dem 18. Februar 2025
DESCRIPTION:Vom 01. April bis 31. Mai 2025 in der Campusbibliothek Bergheim. \nDie Ausstellung „Wir sind Hanau“ regt zu einer kritischen Auseinandersetzung mit Themen wie Diskriminierung\, Rechtsextremismus und strukturellen Rassismus an und erinnert an die Ermordeten rechtsextremer Attentate der letzten 30 Jahre in Deutschland. Vom 18. Februar bis zum 14. März 2025 zeigte das Dokumentations- und Kulturzentrum Deutscher Sinti und Roma (DoKuZ)\, Bremeneckgasse 2 in Heidelberg\, während dessen Öffnungszeiten dienstags bis sonntags. Danach wird sie noch an anderen Orten in Heidelberg zu sehen sein. \nUrsprung und Entwicklung \nNach dem rassistisch motivierten Anschlag in Hanau am 19. Februar 2020 wurde das Ausmaß rechtsextremen Terrors und der mangelhaften gesellschaftlichen Aufarbeitung deutlich. Die Ausstellung „Wir sind Hanau“ wurde als Reaktion darauf von Migrantifa Stuttgart konzipiert und in Zusammenarbeit mit dem Migration Hub Heidelberg und der zivilgesellschaftlichen Initiative „Erinnern.Verändern“ mit Unterstützung von Mosaik Deutschland e.V. speziell für Heidelberg erworben und weiterentwickelt. Sie war ursprünglich im Württembergischen Kunstverein Stuttgart und 2024 bereits als Wanderausstellung in Heidelberg zu sehen. 2025 wird sie erneut ausgestellt – zunächst im DoKuZ\, dann in der Campus Bibliothek Bergheim\, anschließend im Collegium Academium und dem Bürgerhaus Emmertsgrund. \nWas erwartet Sie? \nDie Ausstellung „Wir sind Hanau“ zeigt die Muster sogenannter „Einzelfälle“ rechtsextremer Gewalt auf und verschafft den Stimmen von Rassismus betroffenen Menschen Gehör. Sie leistet einen wichtigen Beitrag\, um gesellschaftliches Bewusstsein zu fördern und einen nachhaltigen Diskurs anzuregen. Aber auch\, um den Besucher*innen eine Auseinandersetzung mit den Themen Rechtsextremismus\, Alltagsrassismus und struktureller Rassismus\, unter anderem in Sicherheitsbehörden\, zu ermöglichen. \nNeben Texten und Gedichten zu den Anschlägen in Hanau greifen auch Werke von BIPoC-Kunstschaffenden aus Heidelberg diese Themen kreativ und eindringlich auf. \nÖffnungszeiten und Führungen \nDie Ausstellung ist innerhalb der Öffnungszeiten der jeweiligen Einrichtung\, bei der sie gezeigt wird\, jederzeit und kostenlos besuchbar. \n  \nÖffnungszeiten: \nDokumentations- und Kulturzentrums Deutscher Sinti und Roma: \n18.02. bis 14.03.2025 \nDi: 9.30-19.45 Uhr\nMi\, Do\, Fr: 9.30-16.30 Uhr\nSa\, So: 11.00-16.30 Uhr\nMo und an Feiertagen geschlossen \nCampus Bibliothek Bergheim  \n01.04.2025 bis 31.05.2025 \nMo-Fr: 9:00-22:00 Uhr \nSa: 10:00-20:00 Uhr \nWährend vorlesungsfreier Zeit gesonderte Öffnungszeiten beachten \nCollegium Academium | Aula  \n02.06.2025 bis 30.06.2025 \nZugang immer möglich \n  \nBürgerhaus Emmertsgrund \n01.08.2025 bis 30.09.2025 \nDi-Fr: 10:00-16:00 Uhr \nMo\, Sa\, So: geschlossen \nBei Interesse an Gruppenführungen durch die Ausstellung z.B. für Schulklassen melden Sie sich gerne unter info@mosaik-deutschland.de. \nWeitere Infos unter: (Externer Link)\nhttps://dokuzentrum.sintiundroma.de/ausstellung-wir-sind-hanau/
URL:https://keinschrittnachrechts.de/event/extern-wanderausstellung-wir-sind-hanau-ab-dem-18-februar-2025
LOCATION:Campusbibliothek Bergheim\, Bergheimer Straße 58\, Heidelberg\, Baden-Württemberg\, 69115\, Germany
CATEGORIES:Externe Veranstaltungen
END:VEVENT
BEGIN:VEVENT
DTSTART;TZID=Europe/Berlin:20250401T200000
DTEND;TZID=Europe/Berlin:20250401T200000
DTSTAMP:20260425T215958
CREATED:20250325T200715Z
LAST-MODIFIED:20250325T200715Z
UID:1644-1743537600-1743537600@keinschrittnachrechts.de
SUMMARY:Koop. Gloria & KSNR:  Film "MIT DER FAUST IN DIE WELT SCHLAGEN" und Gespräch mit der Regisseurin
DESCRIPTION:MIT DER FAUST IN DIE WELT SCHLAGEN\nPremiere am Dienstag\, 01.04.\, 20:00 Uhr\, Gloria\nFilmgespräch mit Regisseurin Constanze Klaue \n*D 2024 | Regie: Constanze Klaue | 112 Min. | FSK 12\nPhilipp und Tobi wachsen in der ostdeutschen Provinz auf. Ihre Kindheit ist geprägt vom Zerfall der eigenen Familie und von der Perspektivlosigkeit einer ganzen Region. Als Jahre später ein Flüchtlingsheim im Ort entstehen soll\, eskaliert die Situation. Während sich der eine Bruder zurückzieht\, findet der andere ein Ventil für seine Wut… \nDas kraftvolle Spielfilmdebüt der Regisseurin Constanze Klaue erzählt aus der Perspektive zweier Brüder ein berührendes Familiendrama in der ostdeutschen Provinz. Ein großartiges Ensemble zeigt\, wie die Umwälzungen der Nachwendezeit für die jugendlichen Protagonist*innen\, wie auch für ihre Elterngeneration in all ihrer Härte nachhallen. Es nimmt das Publikum mit auf eine Reise in eine von politischen Spannungen geprägte Zeit\, die sich dennoch intensiv gegenwärtig und brennend aktuell anfühlt. Einfühlsam findet Constanze Klaue aus dem Inneren ihrer Figuren heraus eine Sprache für die Wut und Entfremdung derjenigen\, bei denen die großen Versprechen der Zukunft nicht ankommen wollten. Sie begegnet ihren Figuren dabei auf Augenhöhe und zeichnet ein ungeschöntes und detailreiches Generationenporträt in einem von Perspektivlosigkeit und Radikalisierung geprägten Umfeld\, das stellvertretend für zahlreiche Orte dieser Welt steht. \nDarsteller*innen: Anton Franke\, Camille Moltzen\, Anja Schneider\, Christian Näthe\, Steffi Kühnert\, Meinhard Neumann\, Johannes Scheidweiler\, Tilman Döbler\, Sammy Scheuritzel\, Moritz Hoyer\, Jannis Veihelmann\, Noah Dymke uva.. * \n  \n 
URL:https://keinschrittnachrechts.de/event/koop-gloria-ksnr-film-mit-der-faust-in-die-welt-schlagen-und-gespraech-mit-der-regisseurin
LOCATION:Gloria Kino\, Hauptstr. 146\, Heidelberg\, Germany
CATEGORIES:Externe Veranstaltungen
END:VEVENT
BEGIN:VEVENT
DTSTART;TZID=Europe/Berlin:20250407T190000
DTEND;TZID=Europe/Berlin:20250407T190000
DTSTAMP:20260425T215958
CREATED:20250326T165017Z
LAST-MODIFIED:20250326T165017Z
UID:1650-1744052400-1744052400@keinschrittnachrechts.de
SUMMARY:Extern - Initiative 'Bezahlkarte stoppen!': Informationsabend zu Bezahlkarte\, Initiative und den Umtauschaktionen
DESCRIPTION:Die Einladung der Initiative ‚Bezahlkarte stoppen! Heidelberg und Rhein-Neckar‘ \n„Liebe solidarische Zivilgesellschaft\, \nwir\, die Initiative Bezahlkarte stoppen! Heidelberg und Rhein-Neckar\, laden Sie herzlich zu einem Informationsabend zur Bezahlkarte\, unserer Initiative und den Umtauschaktionen ein:\nAm 07.04.25\, ab 19 Uhr\nAula des Collegium Academicum\nMarie-Clauss-Str. 3\, Heidelberg-Rohrbach\nStraßenbahn 23\, Haltestelle Ortenauer Straße \nMit unserem offenen Brief haben wir als Initiative einen ersten großen Erfolg zu verzeichnen: Im Sozialausschuss des Heidelberger Gemeinderats gab es eine Mehrheit gegen die Bezahlkarte\, die als diskriminierend und rassistisch kritisiert wurde und den Entschluss\, der OB möge sich erneut an die Landesregierung wenden.\nWir hoffen\, dass Heidelberg die Bezahlkarte nicht einführen wird.\nUnsere Arbeit als Initiative bleibt aber trotzdem notwendig: Im Rhein-Neckar-Kreis haben Betroffene bereits Ankündigungsschreiben zur Einführung erhalten. Auch in den Landeserstaufnahmeeinrichtungen (LEAs) der Umgebung ist die Bezahlkarte bereits eingeführt (zB im Tompkins in Schwetzingen) oder wird demnächst eingeführt werden\, da diese von Stuttgart aus verwaltet werden. \nFür uns steht fest:\nWir müssen unsere solidarischen Strukturen weiter aufbauen und ausweiten.\nWir dürfen die Betroffenen nicht alleine lassen! Deswegen laden wir Sie ein\, am 07. April mit uns ins Gespräch zu kommen und sich zu informieren. Wir möchten Ihnen die Idee von Tauschbörsen vorstellen\, die in anderen Städten bereits gut funktionieren. Sie ist so einfach wie genial\, ein Akt konkreter Solidarität\, um auf völlig legalem Weg Bargeld zu generieren\, eine Möglichkeit\, mit der sich jede und jeder von uns ganz mühelos einbringen kann. \nWir freuen uns auf ein volles Haus\,\nSolidarische Grüße\, \nBezahlkarte stoppen! Heidelberg und Rhein-Neckar“ \n 
URL:https://keinschrittnachrechts.de/event/extern-initiative-bezahlkarte-stoppen-informationsabend-zu-bezahlkarte-initiative-und-den-umtauschaktionen
LOCATION:Collegium Academicum\, Heidelberg\, Marie-Clauss-Straße 3\, Heidelberg\, 69115\, Germany
CATEGORIES:Externe Veranstaltungen
END:VEVENT
END:VCALENDAR