BEGIN:VCALENDAR
VERSION:2.0
PRODID:-//Kein Schritt nach rechts - ECPv6.15.20//NONSGML v1.0//EN
CALSCALE:GREGORIAN
METHOD:PUBLISH
X-WR-CALNAME:Kein Schritt nach rechts
X-ORIGINAL-URL:https://keinschrittnachrechts.de
X-WR-CALDESC:Veranstaltungen für Kein Schritt nach rechts
REFRESH-INTERVAL;VALUE=DURATION:PT1H
X-Robots-Tag:noindex
X-PUBLISHED-TTL:PT1H
BEGIN:VTIMEZONE
TZID:Europe/Berlin
BEGIN:DAYLIGHT
TZOFFSETFROM:+0100
TZOFFSETTO:+0200
TZNAME:CEST
DTSTART:20230326T010000
END:DAYLIGHT
BEGIN:STANDARD
TZOFFSETFROM:+0200
TZOFFSETTO:+0100
TZNAME:CET
DTSTART:20231029T010000
END:STANDARD
BEGIN:DAYLIGHT
TZOFFSETFROM:+0100
TZOFFSETTO:+0200
TZNAME:CEST
DTSTART:20240331T010000
END:DAYLIGHT
BEGIN:STANDARD
TZOFFSETFROM:+0200
TZOFFSETTO:+0100
TZNAME:CET
DTSTART:20241027T010000
END:STANDARD
BEGIN:DAYLIGHT
TZOFFSETFROM:+0100
TZOFFSETTO:+0200
TZNAME:CEST
DTSTART:20250330T010000
END:DAYLIGHT
BEGIN:STANDARD
TZOFFSETFROM:+0200
TZOFFSETTO:+0100
TZNAME:CET
DTSTART:20251026T010000
END:STANDARD
BEGIN:DAYLIGHT
TZOFFSETFROM:+0100
TZOFFSETTO:+0200
TZNAME:CEST
DTSTART:20260329T010000
END:DAYLIGHT
BEGIN:STANDARD
TZOFFSETFROM:+0200
TZOFFSETTO:+0100
TZNAME:CET
DTSTART:20261025T010000
END:STANDARD
END:VTIMEZONE
BEGIN:VEVENT
DTSTART;VALUE=DATE:20241213
DTEND;VALUE=DATE:20250331
DTSTAMP:20260425T215214
CREATED:20250307T204948Z
LAST-MODIFIED:20250307T204948Z
UID:1575-1734048000-1743379199@keinschrittnachrechts.de
SUMMARY:Extern | Altstadtgemeinde: Ausstellung Klimaflucht
DESCRIPTION:Die Wanderausstellung Klimaflucht der Deutschen Klimastiftung\, die am Freitag\, 13. Dezember\, 18:30 Uhr in der Providenzkirche eröffnet wurde\, macht anhand von Einzelschicksalen auf die Folgen der Klimaveränderung aufmerksam. \n Die Austellung ist bis zum 30.03.2025 täglich von 11-17 Uhr in der Providenzkirche zu besichtigen. \nIn vielen Regionen der Welt sind die klimatischen Auswirkungen so gravierend\, dass Menschen gezwungen sind\, ihre Heimat zu verlassen. Welche Menschen stehen hinter den Meldungen über Wetterextreme\, die wir regelmäßig in den Medien lesen? Wie sieht ihre Vision von einer gerechten Welt aus? Und wie wollen wir in Zukunft mit klimabedingter Migration umgehen? \nDie Ausstellung „Klimaflucht“ ist die Auftaktveranstaltung der Reihe „Alles Klima?!“.Altstadtgemeinde\, Evangelische Erwachsenenbildung und Evangelische Kirche in Heidelberg laden dazu ein\, die Themen Klimagerechtigkeit und Klimaflucht genauer kennenzulernen\, sich mit Klimaveränderung und Migrationsursachen auseinanderzusetzen und Geschichten aus Ländern im Klimawandel zu hören\, erzählt von Menschen\, die dort ihre Heimat hatten. \nWeitere Informationen: (externer Link)\nhttps://ekihd.de/media/download/variant/410939/ausstellung-klimaflucht—alles-klima.pdf
URL:https://keinschrittnachrechts.de/event/extern-altstadtgemeinde-ausstellung-klimaflucht
LOCATION:Providenzkirche\, Hauptstr. 90a\, Heidelberg\, 69115\, Germany
CATEGORIES:Externe Veranstaltungen
END:VEVENT
BEGIN:VEVENT
DTSTART;VALUE=DATE:20250218
DTEND;VALUE=DATE:20250315
DTSTAMP:20260425T215214
CREATED:20241229T142215Z
LAST-MODIFIED:20250129T210406Z
UID:1054-1739836800-1741996799@keinschrittnachrechts.de
SUMMARY:Extern | Wanderausstellung „Wir sind Hanau“ ab dem 18. Februar 2025
DESCRIPTION:Vom 18. Februar bis 14. März 2025 zunächst im Dokumentations- und Kulturzentrum Deutscher Sinti und Roma (DoKuZ) \nDie Ausstellung „Wir sind Hanau“ regt zu einer kritischen Auseinandersetzung mit Themen wie Diskriminierung\, Rechtsextremismus und strukturellen Rassismus an und erinnert an die Ermordeten rechtsextremer Attentate der letzten 30 Jahre in Deutschland. Vom 18. Februar bis zum 14. März 2025 zeigt das Dokumentations- und Kulturzentrum Deutscher Sinti und Roma (DoKuZ)\, Bremeneckgasse 2 in Heidelberg\, während dessen Öffnungszeiten dienstags bis sonntags. Danach wird sie noch an anderen Orten in Heidelberg zu sehen sein. \nUrsprung und Entwicklung \nNach dem rassistisch motivierten Anschlag in Hanau am 19. Februar 2020 wurde das Ausmaß rechtsextremen Terrors und der mangelhaften gesellschaftlichen Aufarbeitung deutlich. Die Ausstellung „Wir sind Hanau“ wurde als Reaktion darauf von Migrantifa Stuttgart konzipiert und in Zusammenarbeit mit dem Migration Hub Heidelberg und der zivilgesellschaftlichen Initiative „Erinnern.Verändern“ mit Unterstützung von Mosaik Deutschland e.V. speziell für Heidelberg erworben und weiterentwickelt. Sie war ursprünglich im Württembergischen Kunstverein Stuttgart und 2024 bereits als Wanderausstellung in Heidelberg zu sehen. 2025 wird sie erneut ausgestellt – zunächst im DoKuZ\, dann in der Campus Bibliothek Bergheim\, anschließend im Collegium Academium und dem Bürgerhaus Emmertsgrund. \nWas erwartet Sie? \nDie Ausstellung „Wir sind Hanau“ zeigt die Muster sogenannter „Einzelfälle“ rechtsextremer Gewalt auf und verschafft den Stimmen von Rassismus betroffenen Menschen Gehör. Sie leistet einen wichtigen Beitrag\, um gesellschaftliches Bewusstsein zu fördern und einen nachhaltigen Diskurs anzuregen. Aber auch\, um den Besucher*innen eine Auseinandersetzung mit den Themen Rechtsextremismus\, Alltagsrassismus und struktureller Rassismus\, unter anderem in Sicherheitsbehörden\, zu ermöglichen. \nNeben Texten und Gedichten zu den Anschlägen in Hanau greifen auch Werke von BIPoC-Kunstschaffenden aus Heidelberg diese Themen kreativ und eindringlich auf. \nÖffnungszeiten und Führungen \nDie Ausstellung ist innerhalb der Öffnungszeiten der jeweiligen Einrichtung\, bei der sie gezeigt wird\, jederzeit und kostenlos besuchbar. \n  \nÖffnungszeiten: \nDokumentations- und Kulturzentrums Deutscher Sinti und Roma: \n18.02. bis 14.03.2025 \nDi: 9.30-19.45 Uhr\nMi\, Do\, Fr: 9.30-16.30 Uhr\nSa\, So: 11.00-16.30 Uhr\nMo und an Feiertagen geschlossen \nCampus Bibliothek Bergheim  \n01.04.2025 bis 31.05.2025 \nMo-Fr: 9:00-22:00 Uhr \nSa: 10:00-20:00 Uhr \nWährend vorlesungsfreier Zeit gesonderte Öffnungszeiten beachten \nCollegium Academium | Aula  \n02.06.2025 bis 30.06.2025 \nZugang immer möglich \n  \nBürgerhaus Emmertsgrund \n01.08.2025 bis 30.09.2025 \nDi-Fr: 10:00-16:00 Uhr \nMo\, Sa\, So: geschlossen \nBei Interesse an Gruppenführungen durch die Ausstellung z.B. für Schulklassen melden Sie sich gerne unter info@mosaik-deutschland.de. \nWeitere Infos unter: (Externer Link)\nhttps://dokuzentrum.sintiundroma.de/ausstellung-wir-sind-hanau/
URL:https://keinschrittnachrechts.de/event/extern-mosaik-deutschland-e-v-ausstellung-wir-sind-hanau-ab-dem-18-februar-2025
LOCATION:Dokumentations- und Kulturzentrum deutscher Sinti und Roma\, Bremeneckgasse 2\, Heidelberg\, Germany
CATEGORIES:Externe Veranstaltungen
END:VEVENT
BEGIN:VEVENT
DTSTART;VALUE=DATE:20250312
DTEND;VALUE=DATE:20250501
DTSTAMP:20260425T215214
CREATED:20250304T213108Z
LAST-MODIFIED:20250304T213342Z
UID:1568-1741737600-1746057599@keinschrittnachrechts.de
SUMMARY:Extern | Verschiedene Veranstalter im IZ: Comic-Ausstellung 'Wie geht es dir?'
DESCRIPTION:Ausstellung\n„Wie geht es dir?“\nZeichnerinnen und Zeichner gegen Antisemitismus\, Hass und Rassismus \nEröffnung: 12. März 2025\, ab 18.00 h\nInterkulturelles Zentrum Heidelberg\, Bergheimer Str. 147\, 69115 Heidelberg \nErgebnis der Initiative „Wie geht es dir? Zeichner:innen gegen\nAntisemitismus\, Hass und Rassismus“ sind Arbeiten von 48 der\nbedeutendsten deutschsprachigen Comic-Künstler:innen\, die in der\nAusstellung präsentiert werden. Die Künstler:innen wollen die\nSprachlosigkeit überwinden angesichts des entsetzlichen Leids\, dem die\nMenschen im Nahen Osten seit dem Terrorangriff der Hamas am 7. Oktober\n2023 und dem folgenden Krieg v.a. in Gaza ausgesetzt sind. Sie wollen\nder Polarisierung gerade auch in unserer Gesellschaft entgegenwirken und\nladen zum Dialog ein. \nDen Comics liegen Interviews mit in unterschiedlicher Weise betroffenen\nMenschen zugrunde. Durch die künstlerische Form der Comics wird den\nInterviews eine eindrucksvolle Sprache verliehen\, die zum Nachdenken und\nAustausch anregt. \nTeil des Eröffnung-Programms ist um 18.32 Uhr auch das muslimische\nFastenbrechen und Einladung zum offenem Buffet für alle Besucher:innen.\nDanach gibt es Gespräche mit den Veranstaltenden und Initiator*innen zu\nIdee\, Zielen\, umsetzung und Geschichte der Ausstellung. \nIm Rahmen des Begleitprogramms finden noch Gespräche mir Initiatorinnen\nund Initiatoren\, Comic-Workshops\, Debatten und Führungen statt. Näheres\nim Faltblatt. \nDie Ausstellung ist vom 12. März bis 30. April 2025 von Mo-Do\, 10.00\n-16.00 h und an den Samstagen von 15.00 bis 18.00 h geöffnet. \nVeranstalter: Heinrich-Böll-Stiftung Baden-Württemberg e.V.\, Muslimische\nAkademie Heidelberg\, Interkulturelles Zentrum Heidelberg\, Hochschule für\nJüdische Studien \nDer Eintritt ist frei. \nWeitere Informationen: (Externer Link) \nhttps://www.iz-heidelberg.de/aktuelles/news/07_02_2025+ausstellung+_wie+geht+es+dir_
URL:https://keinschrittnachrechts.de/event/extern-verschiedene-veranstalter-im-iz-comic-ausstellung-wie-geht-es-dir
LOCATION:Interkulturelles Zentrum\, Bergheimer Straße 147\, Heidelberg\, 69115
CATEGORIES:Externe Veranstaltungen
END:VEVENT
BEGIN:VEVENT
DTSTART;TZID=Europe/Berlin:20250312T190000
DTEND;TZID=Europe/Berlin:20250312T190000
DTSTAMP:20260425T215214
CREATED:20250221T203016Z
LAST-MODIFIED:20250221T203016Z
UID:1502-1741806000-1741806000@keinschrittnachrechts.de
SUMMARY:Extern - Initiative Heidelberger Stolpersteine: Vortrag über Eleonore Sterling (1925-1968)
DESCRIPTION:Vortrag: „Eleonore Sterling (1925-1968). Deutsch-jüdische Kämpferin gegen Antisemitismus und Rechtsextremismus“ mit Birgit Seemann\nSeit März 2008 gibt es in Heidelberg eine Initiative von Bürgerinnen und Bürgern\, die sich regelmäßig in den Räumen der Volkshochschule trifft und die sich dafür einsetzt\, dass auch in dieser Stadt Stolpersteine zum Gedenken an verfolgte und ermordete ehemalige Bürgerinnen und Bürger verlegt werden. \nWeitere Informationen zur Initiative auf ihrer Webseite: (externer Link)\nhttp://www.stolpersteine-heidelberg.de/ \nDort gibt es auch Informationen zur Geschichte Heidelbergs. \n 
URL:https://keinschrittnachrechts.de/event/extern-initiative-heidelberger-stolpersteine-vortrag-ueber-eleonore-sterling-1925-1968
LOCATION:Rabatz  (Zugang von der John-Zenger-Str.)\, Rheinstr. 4\, Heidelberg\, 69115
CATEGORIES:Externe Veranstaltungen
END:VEVENT
BEGIN:VEVENT
DTSTART;TZID=Europe/Berlin:20250315T150000
DTEND;TZID=Europe/Berlin:20250315T150000
DTSTAMP:20260425T215214
CREATED:20250302T115122Z
LAST-MODIFIED:20250302T115122Z
UID:1561-1742050800-1742050800@keinschrittnachrechts.de
SUMMARY:Extern - Friedrich Ebert Gedenkstätte: Friedrich-Ebert-Fest – Wir feiern die Demokratie
DESCRIPTION:“ Mit einem abwechslungsreichen Programm wollen wir nicht nur Eberts Erbe würdigen\, sondern auch die Werte der Demokratie feiern\, die er stets verteidigte. Die Veranstaltung bietet Einblicke in Eberts Leben und die Geschichte der Weimarer Republik: Ob bei Kurzführungen durch die Geburtswohnung Eberts\, Filmen der Wochenschau oder interaktiven Angeboten wie einer Fotobox mit Kostümen der Zwanziger Jahre. Gemeinsam mit Geschichtenerzähler Dirk Nowakowski können Kinder basteln und in die Welt Anfang des Jahrhunderts eintauchen. Für sie gibt es weitere kreative Angebote wie eine Buttonmaschine\, Malbücher und ein Demokratie-Puzzle. \nMusikalische Unterhaltung bieten unter anderem der Chor der Friedrich-Ebert-Grundschule\, Patricio Padilla y Sol del Sur und die Jazz-Combo des Carl-Benz-GymnasiumsFür das leibliche Wohl gibt es Getränke\, Kuchen\, Gulaschsuppe und vegetarische Kartoffelsuppe. \nWir freuen uns darauf\, gemeinsam mit Ihnen zu feiern!“ \n->  https://ebert-gedenkstaette.de/termin/friedrich-ebert-fest-wir-feiern-die-demokratie/\n(Externer Link)
URL:https://keinschrittnachrechts.de/event/extern-friedrich-ebert-gedenkstaette-friedrich-ebert-fest-wir-feiern-die-demokratie
LOCATION:Freidrich Ebert Gedenkstätte\, Pfaffengasse 18\, Heiderlberg\, 69115\, Germany
CATEGORIES:Externe Veranstaltungen
END:VEVENT
BEGIN:VEVENT
DTSTART;TZID=Europe/Berlin:20250316T150000
DTEND;TZID=Europe/Berlin:20250316T150000
DTSTAMP:20260425T215214
CREATED:20250302T115741Z
LAST-MODIFIED:20250302T115741Z
UID:1565-1742137200-1742137200@keinschrittnachrechts.de
SUMMARY:Extern - Friedrich Ebert Gedenkstätte: Führung durch die Sonderausstellung "Eberts Erbe. Eine Demokratie mit Perspektiven"
DESCRIPTION:„Am 16.03. um 15 Uhr führen wir durch die Sonderausstellung Eberts Erbe. Eine Demokratie mit Perspektiven. Die Führung beleuchtet die politischen und gesellschaftlichen Umbrüche nach Eberts Tod\, darunter die Neuorientierung der SPD\, die Konferenz von Locarno und die Wahl Hindenburgs. Zudem werden die wirtschaftlichen Herausforderungen und die kulturelle Blüte der Weimarer Republik thematisiert.“ \n-> https://ebert-gedenkstaette.de/termin/fuehrung-durch-die-sonderausstellung-eberts-erbe-2/\n(Externer Link)
URL:https://keinschrittnachrechts.de/event/extern-friedrich-ebert-gedenkstaette-fuehrung-durch-die-sonderausstellung-eberts-erbe-eine-demokratie-mit-perspektiven
LOCATION:Freidrich Ebert Gedenkstätte\, Pfaffengasse 18\, Heiderlberg\, 69115\, Germany
CATEGORIES:Externe Veranstaltungen
END:VEVENT
BEGIN:VEVENT
DTSTART;VALUE=DATE:20250317
DTEND;VALUE=DATE:20250409
DTSTAMP:20260425T215214
CREATED:20250301T201310Z
LAST-MODIFIED:20250301T201635Z
UID:1551-1742169600-1744156799@keinschrittnachrechts.de
SUMMARY:Extern | Internationale Wochen gegen Rassismus 2025  (17.3.-8.4.)
DESCRIPTION:Die Aktionswochen finden in Heidelberg vom 17. März bis zum 8. April 2025 unter dem Motto „Menschenwürde schützen“ statt. \nDort findet man das Programm mit vielfältigen Veranstaltungen zum Herunterladen und online:\nhttps://www.iz-heidelberg.de/internationale+wochen+gegen+rassismus\n(externer Link) \nEs gibt Workshops\, Aufführungen\, Ausstellungen\, Begegnungsmöglichkeiten\, Gespräche\, Lesungen\, Kunst\, Filmvorführungen\, Feste\,… Sich informieren\, vielleicht zum Mitmachen angeregt werden\, diskutieren. Menschen begegnen und nicht zu vergessen\, das zu feiern. \nDie Veranstaltungen werden von Heidelberger Vereinen\, Initiativen und Institutionen organisiert und vom Interkulturellen Zentrum koordiniert.
URL:https://keinschrittnachrechts.de/event/extern-internationale-wochen-gegen-rassismus-2025-17-3-8-4
CATEGORIES:Externe Veranstaltungen
END:VEVENT
BEGIN:VEVENT
DTSTART;TZID=Europe/Berlin:20250321T160000
DTEND;TZID=Europe/Berlin:20250321T160000
DTSTAMP:20260425T215214
CREATED:20250311T211130Z
LAST-MODIFIED:20250311T211130Z
UID:1590-1742572800-1742572800@keinschrittnachrechts.de
SUMMARY:Extern - Filmvorführung Cinema Augustinum: Stolpersteine
DESCRIPTION:FILMVORFÜHRUNG (FILM PRESENTATION)\nCinema Augustinum: Stolpersteine\n“ „Es gibt in Deutschland derzeit nicht viele Dokumentarfilme\, die politisch und künstlerisch so engagiert sind“ (taz). Seit 2000 verlegt der Konzeptkünstler Gunter Demnig seine „Stolpersteine“ vor dem letzten  selbstgewählten Wohnort von Opfern des Nazi-Regimes. Demnig hat sein Projekt von Anfang an ausdrücklich für alle Opfergruppen des Nationalsozialismus konzipiert und mit der Unterzeile „Ein Projekt für Europa“ versehen.  Die „Stolpersteine“ sind umstritten. Einige Städte wollen das Projekt nicht genehmigen\, weil dadurch nach ihrem Empfinden „die Namen der Opfer mit Füßen getreten werden“ – ein Argument der ehemaligen Präsidentin des Zentralrats der Juden Charlotte Knobloch. Dörte Franke begleitet den Künstler auf seinen Verlegungstouren und bei der Arbeit in seinemKölner Atelier. Durch den persönlichen Zugang zu ihm und ihrer Mutter Uta Franke\,  der Koordinatorin des „Stolpersteine“-Projektes\, erhielt die Regisseurin Einblicke in einen Arbeitsalltag\, der sich immer mehr zu einer logistischen und auch persönlichen Herausforderung entwickelt.“\nAus dem Programm der Internationalen Wochen gegen Rassismus\, S. 32. \nVeranstalter ist das Augustinum Heidelberg. \nWeitere Informationen: (Externer Link)\nhttps://ww2.heidelberg.de/stadtblatt/2025/flipbook/Programm-Internationale-Wochen-gegen-Rassismus-2025/32-33/ \n  \n 
URL:https://keinschrittnachrechts.de/event/extern-filmvorfuehrung-cinema-augustinum-stolpersteine
LOCATION:Augustinum\, Jasperstraße 2\, Heidelberg\, 69126\, Germany
CATEGORIES:Externe Veranstaltungen
END:VEVENT
BEGIN:VEVENT
DTSTART;TZID=Europe/Berlin:20250323T140000
DTEND;TZID=Europe/Berlin:20250323T170000
DTSTAMP:20260425T215214
CREATED:20250311T205434Z
LAST-MODIFIED:20250311T205754Z
UID:1583-1742738400-1742749200@keinschrittnachrechts.de
SUMMARY:Extern - Interkultureller Austausch - Café International
DESCRIPTION:INTERKULTURELLER AUSTAUSCH (INTERCULTURAL EXCHANGE)\nCafé International – Jede Tasse Kaffee oder Tee erzählt eine Geschichte\n„Beim „Café International“ stellen Menschen aus verschiedenen Kulturkreisen und Ländern (u. a. Eritrea\, China\,  Japan\, Iran\, Osteuropa) ihre Kaffee- oder Teekultur vor. Egal in welchem Land\, Kaffee und Tee bringen die Menschen zusammen. Und doch gibt es so viele unterschiedliche Arten\, wie Kaffee und Tee zubereitet und getrunken werden.\nBei uns können Sie in der Zeit von 14.00 bis 17.00 Uhr verschiedene Variationen ausprobieren\, kennenlernen und sich untereinander austauschen. Zudem werden gegen eine Spende kleine landestypische Gebäck-Spezialitäten angeboten. Freuen Sie sich auch auf einen Vortrag oder eine Geschichte zum diesjährigen Thema der „Internationalen Wochen gegen Rassismus“: „Menschenwürde schützen“.“\nAus dem Programm der Internationalen Wochen gegen Rassismus\, S. 40. \nDer Nachmittag wird vom Kulturkreis Emmertsgrund Boxberg e. V.\, HeidelBERG-Café\, DIVH e. V.\, Stadtteilmanagement Emmertsgrund und dem Interkulturellen Frauencafé Emmertsgrund veranstaltet. \nWeitere Informationen: (Externer Link)\nhttps://ww2.heidelberg.de/stadtblatt/2025/flipbook/Programm-Internationale-Wochen-gegen-Rassismus-2025/40-41/ \n 
URL:https://keinschrittnachrechts.de/event/extern-interkultureller-austausch-cafe-international
LOCATION:Bergcafe\, Forum 1\, Heidelberg\, 69126\, Germany
CATEGORIES:Externe Veranstaltungen
END:VEVENT
BEGIN:VEVENT
DTSTART;TZID=Europe/Berlin:20250325T180000
DTEND;TZID=Europe/Berlin:20250325T180000
DTSTAMP:20260425T215214
CREATED:20250322T111444Z
LAST-MODIFIED:20250322T111444Z
UID:1635-1742925600-1742925600@keinschrittnachrechts.de
SUMMARY:Extern - Literatur und Musik: Die Würde des Menschen
DESCRIPTION:LESUNG (READING)\nDie Würde des Menschen\nJede Form von Hass und Gewalt mündet in Erniedrigung\, die Würde wird dem Menschen abgesprochen. Was kann man dagegen tun? Wir thematisieren die Vergangenheit\, damit ein Morgen in Würde möglich ist. Das muss im Heute und Jetzt passieren. Die GEDOK-Literatinnen Adriana Carcu\, Heide-Marie Lauterer\, Sofie Morin\, Gudrun Reinboth\, Ingrid Samel und Marion Tauschwitz nähern sich dem Thema „Würde“ in Prosa und Lyrik. \nMit musikalischer Umrahmung. \nModeration (Host): Ingrid Samel\nVeranstalter (organizer): GEDOK e. V.\, Evangelische\nKirche\, Café Talk\, Asylarbeitskreis\nEintritt (entrance fee): frei (free entrance)\nAnmeldung (registration): Keine Anmeldung erforderlich (no registration required)\nSprache (language): Deutsch (German) \nWeitere Informationen: (Externer Link)\nhttps://ww2.heidelberg.de/stadtblatt/2025/flipbook/Programm-Internationale-Wochen-gegen-Rassismus-2025/44-45/ \n 
URL:https://keinschrittnachrechts.de/event/extern-literatur-und-musik-die-wuerde-des-menschen
LOCATION:Café  Talk\, Vangerowstr. 5\, Heidelberg\, 69115\, Germany
CATEGORIES:Externe Veranstaltungen
END:VEVENT
BEGIN:VEVENT
DTSTART;TZID=Europe/Berlin:20250327T180000
DTEND;TZID=Europe/Berlin:20250327T220000
DTSTAMP:20260425T215214
CREATED:20250322T113435Z
LAST-MODIFIED:20250326T170530Z
UID:1642-1743098400-1743112800@keinschrittnachrechts.de
SUMMARY:Extern - Workshop:  FÄLLT LEIDER AUS :Mit Zivilcourage gewaltfrei eingreifen in Diskriminierungssituationen
DESCRIPTION:Nur Mut\, sonst nichts? Mit Zivilcourage gewaltfrei eingreifen in Diskriminierungssituationen\n*** Der Workshop muss leider kurzfristig ausfallen!*** \n*** Der Workshop wird zu einem späteren Zeitpunkt noch einmal angeboten werden *** \n„Warum habe ich neulich in der Straßenbahn nicht den Mund aufgemacht\, als eine Migrantin verbal angegriffen wurde?“ Scheinbar keine große Aktion. Aber häufig fehlt uns die Zivilcourage und wir wissen nicht\, wie wir eingreifen sollen – also tun wir einfach nichts. Welche Alternativen gibt es in alltäglichen Situationen zumWegsehen\, Draufhauen oder Fliehen? Worauf kommt es an? Wie kann ich in der Öffentlichkeit aktiv verändernd eingreifen? Welche Handlungsmöglichkeiten gibt es? Anhand persönlicher Erfahrungen\, der Methode Forumtheater (ein experimentelles Rollenspiel aus dem „Theater der Unterdrückten“ von Augusto Boal) sowie theoretischen Überlegungen werden wir ausprobieren\, wie wir beim nächstenMal Zivilcourage in die Praxis umsetzen. Zivilcourage ist das Gegenteil von persönlicher Resignation und öffentlichem Schweigen. \nVeranstalter (organizer):\nWerkstatt für Gewaltfreie Aktion\, Büro Heidelberg\nEintritt (entrance fee):frei (free entrance)\nAnmeldung (registration): renate.wanie@wfga.de\nAnmeldefrist (registration deadline): 22. März / 22nd March\nSprache (language): Deutsch (German)\nReferentin: Renate Wanie\,\nWerkstatt für Gewaltfreie Aktion\nOrt: Interkulturelles Zentrum\, Raum 405 (4. OG) \nWeitere Informationen: (Externer Link)\nhttps://ww2.heidelberg.de/stadtblatt/2025/flipbook/Programm-Internationale-Wochen-gegen-Rassismus-2025/52-53/ \n 
URL:https://keinschrittnachrechts.de/event/extern-workshop-mit-zivilcourage-gewaltfrei-eingreifen-in-diskriminierungssituationen
LOCATION:Interkulturelles Zentrum\, Bergheimer Straße 147\, Heidelberg\, 69115
CATEGORIES:Externe Veranstaltungen
END:VEVENT
END:VCALENDAR