BEGIN:VCALENDAR
VERSION:2.0
PRODID:-//Kein Schritt nach rechts - ECPv6.15.20//NONSGML v1.0//EN
CALSCALE:GREGORIAN
METHOD:PUBLISH
X-ORIGINAL-URL:https://keinschrittnachrechts.de
X-WR-CALDESC:Veranstaltungen für Kein Schritt nach rechts
REFRESH-INTERVAL;VALUE=DURATION:PT1H
X-Robots-Tag:noindex
X-PUBLISHED-TTL:PT1H
BEGIN:VTIMEZONE
TZID:Europe/Berlin
BEGIN:DAYLIGHT
TZOFFSETFROM:+0100
TZOFFSETTO:+0200
TZNAME:CEST
DTSTART:20230326T010000
END:DAYLIGHT
BEGIN:STANDARD
TZOFFSETFROM:+0200
TZOFFSETTO:+0100
TZNAME:CET
DTSTART:20231029T010000
END:STANDARD
BEGIN:DAYLIGHT
TZOFFSETFROM:+0100
TZOFFSETTO:+0200
TZNAME:CEST
DTSTART:20240331T010000
END:DAYLIGHT
BEGIN:STANDARD
TZOFFSETFROM:+0200
TZOFFSETTO:+0100
TZNAME:CET
DTSTART:20241027T010000
END:STANDARD
BEGIN:DAYLIGHT
TZOFFSETFROM:+0100
TZOFFSETTO:+0200
TZNAME:CEST
DTSTART:20250330T010000
END:DAYLIGHT
BEGIN:STANDARD
TZOFFSETFROM:+0200
TZOFFSETTO:+0100
TZNAME:CET
DTSTART:20251026T010000
END:STANDARD
BEGIN:DAYLIGHT
TZOFFSETFROM:+0100
TZOFFSETTO:+0200
TZNAME:CEST
DTSTART:20260329T010000
END:DAYLIGHT
BEGIN:STANDARD
TZOFFSETFROM:+0200
TZOFFSETTO:+0100
TZNAME:CET
DTSTART:20261025T010000
END:STANDARD
END:VTIMEZONE
BEGIN:VEVENT
DTSTART;TZID=Europe/Berlin:20241203T063000
DTEND;TZID=Europe/Berlin:20241203T203000
DTSTAMP:20260426T023754
CREATED:20241121T165834Z
LAST-MODIFIED:20241127T162927Z
UID:882-1733207400-1733257800@keinschrittnachrechts.de
SUMMARY:Extern | Aktionsbündnis Inklusion: Inkluslam
DESCRIPTION:Das Aktionsbündnis Inklusion lädt am 3. Dezember 2024 – am Internationalen Tag der Menschen mit Behinderung – zum Inklusions-Slam im Kulturfenster in Heidelberg ein. Trage deine Rede\, dein Gedicht\, deinen kreativen Text\, deine Gedanken … vor Publikum vor.\n(18:30 Uhr Einlass\, 19:00 Uhr Beginn\, 20:30 Uhr Ende) \nWeitere Infos des Veranstalters:\n„Wichtig: Wir konnten leider keine Gebärdensprachdolmetscher*innen finden.\nEs gibt eine Live-Untertitelung. \nMenschen mit verschiedensten Behinderungen sind willkommen.\nSchreibt uns\, wenn ihr etwas bestimmtes braucht.“ \n(Externer Link)\nhttps://klimanetz-heidelberg.de/aktionsbundnis-inklusion-trifft-sich-am-4-november-2024-in-heidelberg/ 
URL:https://keinschrittnachrechts.de/event/extern-aktionsbuendnis-inklusion-inkluslam
LOCATION:Kulturfenster\, Kirchstraße 16\, Heidelberg\, Germany
CATEGORIES:Externe Veranstaltungen
END:VEVENT
BEGIN:VEVENT
DTSTART;TZID=Europe/Berlin:20241204T150000
DTEND;TZID=Europe/Berlin:20241204T180000
DTSTAMP:20260426T023754
CREATED:20241127T171528Z
LAST-MODIFIED:20241127T171528Z
UID:955-1733324400-1733335200@keinschrittnachrechts.de
SUMMARY:Extern | Asylarbeitskreis und Diakonie: Antirassismus-Workshop
DESCRIPTION:In der Geflüchtetenhilfe treffen Menschen mit unterschiedlichen Herkünften\, Sprachen\, Lebensentwürfen zusammen. In den Begleitungen erlebt man immer wieder rassistische Diskriminierung. Es gibt eine Vielfalt an rassistischen Erfahrungen und damit einhergehende Herausforderungen. Um entschlossen dagegen anzugehen\, muss das Bewusstsein für Rassismus geschärft sein. Der Workshop bietet Einblicke in verschiedene Formen von Rassismus und zeigt auf\, wie man diese erkennt und sich ihnen entgegenstellt. Was bedeutet zum Beispiel Allyship und wie verhält es sich zum Klientelismus? Gemeinsam entwickeln wir ein Verständnis\, zeigen Handlungsoptionen auf und üben diese mit unterschiedlichen Methoden ein. \n\n \n\nVeranstalter sind der Asylarbeitskreis und die Diakonie.\nAnmeldung unter: integrationsbegleiter@dwhd.de \nReferent*innen:\nDiane Jeeranut Pitzer\nTrauma-sensitive Körpertherapeutin\nAntirassismus-Trainerin\nMosaik Deutschland e.V. \n\nMervdy Nkangu\nSozialpädagogin/-arbeiterin B.A.\nAntirassismus-Trainerin\nMosaik Deutschland e.V.\n\nWeitere Informationen zum Veranstalter: (externer Link)\nhttps://diakonie-heidelberg.de/angebote/flucht-und-migration/informiertengagiert-veranstaltungen-fuer-ehrenamtliche\n 
URL:https://keinschrittnachrechts.de/event/extern-asylarbeitskreis-und-diakonie-antirassismus-workshop
LOCATION:Karlstorkino (Südstadt)\, Marlene-Dietrich-Platz 3\, Heidelberg\, Germany
CATEGORIES:Externe Veranstaltungen
END:VEVENT
BEGIN:VEVENT
DTSTART;TZID=Europe/Berlin:20241204T190000
DTEND;TZID=Europe/Berlin:20241204T190000
DTSTAMP:20260426T023754
CREATED:20241123T144421Z
LAST-MODIFIED:20241123T144421Z
UID:899-1733338800-1733338800@keinschrittnachrechts.de
SUMMARY:Extern | Karlstorkino: Schwarzer Zucker\, Rotes Blut
DESCRIPTION:SCHWARZER ZUCKER\, ROTES BLUT erzählt die Geschichte von Anna Strishkowa aus Kyjiw. Sie ist ein Kleinkind\, als sie am 4. Dezember 1943 an der Rampe von Auschwitz steht. Weder kennt sie die Namen ihrer Eltern\, noch weiß sie\, wo sie geboren wurde.\nDer Mannheimer Fotograf und Filmemacher Luigi Toscano lernt sie 2015 im Rahmen seines Projekts „Gegen das Vergessen“ in Babyn Jar kennen\, seither lässt ihn das Schicksal Annas nicht mehr los. Die Spurensuche nach Annas Herkunft führt Luigi von Auschwitz in das weißrussische Dorf Pronino\, zum Lager Potulice-Lebrechtsdorf in Polen\, nach Kyiv und Drohobytsch in der Ukraine\, bis nach Unna in Nordrheinwestfalen. \n\n \n\nAnschließend Gespräch mit Regisseur Luigi Toscano \nDeutschland 2024 | Regie: Luigi Toscano | 90 min. | Dokumentarfilm | 4K digital | dt./ukrain. Original mit deutschen Untertiteln | FSK: 12. \n\nExterner Link zu der Beschreibung und weiteren Infos:\nhttps://www.karlstorkino.de/programm/schwarzer-zucker-rotes-blut/
URL:https://keinschrittnachrechts.de/event/extern-karlstorkino-schwarzer-zucker-rotes-blut
LOCATION:Karlstorkino (Südstadt)\, Marlene-Dietrich-Platz 3\, Heidelberg\, Germany
CATEGORIES:Externe Veranstaltungen
END:VEVENT
BEGIN:VEVENT
DTSTART;TZID=Europe/Berlin:20241205T180000
DTEND;TZID=Europe/Berlin:20241205T193000
DTSTAMP:20260426T023754
CREATED:20241110T194352Z
LAST-MODIFIED:20241110T194352Z
UID:756-1733421600-1733427000@keinschrittnachrechts.de
SUMMARY:Extern | VHS: Desinformation entlarven - Tipps und Tricks gegen Fake News von den Faktenfindern der Tagesschau
DESCRIPTION:Mit journalistischem Handwerk gegen Fake News – das ist die tägliche Herausforderung für die Faktenfinder bei der Tagesschau. Der Redakteur Pascal Siggelkow gibt in diesem Seminar fallbezogen Einblick in die sensible Arbeit der Fact Checker\, die u.a. direkt auf tagesschau.de/faktenfinder ausgespielt wird. Pascal Siggelkow stellt hilfreiche Profi-Tools und deren Anwendung vor und zeigt\, wie auch Nicht-Journalist*innen Schritt für Schritt Desinformation entlarven und Fakten überprüfen können.\nARD-Seminarreihe mit den Landesverbänden der Volkshochschulen Baden-Württemberg\, Rheinland-Pfalz und Bayern. \nWann: 05. Dezember 2024\, 18:00–19:30 Uhr \nWo: VHS Heidelberg (Online) \nNähere Infos auf der Webseite der VHS Heidelberg.
URL:https://keinschrittnachrechts.de/event/extern-vhs-desinformation-entlarven-tipps-und-tricks-gegen-fake-news-von-den-faktenfindern-der-tagesschau
LOCATION:Online
CATEGORIES:Externe Veranstaltungen
END:VEVENT
BEGIN:VEVENT
DTSTART;VALUE=DATE:20241213
DTEND;VALUE=DATE:20250331
DTSTAMP:20260426T023754
CREATED:20250307T204948Z
LAST-MODIFIED:20250307T204948Z
UID:1575-1734048000-1743379199@keinschrittnachrechts.de
SUMMARY:Extern | Altstadtgemeinde: Ausstellung Klimaflucht
DESCRIPTION:Die Wanderausstellung Klimaflucht der Deutschen Klimastiftung\, die am Freitag\, 13. Dezember\, 18:30 Uhr in der Providenzkirche eröffnet wurde\, macht anhand von Einzelschicksalen auf die Folgen der Klimaveränderung aufmerksam. \n Die Austellung ist bis zum 30.03.2025 täglich von 11-17 Uhr in der Providenzkirche zu besichtigen. \nIn vielen Regionen der Welt sind die klimatischen Auswirkungen so gravierend\, dass Menschen gezwungen sind\, ihre Heimat zu verlassen. Welche Menschen stehen hinter den Meldungen über Wetterextreme\, die wir regelmäßig in den Medien lesen? Wie sieht ihre Vision von einer gerechten Welt aus? Und wie wollen wir in Zukunft mit klimabedingter Migration umgehen? \nDie Ausstellung „Klimaflucht“ ist die Auftaktveranstaltung der Reihe „Alles Klima?!“.Altstadtgemeinde\, Evangelische Erwachsenenbildung und Evangelische Kirche in Heidelberg laden dazu ein\, die Themen Klimagerechtigkeit und Klimaflucht genauer kennenzulernen\, sich mit Klimaveränderung und Migrationsursachen auseinanderzusetzen und Geschichten aus Ländern im Klimawandel zu hören\, erzählt von Menschen\, die dort ihre Heimat hatten. \nWeitere Informationen: (externer Link)\nhttps://ekihd.de/media/download/variant/410939/ausstellung-klimaflucht—alles-klima.pdf
URL:https://keinschrittnachrechts.de/event/extern-altstadtgemeinde-ausstellung-klimaflucht
LOCATION:Providenzkirche\, Hauptstr. 90a\, Heidelberg\, 69115\, Germany
CATEGORIES:Externe Veranstaltungen
END:VEVENT
BEGIN:VEVENT
DTSTART;TZID=Europe/Berlin:20241213T200000
DTEND;TZID=Europe/Berlin:20241213T200000
DTSTAMP:20260426T023754
CREATED:20241210T145947Z
LAST-MODIFIED:20241210T145947Z
UID:977-1734120000-1734120000@keinschrittnachrechts.de
SUMMARY:Extern | Zwinger X - Poesie aus Haifa\, Damaskus und dazwischen.
DESCRIPTION:Poesie aus Haifa\, Damaskus und dazwischen. \nKooperation von Zwinger X mit dem Verein Freunde Arabischer Kunst und Kultur e. V.\, im Gespräch mit dem palästinensischen Autor Abdalrahman Alqalaq \nMusikalische Begleitung: Amjad Sukr – Perkussionist \n»Aber so ist es\, das Exilsyndrom: Ich kann nicht aufstehen und nicht untergehen.« \nDie Gedichte und Geschichten Abdalrahman Alqalaqs erzählen von einem Krieg\, einer Flucht und dem Ankommen in einer anderen Welt. \nSie spüren der alten Heimat nach\, der Distanz\, die sich zwischen dem Ich und ihr aufgetürmt hat\, sie setzen sich mit der neuen auseinander und gedenken alten Freunden. \nAbdalrahman Alqalaq wurde 1997 in al-Yarmouk geboren\, einem Stadtviertel von Damaskus\, das 1948 nach der Nakba als Lager für vertriebene palästinensische Familien entstand. Der Krieg in Syrien zwang ihn zur Flucht.\nEnde Juli 2024 veröffentlichte er seinen ersten deutschsprachigen Lyrikband »Übergangsritus« im Wallstein-Verlag\, das innerhalb kurzer Zeit exzellente Rezensionen erhielt und auf der aktuellen Bestenliste „Weltempfänger“ von LITPROM steht. \nDie Prosa in „Übergangsritus“ schrieb Alqalaq selbst auf Deutsch\, die Gedichte wurden von Günther Orth\, Leila Chammaa und Sandra Hetzl aus dem Arabischen übersetzt.\nDerzeit studiert er in Hildesheim Kultur­wissenschaften und ästhetische Praxis mit Schwerpunkt Theater und Literatur sowie an der Universität in Rabat.\n2022 erschien sein arabischsprachiges Lyrikdebüt »vierundzwanzig« (Elles Publishing House Kairo). Bedeutende Texte wurden im Magazin „Weiter Schreiben“ veröffentlicht. \nSchon früh war Alqalaq mit dem Theater verbunden und absolvierte u.a. sein FSJ am Staatstheater Karlsruhe sowie Praktika am Jungen Nationaltheater Mannheim und am Haus der Berliner Festspiele für das Performing Exiles Festival 2023. \nTickets zwischen 3€-19€ – zwinger-x bietet ein solidarisches Preissystem  \n Ihr entscheidet durch Auswahl des entsprechenden Preises\, wie viel Ihr bezahlen möchtet. \nOnline\, an der Theaterkasse oder an der Abendkasse im Zwinger vorort. \nWann: 13. Dezember 2024\, 20:00 Uhr \nWo: Zwinger X Heidelberg \nNähere Infos auf der Webseite des Theaters Heidelberg
URL:https://keinschrittnachrechts.de/event/extern-zwinger-x-poesie-aus-haifa-damaskus-und-dazwischen
CATEGORIES:Externe Veranstaltungen
END:VEVENT
BEGIN:VEVENT
DTSTART;TZID=Europe/Berlin:20241215T170000
DTEND;TZID=Europe/Berlin:20241215T170000
DTSTAMP:20260426T023754
CREATED:20241211T175143Z
LAST-MODIFIED:20241211T175143Z
UID:990-1734282000-1734282000@keinschrittnachrechts.de
SUMMARY:Extern | Bündnis Widersetzen: Infoveranstaltung zu Protesten gegen den AfD-Parteitag in Riesa (11./12.01.2025)
DESCRIPTION:Die AfD hat ihren Bundesparteitag auf den 11. & 12. Januar 2025 vorgezogen und trifft sich in Riesa (Sachsen).\nEs gibt die bundesweite Organisierung „Widersetzen“\, die auch bereits im Juni in Essen mit 70.000 Menschen gegen die AfD protestiert hat. 💪\nFür Riesa ruft Widersetzen ebenfalls zu Protesten auf.\nWir\, der AK Aktion vom Bündnis KSnR HD\, mobilisieren fleißig mit! Auch in Heidelberg werden wir uns vernetzen\, organisieren und schließlich gemeinsam nach Riesa fahren. Wir laden Dich ein dabei zu sein! \nWann: 15. Dezember 2024\, 17:00 Uhr \nWo: Neuer Hörsaal\, Albert-Ueberle-Straße 3-5 \nNähere Infos  zur Busanreise\, Protesten und Mobimaterial auf der Webseite des Bündnisses ‚Widersetzen‘.
URL:https://keinschrittnachrechts.de/event/extern-buendnis-widersetzen-infoveranstaltung-zu-protesten-gegen-den-afd-parteitag-in-riesa-11-12-01-2025
LOCATION:Neuer Hörsaal Albert-Ueberle-Straße\, Albert-Ueberle-Str. 3-5\, Heidelberg
CATEGORIES:Externe Veranstaltungen
END:VEVENT
BEGIN:VEVENT
DTSTART;TZID=Europe/Berlin:20241218T190000
DTEND;TZID=Europe/Berlin:20241218T190000
DTSTAMP:20260426T023754
CREATED:20241216T161526Z
LAST-MODIFIED:20241216T162659Z
UID:1006-1734548400-1734548400@keinschrittnachrechts.de
SUMMARY:Extern | Bündnis Widersetzen: Bezugsgruppenfindung HD
DESCRIPTION:Die AfD plant als Gewinnerin aus den vorgezogenen Neuwahlen hervorzugehen. Dafür wollen sie auf ihrem Bundesparteitag am 11.+12. Januar in Riesa zusammenkommen. Im Bündnis Widersetzen organisieren sich dagegen tausende Menschen. Ob Gewerkschaft\, Partei oder Initiative: Alle haben ein Ziel. Den Faschismus in die Schranken zu weisen. ❌ \nAuch in Heidelberg werden wir uns vernetzen\, organisieren und schließlich gemeinsam nach Riesa fahren. Am 15.12 fand bereits ein Info-Treffen statt\, am 18.12 wird es ein Bezugsgruppenfindungs-Treffen geben und am 05.01 ein Aktionstraining\, um Dich für jede Demo vorzubereiten.   ✊ \nWir wollen uns der AfD kreativ\, vielfältig und effektiv widersetzen.\nVon uns geht dabei keine Eskalation aus.\nJede*r von uns wird sich einbringen\, um gemeinsam mit tausenden anderen einen erfolgreichen Protest in Riesa zu ermöglichen.\nWir werden am 11.1. nach Riesa kommen. Der Bus ist gebucht. Packe all deine Freundis\, Mitbewohnis und Kollegis mit ein und schließ Dich uns an. \nℹ Für Infos zur Busanreise aus Heidelberg\, zu den Protesten oder lokalen Veranstaltungen komm gerne in diesem Kanal und teile den Link mit Freund*innen 🤝 https://t.me/+OET1T4tu-xVmZjky \nℹ Alles zur Busanreise\, zu den Protesten oder zum Mobimaterial findest du immer auf der Webseite des Bündnisses ‚Widersetzen‘. \n📲 Bei Fragen wende dich an die E-Mailadresse: widersetzen_hd@systemli.org oder schreib uns via Instagram\, z.B. über Kein Schritt nach Rechts Heidelberg oder Studis gegen Rechts Heidelberg.
URL:https://keinschrittnachrechts.de/event/extern-buendnis-widersetzen-bezugsgruppenfindung-hd
LOCATION:ZEP\, Zeppelinstraße 1\, Heidelberg
CATEGORIES:Externe Veranstaltungen
END:VEVENT
BEGIN:VEVENT
DTSTART;TZID=Europe/Berlin:20241218T193000
DTEND;TZID=Europe/Berlin:20241218T193000
DTSTAMP:20260426T023754
CREATED:20241216T162615Z
LAST-MODIFIED:20241216T162615Z
UID:1011-1734550200-1734550200@keinschrittnachrechts.de
SUMMARY:Extern | Studis gegen Rechts HD: Offenes Plenum
DESCRIPTION:Am Mittwoch den 18.12 um 19:30 Uhr findet wieder das offene Plenum der Studis gegen Rechts HD statt. Ganz egal ob Ihr schon politisch aktiv seid/wart oder das erste Mal auf ein Plenum geht\, kommt vorbei!\nEs ist allerhöchste Zeit aktiv zu werden und sich zu organisieren! Bringt alle Freundis\, Mitbewohnis und wer Euch sonst über den Weg läuft mit 🙂\nBis dann!
URL:https://keinschrittnachrechts.de/event/extern-studis-gegen-rechts-hd-offenes-plenum
LOCATION:Neuer Hörsaal Albert-Ueberle-Straße\, Albert-Ueberle-Str. 3-5\, Heidelberg
CATEGORIES:Externe Veranstaltungen
END:VEVENT
BEGIN:VEVENT
DTSTART;TZID=Europe/Berlin:20241219T060000
DTEND;TZID=Europe/Berlin:20241219T193000
DTSTAMP:20260426T023754
CREATED:20240818T180127Z
LAST-MODIFIED:20240818T180542Z
UID:651-1734588000-1734636600@keinschrittnachrechts.de
SUMMARY:Extern | VHS: Pressefreiheit - Ein Grundrecht wird bedroht
DESCRIPTION:Die Pressefreiheit in Deutschland ist in Artikel 5 im Grundgesetz verbrieft. Die ARD ist ein Garant für Pressefreiheit und Meinungsvielfalt. Trotz einer laut Reporter ohne Grenzen „zufriedenstellenden Lage“ ist hierzulande die Pressefreiheit bedroht: Gewalt\, Hatespeech\, verbale Angriffe und Einschüchterungsversuche gegenüber Journalistinnen und Journalisten haben in den vergangenen Jahren zugenommen – im internationalen Vergleich belegt Deutschland nur noch Rang 21. Wie kann es sein\, dass in einem demokratischen Land\, in dem die Pressefreiheit grundgesetzlich verbrieft ist\, Deutschland so weit nach hinten geraten ist? (weiter) \nWann: 19. Dezember 2024\, 18:00 Uhr \nWo: VHS Heidelberg (Online) \nNähere Infos auf der Webseite der VHS Heidelberg.
URL:https://keinschrittnachrechts.de/event/extern-vhs-pressefreiheit
LOCATION:Online
CATEGORIES:Externe Veranstaltungen
END:VEVENT
END:VCALENDAR