BEGIN:VCALENDAR
VERSION:2.0
PRODID:-//Kein Schritt nach rechts - ECPv6.15.20//NONSGML v1.0//EN
CALSCALE:GREGORIAN
METHOD:PUBLISH
X-ORIGINAL-URL:https://keinschrittnachrechts.de
X-WR-CALDESC:Veranstaltungen für Kein Schritt nach rechts
REFRESH-INTERVAL;VALUE=DURATION:PT1H
X-Robots-Tag:noindex
X-PUBLISHED-TTL:PT1H
BEGIN:VTIMEZONE
TZID:Europe/Berlin
BEGIN:DAYLIGHT
TZOFFSETFROM:+0100
TZOFFSETTO:+0200
TZNAME:CEST
DTSTART:20250330T010000
END:DAYLIGHT
BEGIN:STANDARD
TZOFFSETFROM:+0200
TZOFFSETTO:+0100
TZNAME:CET
DTSTART:20251026T010000
END:STANDARD
BEGIN:DAYLIGHT
TZOFFSETFROM:+0100
TZOFFSETTO:+0200
TZNAME:CEST
DTSTART:20260329T010000
END:DAYLIGHT
BEGIN:STANDARD
TZOFFSETFROM:+0200
TZOFFSETTO:+0100
TZNAME:CET
DTSTART:20261025T010000
END:STANDARD
BEGIN:DAYLIGHT
TZOFFSETFROM:+0100
TZOFFSETTO:+0200
TZNAME:CEST
DTSTART:20270328T010000
END:DAYLIGHT
BEGIN:STANDARD
TZOFFSETFROM:+0200
TZOFFSETTO:+0100
TZNAME:CET
DTSTART:20271031T010000
END:STANDARD
END:VTIMEZONE
BEGIN:VEVENT
DTSTART;TZID=Europe/Berlin:20260104T170000
DTEND;TZID=Europe/Berlin:20260104T170000
DTSTAMP:20260424T224519
CREATED:20260101T194313Z
LAST-MODIFIED:20260101T194313Z
UID:2726-1767546000-1767546000@keinschrittnachrechts.de
SUMMARY:Extern | Demo in Leimen: "Demokratie schützen - kein Schritt nach Rechts"
DESCRIPTION:Am Sonntag\, 04.01.2026 veranstaltet das Leimener Bündnis für Demokratie\, Menschenrechte und Vielfalt um 17 Uhr eine Demo am Parkplatz des Bäderparks in Leimen unter dem Motto „Demokratie schützen – kein Schritt nach Rechts“. \nDas Bild darf gerne heruntergeladen und geteilt werden. 🙂
URL:https://keinschrittnachrechts.de/event/extern-demo-in-leimen-demokratie-schuetzen-kein-schritt-nach-rechts
LOCATION:Leimen\, Parkplatz Bäderpark\, Peter Disegna Weg 5a\, Leimen
CATEGORIES:Externe Veranstaltungen
END:VEVENT
BEGIN:VEVENT
DTSTART;TZID=Europe/Berlin:20260105T190000
DTEND;TZID=Europe/Berlin:20260105T190000
DTSTAMP:20260424T224519
CREATED:20251215T101601Z
LAST-MODIFIED:20251215T101601Z
UID:2713-1767639600-1767639600@keinschrittnachrechts.de
SUMMARY:Extern | Buchclub: "People Power Change - Organizing for Democratic Renewal" von Marshall Ganz
DESCRIPTION:Wie können wir Menschen erreichen\, wenn globale Krisen unüberwindbar erscheinen\, Einsamkeit zunimmt und es scheinbar keine Antworten auf den stattfindenden Rechtsruck gibt? \n„People Power Change – Organizing for Democratic Renewal“ von Marshall Ganz beschäftigt sich mit der Frage\, wie wir Menschen zusammenbringen\, Communitys aufbauen und gemeinsam handeln können. \nBei unserem ersten Treffen möchten wir Kapitel 1 des Buches besprechen und gemeinsam überlegen\, wo wir in unserem Umfeld Ansätze für Community Building finden können und gemeinsam gegen Strukturen und Institutionen vorgehen\, die uns im Stich lassen oder diskriminieren. \nZiel dieses Buchclubs ist es\, Strukturen aufzubauen\, Räume für Selbstbestimmung zu schaffen und künstlerisch tätig zu werden. \nWer das Buch nicht hat und sich nicht holen kann/möchte: Die Kapitel werden zur Verfügung gestellt. Achtung! Das Buch gibt es nur auf englisch. \nNächstes Treffen: 5. Januar 2026 / 19 Uhr \nWo: Interkulturelles Zentrum Raum 412\, Bergheimer Str. 147\, 69115 Heidelberg
URL:https://keinschrittnachrechts.de/event/extern-buchclub-people-power-change-organizing-for-democratic-renewal-von-marshall-ganz
LOCATION:Interkulturelles Zentrum\, Bergheimer Straße 147\, Heidelberg\, 69115
CATEGORIES:Externe Veranstaltungen
END:VEVENT
BEGIN:VEVENT
DTSTART;TZID=Europe/Berlin:20260110T000000
DTEND;TZID=Europe/Berlin:20260110T000000
DTSTAMP:20260424T224519
CREATED:20251221T173124Z
LAST-MODIFIED:20251221T173124Z
UID:2723-1768003200-1768003200@keinschrittnachrechts.de
SUMMARY:Extern | Solar Punk: Body\, Society and Environment beyond Calamity - Open Call für Skill Sharing-Corner am 24.1.2026
DESCRIPTION:Im Rahmen der Kunstausstellung möchten wir eine Zukunft nach Kapitalismus und Ausbeutung von Mensch und Natur erkunden. Wir wollen herausfinden\, wie sich unsere Körper\, Technologie und Gesellschaft verändert\, wenn wir Leistungsansprüche und Heteronormativität hinter uns lassen. Wir wollen herausfinden\, was wir aus den Trümmern unserer Gesellschaft gemeinsam schaffen können\, was uns hoffen und zusammenkommen lässt. Gemeinsam wollen wir eine Zukunft erträumen\, die wir mit unseren heutigen Mitteln erkämpfen können. \nDazu möchten wir an dem Tag eine Skill Sharing-Corner anbieten: Du weißt\, wie man Sachen reparieren und fixen kann? Du hast schon mal Samenbomben gemacht und willst anderen zeigen\, wie sie Heidelberger Flächen aufhübschen und zu einem Zuhause für Insekten machen können? Du willst dich darüber austauschen\, wie wir Spotify und Amazon hinter uns lassen können? Dann melde einen Time Slot an! \nEinreichfrist: 10. Januar 2026 / Mitternacht \nAnmeldung per Mail an solarpunk.hd@gmail.com
URL:https://keinschrittnachrechts.de/event/extern-solar-punk-body-society-and-environment-beyond-calamity-open-call-fuer-skill-sharing-corner-am-24-1-2026
CATEGORIES:Externe Veranstaltungen
END:VEVENT
BEGIN:VEVENT
DTSTART;TZID=Europe/Berlin:20260115T180000
DTEND;TZID=Europe/Berlin:20260115T193000
DTSTAMP:20260424T224519
CREATED:20251206T174558Z
LAST-MODIFIED:20251222T142535Z
UID:2689-1768500000-1768505400@keinschrittnachrechts.de
SUMMARY:Extern | VHS:  WAHL - WEB - TALKS -BW wählt: Wählen. Wen? Warum? Was bewegt Baden-Württemberg?
DESCRIPTION:„Baden-Württemberg wählt: In welchem Zustand präsentiert sich der politische Motor unseres Landes\, das Parlament? Was sind wahlentscheidende Themen und welche Koalitionsoptionen sind denkbar? Zunehmend werden Wahlen auf der Zielgeraden entschieden und die Zahl der „Last-Minute-Wähler*innen“ hat in den letzten Jahren zugenommen. Bestimmen die Ängste der Menschen\, wer Mehrheiten erringt oder gewinnen die Parteien\, die eine Agenda der Hoffnung verbreiten? Bei unseren spannenden Webtalks bilanzieren renommierte Journalist*innen\, Politiker*innen und Politikwissenschaftler*innen die Parlamentsarbeit der letzten Legislaturperiode. Diskutieren Sie mit uns über mögliche Regierungswechsel\, die zur Wahl stehenden Parteien und Personen und über die entscheidenden landespolitischen Weichenstellungen für die Zukunft von Baden-Württemberg. Wir freuen uns auf interessante Expertisen und spannende Einblicke in die politische Zukunft unseres Bundeslandes.\nBitte melden Sie sich über die Homepage oder telefonisch bei der vhs Heidelberg an. Zur Teilnahme benötigen Sie einen PC/Laptop oder ein mobiles Endgerät mit einem stabilen Internetanschluss. Sie sind in der Veranstaltung nicht sichtbar und hörbar. Über die Online-Plattform sli.do können Sie Fragen zum Thema stellen. Sie erhalten ein bis zwei Tage vor der Veranstaltung den Zugangslink per Mail. Moderation: Georg Bruder\, Kommunikationswissenschaftler\, Anchorman SWR-Nachrichten “ \nGebührenfrei. \nWeitere Infos und Anmeldung: (Externer Link) \nhttps://www.vhs-hd.de/kurs/29804366
URL:https://keinschrittnachrechts.de/event/extern-vhs-wahl-web-talks-bw-waehlt-waehlen-wen-warum-was-bewegt-baden-wuerttemberg
CATEGORIES:Externe Veranstaltungen
END:VEVENT
BEGIN:VEVENT
DTSTART;TZID=Europe/Berlin:20260115T183000
DTEND;TZID=Europe/Berlin:20260115T203000
DTSTAMP:20260424T224519
CREATED:20260108T173851Z
LAST-MODIFIED:20260108T173851Z
UID:2737-1768501800-1768509000@keinschrittnachrechts.de
SUMMARY:Extern | Aktionsbündnis Inklusion: Inkluslam
DESCRIPTION:Das Aktionsbündnis Inklusion lädt ein zum Inkluslam: \n„Das @klimanetzheidelberg veranstaltet wieder einen Inkluslam. Mach mit und präsentiere ein Gedicht\, Worte\, Gebärden\, Tanz oder was auch immer dir in den Sinn kommt. Alles ist erlaubt. \nDas Wort InkluSlam kommt von Poetry Slam. Bei einem Poetry Slam können verschiedene Künstler*innen mit selbstgeschriebenen Texten auftreten. Bei diesem Slam soll es um Inklusion gehen. \nDonnerstag\, 15.01.2026\n18:30 – 20:30 Uhr\nIm Kulturfenster Heidelberg\, Kirchstraße 16″ \nWeitere Informationen: (Externer Link) \nhttps://www.instagram.com/p/DS3CQlMjhoA/?igsh=bGwwbWc5N211ZnRp
URL:https://keinschrittnachrechts.de/event/extern-aktionsbuendnis-inklusion-inkluslam-2
LOCATION:Kulturfenster\, Kirchstraße 16\, Heidelberg\, Germany
CATEGORIES:Externe Veranstaltungen
END:VEVENT
BEGIN:VEVENT
DTSTART;VALUE=DATE:20260116
DTEND;VALUE=DATE:20260119
DTSTAMP:20260424T224519
CREATED:20260116T111916Z
LAST-MODIFIED:20260116T111916Z
UID:2762-1768521600-1768780799@keinschrittnachrechts.de
SUMMARY:Extern | Perspektive Widerstand: Konferenz zur Westsahara
DESCRIPTION:50 Jahre sahrauischer Widerstand und der Kampf um Selbstbestimmung \nKonferenz vom 16.-18. Januar 2026 im Collegium Academicum \nDrei Tage Lernen\, Austausch und Solidarität: Panels\, Workshops und kulturelles Programm zur Auseinandersetzung mit dem Widerstand der Sahrauis in der Vergangenheit und Gegenwart. \nWir freuen uns auf eure Teilnahme – mit einer Anmeldung über https://collegiumacademicum.de/westsahara/ erleichtert ihr unsere Planung.
URL:https://keinschrittnachrechts.de/event/extern-perspektive-widerstand-konferenz-zur-westsahara
LOCATION:Collegium Academicum\, Heidelberg\, Marie-Clauss-Straße 3\, Heidelberg\, 69115\, Germany
CATEGORIES:Externe Veranstaltungen
END:VEVENT
BEGIN:VEVENT
DTSTART;TZID=Europe/Berlin:20260122T180000
DTEND;TZID=Europe/Berlin:20260122T193000
DTSTAMP:20260424T224519
CREATED:20251206T175029Z
LAST-MODIFIED:20251222T142457Z
UID:2692-1769104800-1769110200@keinschrittnachrechts.de
SUMMARY:Extern | VHS:  WAHL - WEB - TALKS -BW wählt: Landespolitik. Langeweile. Leidenschaft. Lethargie? Mit Landesjournalistinnen im Gespräch
DESCRIPTION:„Baden-Württemberg wählt: In welchem Zustand präsentiert sich der politische Motor unseres Landes\, das Parlament? Was sind wahlentscheidende Themen und welche Koalitionsoptionen sind denkbar? Zunehmend werden Wahlen auf der Zielgeraden entschieden und die Zahl der „Last-Minute-Wähler*innen“ hat in den letzten Jahren zugenommen. Bestimmen die Ängste der Menschen\, wer Mehrheiten erringt oder gewinnen die Parteien\, die eine Agenda der Hoffnung verbreiten? Bei unseren spannenden Webtalks bilanzieren renommierte Journalist*innen\, Politiker*innen und Politikwissenschaftler*innen die Parlamentsarbeit der letzten Legislaturperiode. Diskutieren Sie mit uns über mögliche Regierungswechsel\, die zur Wahl stehenden Parteien und Personen und über die entscheidenden landespolitischen Weichenstellungen für die Zukunft von Baden-Württemberg. Wir freuen uns auf interessante Expertisen und spannende Einblicke in die politische Zukunft unseres Bundeslandes.\nBitte melden Sie sich über die Homepage oder telefonisch bei der vhs Heidelberg an. Zur Teilnahme benötigen Sie einen PC/Laptop oder ein mobiles Endgerät mit einem stabilen Internetanschluss. Sie sind in der Veranstaltung nicht sichtbar und hörbar. Über die Online-Plattform sli.do können Sie Fragen zum Thema stellen. Sie erhalten ein bis zwei Tage vor der Veranstaltung den Zugangslink per Mail. “ \nGebührenfrei. \nWeitere Infos und Anmeldung: (Externer Link) \nhttps://www.vhs-hd.de/kurs/29804391
URL:https://keinschrittnachrechts.de/event/extern-vhs-wahl-web-talks-bw-waehlt-landespolitik-langeweile-leidenschaft-lethargie-mit-landesjournalistinnen-im-gespraech
CATEGORIES:Externe Veranstaltungen
END:VEVENT
BEGIN:VEVENT
DTSTART;TZID=Europe/Berlin:20260127T180000
DTEND;TZID=Europe/Berlin:20260127T180000
DTSTAMP:20260424T224519
CREATED:20260116T112720Z
LAST-MODIFIED:20260116T112720Z
UID:2764-1769536800-1769536800@keinschrittnachrechts.de
SUMMARY:Extern | Gedenkfeier der Stadt Heidelberg für die Opfer nationalsozialistischer Verbrechen
DESCRIPTION:Schicksale von Menschen mit Behinderungen stehen im Mittelpunkt \nDer Stadt Heidelberg ist das Gedenken an die Opfer des Nationalsozialismus ein wichtiges Anliegen: Zum 81. Jahrestag der Befreiung des Konzentrations- und Vernichtungslagers Auschwitz-Birkenau veranstaltet die Stadt am Dienstag\, 27. Januar 2026\, um 18 Uhr eine Gedenkveranstaltung im Großen Rathaussaal. In diesem Jahr stehen insbesondere die schrecklichen Schicksale von Menschen mit Behinderungen während des Nationalsozialismus im Mittelpunkt des Gedenkens. Nach der Begrüßung durch den Ersten Bürgermeister Jürgen Odszuck erfolgt eine Ansprache durch Kathrin Bauer\, wissenschaftliche Mitarbeiterin der Gedenkstätte Grafeneck. Weitere Bestandteile der Gedenkveranstaltungen sind Ausschnitte aus dem inklusiven Theaterprojekt „Ein Platz im Gedächtnis“\, „Inklu-Slam“-Beiträge vom Aktionsbündnis Inklusion und die musikalische Umrahmung der Gruppe Neomore. \nAlle Bürgerinnen und Bürger sind herzlich eingeladen\, an der Gedenkveranstaltung teilzunehmen: Hierfür ist eine Anmeldung beim OB-Referat bis spätestens Montag\, 19. Januar 2026\, per E-Mail an mailto:repraesentation@heidelberg.de erforderlich – aufgrund der begrenzten Kapazität im Großen Rathaussaal können möglicherweise nicht alle Anmeldungen berücksichtigt werden. Die Stadt Heidelberg bittet um Verständnis. Sollte eine Übersetzung in Gebärdensprache oder ein für Rollstühle zugänglicher Platz erforderlich sein\, sollte dies bitte bei der Anmeldung mitangegeben werden.
URL:https://keinschrittnachrechts.de/event/extern-gedenkfeier-der-stadt-heidelberg-fuer-die-opfer-nationalsozialistischer-verbrechen
LOCATION:Rathaus Heidelberg\, Marktplatz 10\, Heidelberg\, 69117\, Germany
CATEGORIES:Externe Veranstaltungen
END:VEVENT
BEGIN:VEVENT
DTSTART;TZID=Europe/Berlin:20260127T190000
DTEND;TZID=Europe/Berlin:20260127T190000
DTSTAMP:20260424T224519
CREATED:20251106T110038Z
LAST-MODIFIED:20251106T110038Z
UID:2595-1769540400-1769540400@keinschrittnachrechts.de
SUMMARY:Extern | Vortrag mit Musikbeispielen: "… and the war was over"
DESCRIPTION:„Different Trains“ von Steve Reich – ein musikalisches Mahnmal\, erläutert von Max Hilker\nDer 1936 in New York City geborene Steve Reich zählt zu bedeutendsten Komponisten unserer Zeit. Seine Komposition „Different Trains“ von 1988 nimmt eine besondere Stellung innerhalb des Gesamtwerkes von Steve Reich ein. Mit einer einzigartigen Kombination aus Sprachmelodien und Streichinstrumenten sowie dem persönlichen Hintergrund des Komponisten und der Thematisierung des Holocaust ist „Different Trains“ ein eindrückliches Mahn- und Denkmal. \nAm Internationalen Holocaust-Gedenktag 2026 stellt Augustinum-Kulturreferent Max Hilker die Komposition „Different Trains“ vor. Dabei erläutert er sowohl die musikalischen Mechanismen des Werkes als auch die Verbindungen zu Steve Reichs Biografie. Nach dem etwa 40minütigen Vortrag wird eine Aufnahme des gesamten Stückes (ca. 27 Minuten) zu hören sein. \nEintritt frei. \nWeitere Informationen (externer Link): \nhttps://augustinum.de/magazin/artikel/and-the-war-was-over/
URL:https://keinschrittnachrechts.de/event/extern-vortrag-mit-musikbeispielen-and-the-war-was-over
LOCATION:Augustinum Heidelberg\, Jaspersstraße 2\, Heidelberg\, 69126\, Germany
CATEGORIES:Externe Veranstaltungen
END:VEVENT
BEGIN:VEVENT
DTSTART;TZID=Europe/Berlin:20260128T181500
DTEND;TZID=Europe/Berlin:20260128T194500
DTSTAMP:20260424T224519
CREATED:20251208T112307Z
LAST-MODIFIED:20251208T112307Z
UID:2705-1769624100-1769629500@keinschrittnachrechts.de
SUMMARY:Extern | Vortrag: Der Wille zu Freiheit und Demokratie. Demokratische Neuanfänge in Baden-Württemberg 1946/47
DESCRIPTION:Prof. Dr. Philipp Gassert\, Universität Mannheim\, Historisches Institut \nDie deutsche Nachkriegsdemokratie kam aus den Ländern. In seinem Vortrag beleuchtet Prof. Gassert den Aufbau der Demokratie und die Verfassungsgebung im späteren Baden-Württemberg 1946/47. Diese ist in der breiteren Öffentlichkeit weitgehend vergessen\, stellt jedoch einen wichtigen Baustein zu einer demokratischen Erinnerungskultur dar. Vor allem die Verfassung des in der US-Zone gelegenen Württemberg-Baden hat Geschichte geschrieben\, so der Referent\, denn sie prägte das Bonner GG bis in den Wortlaut hinein. Daher stellt der Vortrag auch die Frage nach der historischen Rolle des Föderalismus wie auch die Zukunftsfähigkeit der föderalen Ordnung für die bundesdeutsche Demokratie. Zu dem öffentlichen Vortrag lädt das Institut für Fränkisch-Pfälzische Geschichte und Landeskunde der Universität Heidelberg ein. \nHistorisches Seminar\, Hörsaal\, Grabengasse 3-5\, 69117 Heidelberg
URL:https://keinschrittnachrechts.de/event/extern-vortrag-der-wille-zu-freiheit-und-demokratie-demokratische-neuanfaenge-in-baden-wuerttemberg-1946-47
LOCATION:Historisches Seminar\, Grabengasse 3-5\, Heidelberg\, 69117\, Germany
CATEGORIES:Externe Veranstaltungen
END:VEVENT
BEGIN:VEVENT
DTSTART;TZID=Europe/Berlin:20260129T180000
DTEND;TZID=Europe/Berlin:20260129T193000
DTSTAMP:20260424T224519
CREATED:20251206T174117Z
LAST-MODIFIED:20251222T142431Z
UID:2687-1769709600-1769715000@keinschrittnachrechts.de
SUMMARY:Extern | VHS:  WAHL - WEB - TALKS -Wahlkämpfe. Wandel. Wähleransprachen.
DESCRIPTION:„Baden-Württemberg wählt: In welchem Zustand präsentiert sich der politische Motor unseres Landes\, das Parlament? Was sind wahlentscheidende Themen und welche Koalitionsoptionen sind denkbar? Zunehmend werden Wahlen auf der Zielgeraden entschieden und die Zahl der „Last-Minute-Wähler*innen“ hat in den letzten Jahren zugenommen. Bestimmen die Ängste der Menschen\, wer Mehrheiten erringt oder gewinnen die Parteien\, die eine Agenda der Hoffnung verbreiten? Bei unseren spannenden Webtalks bilanzieren renommierte Journalist*innen\, Politiker*innen und Politikwissenschaftler*innen die Parlamentsarbeit der letzten Legislaturperiode. Diskutieren Sie mit uns über mögliche Regierungswechsel\, die zur Wahl stehenden Parteien und Personen und über die entscheidenden landespolitischen Weichenstellungen für die Zukunft von Baden-Württemberg. Wir freuen uns auf interessante Expertisen und spannende Einblicke in die politische Zukunft unseres Bundeslandes.\nBitte melden Sie sich über die Homepage oder telefonisch bei der vhs Heidelberg an. Zur Teilnahme benötigen Sie einen PC/Laptop oder ein mobiles Endgerät mit einem stabilen Internetanschluss. Sie sind in der Veranstaltung nicht sichtbar und hörbar. Über die Online-Plattform sli.do können Sie Fragen zum Thema stellen. Sie erhalten ein bis zwei Tage vor der Veranstaltung den Zugangslink per Mail. “ \nWeitere Infos und Anmeldung: (Externer Link) \nhttps://www.vhs-hd.de/kurs/29804411
URL:https://keinschrittnachrechts.de/event/extern-vhs-wahl-web-talks-wahlkaempfe-wandel-waehleransprachen
CATEGORIES:Externe Veranstaltungen
END:VEVENT
END:VCALENDAR