BEGIN:VCALENDAR
VERSION:2.0
PRODID:-//Kein Schritt nach rechts - ECPv6.15.20//NONSGML v1.0//EN
CALSCALE:GREGORIAN
METHOD:PUBLISH
X-WR-CALNAME:Kein Schritt nach rechts
X-ORIGINAL-URL:https://keinschrittnachrechts.de
X-WR-CALDESC:Veranstaltungen für Kein Schritt nach rechts
REFRESH-INTERVAL;VALUE=DURATION:PT1H
X-Robots-Tag:noindex
X-PUBLISHED-TTL:PT1H
BEGIN:VTIMEZONE
TZID:Europe/Berlin
BEGIN:DAYLIGHT
TZOFFSETFROM:+0100
TZOFFSETTO:+0200
TZNAME:CEST
DTSTART:20240331T010000
END:DAYLIGHT
BEGIN:STANDARD
TZOFFSETFROM:+0200
TZOFFSETTO:+0100
TZNAME:CET
DTSTART:20241027T010000
END:STANDARD
BEGIN:DAYLIGHT
TZOFFSETFROM:+0100
TZOFFSETTO:+0200
TZNAME:CEST
DTSTART:20250330T010000
END:DAYLIGHT
BEGIN:STANDARD
TZOFFSETFROM:+0200
TZOFFSETTO:+0100
TZNAME:CET
DTSTART:20251026T010000
END:STANDARD
BEGIN:DAYLIGHT
TZOFFSETFROM:+0100
TZOFFSETTO:+0200
TZNAME:CEST
DTSTART:20260329T010000
END:DAYLIGHT
BEGIN:STANDARD
TZOFFSETFROM:+0200
TZOFFSETTO:+0100
TZNAME:CET
DTSTART:20261025T010000
END:STANDARD
END:VTIMEZONE
BEGIN:VEVENT
DTSTART;TZID=Europe/Berlin:20250601T180000
DTEND;TZID=Europe/Berlin:20250601T180000
DTSTAMP:20260425T162409
CREATED:20250512T093737Z
LAST-MODIFIED:20250512T093737Z
UID:1904-1748800800-1748800800@keinschrittnachrechts.de
SUMMARY:Extern | Filmveranstaltung "Moria Six" mit Regisseurin und Seebrücke im Gloria Kino
DESCRIPTION:Am Sonntag\, 01.06. kommt Regisseurin Jennifer Mallmann ins Gloria und stellt ihren Film „Moria Six“ vor. \nNach dem Brand im Camp Moria 2020 wurde es still – vor Ort und im Diskurs. Die katastrophalen Zustände in EU-Lagern und Pushbacks im Mittelmeer blieben unbeachtet. Auch die Verhaftung der sechs Jugendlichen wegen Brandstiftung fand wenig Echo\, obwohl das Vorgehen der Justiz fragwürdig war. Jennifer Mallmanns Film wirft darauf einen zweiten Blick. Im Zentrum steht ihr Briefwechsel mit Hassan\, einem der Verurteilten. Ein brillanter Dokumentarfilm\, der eindringliche Bilder für den hochgerüsteten\, hochtechnisierten Menschenverwaltungsapparat an den europäischen Außengrenzen findet. Ein Film\, der einem die Luft zum Atmen nimmt und Wut macht. (Jury des Defa Stiftungspreises | Dokfest Leipzig). \nSeebrücke Heidelberg führt und moderiert das Filmgespräch im Anschluss an den Film mit Jennifer Mallmann. \nWeitere Informationen: (externer Link) \nhttps://www.gloria-kamera-kinos.de/de/specials/sondervorstellungen
URL:https://keinschrittnachrechts.de/event/extern-filmveranstaltung-moria-six-mit-regisseurin-und-seebruecke-im-gloria-kino
LOCATION:Gloria Kino\, Hauptstr. 146\, Heidelberg\, Germany
CATEGORIES:Externe Veranstaltungen
END:VEVENT
BEGIN:VEVENT
DTSTART;TZID=Europe/Berlin:20250602T100000
DTEND;TZID=Europe/Berlin:20250602T140000
DTSTAMP:20260425T162409
CREATED:20250521T201032Z
LAST-MODIFIED:20250521T201032Z
UID:1956-1748858400-1748872800@keinschrittnachrechts.de
SUMMARY:Extern | Initiative Bezahlkarte Stoppen: Gutscheinausgabe
DESCRIPTION:Die Initiative Bezahlkarte stoppen in Heidelberg bittet um Beteiligung: \n„Wir benötigen Bargeld! \nKommt bei unserer Gutschein-Ausgabestelle vorbei und holt euch dort euren Soli-Einkaufsgutschein ab. Je nach Verfügbarkeit haben wir Gutscheine von Aldi\, DM\, Edeka\, Kaufland\, Lidl\, Rewe und Tegut. \nWo? Im Linken Büro in der Theodor-Körner-Str. 7 in Heidelberg \nWann? Zu den Öffnungszeiten Montags und Dienstags 10-14 Uhr und Mittwochs 13-18 Uhr \nDanke für eure Unterstützung💜“ \nPressemitteilung zum Gemeinderatsbeschluss zur Bezahlkarte: (Externer Link)\nhttps://www.heidelberg.de/HD/Presse/10_04_2025+bezahlkarte+fuer+gefluechtete.html
URL:https://keinschrittnachrechts.de/event/extern-initiative-bezahlkarte-stoppen-gutscheinausgabe-5
LOCATION:Theodor-Körner-Str. 7\, Theodor-Körner-Str. 7\, Heidelberg\, 69115\, Germany
CATEGORIES:Externe Veranstaltungen
END:VEVENT
BEGIN:VEVENT
DTSTART;TZID=Europe/Berlin:20250602T163000
DTEND;TZID=Europe/Berlin:20250602T180000
DTSTAMP:20260425T162409
CREATED:20250524T133005Z
LAST-MODIFIED:20250524T133054Z
UID:1983-1748881800-1748887200@keinschrittnachrechts.de
SUMMARY:Extern | Online-Veranstaltung: "Wie umgehen mit der AfD?" Neue Handreichung des Bundesverbands Mobile Beratung
DESCRIPTION:Jede*r Fünfte hat bei der Bundestagswahl die AfD gewählt. Damit ist die rechtsextreme Partei erstmals zweitstärkste Kraft und kann mit deutlich mehr Geld und Personal fortsetzen\, was sie seit Jahren tut: demokratische Strukturen angreifen. Die AfD droht Demokratieprojekten mit der Streichung von Fördermitteln\, sie setzt Lehrkräfte unter Druck und sie versucht\, all jene einzuschüchtern\, die sich für den gesellschaftlichen Zusammenhalt engagieren. \nWie konnte es so weit kommen? Welche Rolle spielen Medien und demokratische Parteien beim Erstarken der AfD? Und was können wir alle tun\, um dem Rechtsdrift entgegenzuwirken und demokratisches Engagement lebendig zu halten? Diese Fragen stehen im Fokus unserer neuen Handreichung „Engagiert und demokratisch bleiben! Handlungsempfehlungen zum Umgang mit der extrem rechten AfD„. Sie trägt die Expertise von rund 50 Mobilen Beratungsteams aus ganz Deutschland zusammen und gibt konkrete Tipps für alle\, die aktiv werden wollen – seien es Einzelpersonen\, Schulen\, Kirchen\, Kultureinrichtungen\, Unternehmen oder Kommunalpolitik. \nBei der Veranstaltung stellen wir die Handreichung vor und diskutieren mit Vertreter*innen aus Politik und Beratung\, welche Strategien sich im Umgang mit der AfD bewährt haben: \n\nRuprecht Polenz\, CDU-Politiker aus Münster\nKathleen Kuhfuß\, Bündnis 90/Die Grünen in Sachsen\nLukas Jocher\, Mobiler Berater gegen Rechtsextremismus in Sachsen-Anhalt\n\nModeration: Joachim F. Tornau\, Journalist und Rechtsextremismus-Experte \nDie Veranstaltung findet online statt. Wir bitten um Anmeldung bis zum 29. Mai. \nExterne Links: \nAnmeldung: https://bmb.javis.de/onlineregistration/35 \nWebsite des Veranstalters: https://bundesverband-mobile-beratung.de/veranstaltungen/wie-umgehen-mit-der-afd-neue-handreichung-des-bmb/ \n 
URL:https://keinschrittnachrechts.de/event/extern-online-veranstaltung-wie-umgehen-mit-der-afd-neue-handreichung-des-bundesverband-mobile-beratung
CATEGORIES:Externe Veranstaltungen
END:VEVENT
BEGIN:VEVENT
DTSTART;TZID=Europe/Berlin:20250603T100000
DTEND;TZID=Europe/Berlin:20250603T140000
DTSTAMP:20260425T162409
CREATED:20250521T201121Z
LAST-MODIFIED:20250521T201121Z
UID:1958-1748944800-1748959200@keinschrittnachrechts.de
SUMMARY:Extern | Initiative Bezahlkarte Stoppen: Gutscheinausgabe
DESCRIPTION:Die Initiative Bezahlkarte stoppen in Heidelberg bittet um Beteiligung: \n„Wir benötigen Bargeld! \nKommt bei unserer Gutschein-Ausgabestelle vorbei und holt euch dort euren Soli-Einkaufsgutschein ab. Je nach Verfügbarkeit haben wir Gutscheine von Aldi\, DM\, Edeka\, Kaufland\, Lidl\, Rewe und Tegut. \nWo? Im Linken Büro in der Theodor-Körner-Str. 7 in Heidelberg \nWann? Zu den Öffnungszeiten Montags und Dienstags 10-14 Uhr und Mittwochs 13-18 Uhr \nDanke für eure Unterstützung💜“ \nPressemitteilung zum Gemeinderatsbeschluss zur Bezahlkarte: (Externer Link)\nhttps://www.heidelberg.de/HD/Presse/10_04_2025+bezahlkarte+fuer+gefluechtete.html
URL:https://keinschrittnachrechts.de/event/extern-initiative-bezahlkarte-stoppen-gutscheinausgabe-6
LOCATION:Theodor-Körner-Str. 7\, Theodor-Körner-Str. 7\, Heidelberg\, 69115\, Germany
CATEGORIES:Externe Veranstaltungen
END:VEVENT
BEGIN:VEVENT
DTSTART;TZID=Europe/Berlin:20250604T130000
DTEND;TZID=Europe/Berlin:20250604T180000
DTSTAMP:20260425T162409
CREATED:20250521T200958Z
LAST-MODIFIED:20250521T200958Z
UID:1954-1749042000-1749060000@keinschrittnachrechts.de
SUMMARY:Extern | Initiative Bezahlkarte Stoppen: Gutscheinausgabe
DESCRIPTION:Die Initiative Bezahlkarte stoppen in Heidelberg bittet um Beteiligung: \n„Wir benötigen Bargeld! \nKommt bei unserer Gutschein-Ausgabestelle vorbei und holt euch dort euren Soli-Einkaufsgutschein ab. Je nach Verfügbarkeit haben wir Gutscheine von Aldi\, DM\, Edeka\, Kaufland\, Lidl\, Rewe und Tegut. \nWo? Im Linken Büro in der Theodor-Körner-Str. 7 in Heidelberg \nWann? Zu den Öffnungszeiten Montags und Dienstags 10-14 Uhr und Mittwochs 13-18 Uhr \nDanke für eure Unterstützung💜“ \nPressemitteilung zum Gemeinderatsbeschluss zur Bezahlkarte: (Externer Link)\nhttps://www.heidelberg.de/HD/Presse/10_04_2025+bezahlkarte+fuer+gefluechtete.html
URL:https://keinschrittnachrechts.de/event/extern-initiative-bezahlkarte-stoppen-gutscheinausgabe-4
LOCATION:Theodor-Körner-Str. 7\, Theodor-Körner-Str. 7\, Heidelberg\, 69115\, Germany
CATEGORIES:Externe Veranstaltungen
END:VEVENT
BEGIN:VEVENT
DTSTART;TZID=Europe/Berlin:20250606T160000
DTEND;TZID=Europe/Berlin:20250606T160000
DTSTAMP:20260425T162409
CREATED:20250522T091152Z
LAST-MODIFIED:20250522T091152Z
UID:1965-1749225600-1749225600@keinschrittnachrechts.de
SUMMARY:Extern | Neustadt bleibt bunt - Gesprächsrunde und Live-Musik von THE BUSTERS
DESCRIPTION:Am 6. Juni 2025 um 16 Uhr versammeln wir uns auf dem Marktplatz in Neustadt an der Weinstraße\, um gemeinsam für Demokratie und Vielfalt einzustehen. Mit dabei: Die Ska-Band THE BUSTERS\, die mit ihrer Musik ein starkes Zeichen gegen Rassismus setzt. \nUnsere Versammlung ist Teil des „Solidarischen Frühlings – Neustadt ‘25“. Gemeinsam mit vielen anderen Akteur:innen setzen wir uns für eine gerechte und demokratische Zukunft ein – und gegen die Neue Rechte\, die auch dieses Jahr an Pfingsten versucht\, das Hambacher Fest für sich zu beanspruchen. \nAuf der Bühne: \n\nGesprächsrunde mit Politikwissenschaftler Prof. Dr. Markus Linden & Mitgliedern von THE BUSTERS zur Zukunft der Demokratie\nLive-Musik von THE BUSTERS – ein Benefiz-Konzert für demokratisches Engagement\n\nWeitere Informationen (externe Links): \nhttps://www.neustadtgegenfremdenhass.de/index.php/neustadt-bleibt-bunt \nhttps://hambacherfest1832.blog/
URL:https://keinschrittnachrechts.de/event/extern-neustadt-bleibt-bunt-gespraechsrunde-und-live-musik-von-the-busters
LOCATION:Marktplatz Neustadt\, Marktplatz\, Neustadt an der Weinstraße\, 67433\, Germany
CATEGORIES:Externe Veranstaltungen
END:VEVENT
BEGIN:VEVENT
DTSTART;TZID=Europe/Berlin:20250612T173000
DTEND;TZID=Europe/Berlin:20250612T200000
DTSTAMP:20260425T162409
CREATED:20250606T105128Z
LAST-MODIFIED:20250606T105128Z
UID:2014-1749749400-1749758400@keinschrittnachrechts.de
SUMMARY:Extern | Heidelberger Hochschulrede: VIELE BLICKE – EIN EUROPA: Wie Einzelbiographien zu einer gemeinsamen Erzählung werden
DESCRIPTION:Am 12. Juni 2025 wird Dr. Sergey Lagodinsky\, Mitglied des Europäischen Parlaments\, in der Aula der Alten Universität Heidelberg die Heidelberger Hochschulrede halten. Der Titel seiner Rede lautet „VIELE BLICKE – EIN EUROPA: Wie Einzelbiographien zu einer gemeinsamen Erzählung werden“. In dieser Rede wird Dr. Lagodinsky beleuchten\, wie individuelle Lebensgeschichten zu einem kollektiven europäischen Narrativ beitragen können. \nDie Veranstaltung wird von der Hochschule für Jüdische Studien Heidelberg ausgerichtet. \nInteressierte werden gebeten\, sich bis zum 10. Juni 2025 per E-Mail an registration@hfjs.eu anzumelden. Am 12. Juni beginnt der Einlass um 17:15 Uhr. \nWeitere Informationen (externer Link): \nhttps://www.hfjs.eu/hochschule/profil/veranstaltungen/viele-blicke-ein-europa-wie-einzelbiographien-zu-einer-gemeinsamen-erzaehlung-werden.html
URL:https://keinschrittnachrechts.de/event/extern-heidelberger-hochschulrede-viele-blicke-ein-europa-wie-einzelbiographien-zu-einer-gemeinsamen-erzaehlung-werden
LOCATION:Alte Aula der Universität Heidelberg\, Grabengasse 1\, Heidelberg\, 69117\, Germany
CATEGORIES:Externe Veranstaltungen
END:VEVENT
BEGIN:VEVENT
DTSTART;TZID=Europe/Berlin:20250612T193000
DTEND;TZID=Europe/Berlin:20250612T193000
DTSTAMP:20260425T162409
CREATED:20250524T131001Z
LAST-MODIFIED:20250529T101656Z
UID:1977-1749756600-1749756600@keinschrittnachrechts.de
SUMMARY:Extern | Filmveranstaltung "Trotz alledem" und Filmgespräch im Gloria Kino
DESCRIPTION:Im vom Krieg gezeichneten Norden Syriens entsteht etwas Unerwartetes: Hoffnung. Inmitten von Ruinen\, Bedrohung und Entbehrung behaupten sich Frauen in Rojava mit bemerkenswerter Entschlossenheit. Sie gründen Dörfer\, unterrichten Kinder\, bauen Werkstätten auf – und verteidigen nicht nur ihr Leben\, sondern auch eine Vision von Freiheit und Gleichberechtigung. Der Regisseur Robert Krieg zeigt das alltägliche Überleben und den außergewöhnlichen Mut zur Selbstermächtigung in einer Region\, die weltweit kaum Beachtung findet. Ein bewegender Dokumentarfilm über den leisen\, aber unaufhaltsamen Aufbruch einer neuen Gesellschaft – getragen von Frauen. \nIm Anschluss Filmgespräch mit Regisseur Robert Krieg. \nIn Kooperation mit Freunde Arabischer Kunst und Kultur e.V. \nWeitere Informationen (externer Link): \nhttps://www.gloria-kamera-kinos.de/de/specials/sondervorstellungen
URL:https://keinschrittnachrechts.de/event/extern-filmveranstaltung-trotz-alledem-und-filmgespraech-im-gloria-kino
LOCATION:Gloria Kino\, Hauptstr. 146\, Heidelberg\, Germany
CATEGORIES:Externe Veranstaltungen
END:VEVENT
BEGIN:VEVENT
DTSTART;TZID=Europe/Berlin:20250614T100000
DTEND;TZID=Europe/Berlin:20250614T160000
DTSTAMP:20260425T162409
CREATED:20250605T201451Z
LAST-MODIFIED:20250605T201451Z
UID:2006-1749895200-1749916800@keinschrittnachrechts.de
SUMMARY:Extern | VHS Ludwigshafen: Was tun gegen Queerfeindlichkeit?! - Hintergründe und Handlungsstrategien zum Schutz
DESCRIPTION:Fortbildungsworkshop für queere Menschen und Allies (=Verbündete von queeren Menschen)\nLesben\, Schwule\, sowie bisexuelle\, transidente\, intergeschlechtliche und nicht- binäre Menschen gibt es in jedem Lebensalter und in allen gesellschaftlichen Kontexten.\nZahlen belegen\, dass in Deutschland sich 5 – 10% der Bevölkerung als queer identifizieren. Gleichzeitig belegen Studien\, dass queere Menschen in besonderem Maße Hass\, Gewalt und auch Desinformation ausgesetzt sind. Welche individuellen und welche gesamtgesellschaftlichen und demokratiegefährdenden Folgen Queerfeindlichkeit hat\, lernen Teilnehmende in diesem Fortbildungsmodul. \nIm Anschluss erarbeiten die Teilnehmenden Schutz- und Handlungsstrategien und erfahren\, wie sie  Queerfeindlichkeit vorbeugen und queerfeindlichen Parolen im Alltag begegnen können. \n*Vincent Maron*: Projektkoordination Familienvielfalt bei  QueerNet RLP\ne.V. für Trier zuständig und\, Berater im queeren Zentrum SCHMIT-Z e.V. Trier und Landeskoordination SCHLAU RLP.\n*Judith Hogen:* Projektkoordination. Familienvielfalt\, QueerNet RLP e.V. für die Region Pfalz\, Betzavta-Trainerin \nDank der Unterstützung des Landes Rheinland-Pfalz kann die Kooperationsveranstaltung von vhs-LU und QueerNet Rheinland-Pfalz e.V. kostenfrei angeboten werden.\nUm Anmeldung wird gebeten unter Tel. 0621 504-2238\,\nbei _info@vhs-lu.de_  oder auf der Webseite der VHS Ludwigshafen: (Externer Link)\nwww.vhs-lu.de\nDort gibt es auch weitere Informationen zur Veranstaltung.
URL:https://keinschrittnachrechts.de/event/extern-vhs-ludwigshafen-was-tun-gegen-queerfeindlichkeit-hintergruende-und-handlungsstrategien-zum-schutz
LOCATION:vhs Ludwigshafen Bürgerhof
CATEGORIES:Externe Veranstaltungen
END:VEVENT
BEGIN:VEVENT
DTSTART;TZID=Europe/Berlin:20250615T200000
DTEND;TZID=Europe/Berlin:20250615T200000
DTSTAMP:20260425T162409
CREATED:20250529T101000Z
LAST-MODIFIED:20250606T104209Z
UID:1986-1750017600-1750017600@keinschrittnachrechts.de
SUMMARY:Extern | Courage féminin – im Herzen die Résistance! Performance und Publikumsaustausch
DESCRIPTION:Deutsche und Französische Frauen im Widerstand gegen das NS-Regime\n \nTaucht ein in die Atmosphäre der 1930er und 1940er Jahre: Deutsche und französische Widerstandskämpferinnen stellen sich mutig der NS-Diktatur entgegen – ihre Geschichten sind geprägt von Stärke und Lebendigkeit. Anhand ihrer Biografien fungieren sie als Vorbilder im Kampf gegen Populismus\, Hass und Diskriminierung und rufen in der Gegenwart zu Mut und Tatkraft auf. Die allgegenwärtige Frage ist dabei\, was macht uns heute widerständig? „Courage féminin“ setzt sich gegen das Vergessen dieses Teils der Geschichte ein und schafft Sichtbarkeit für den Mut jener Frauen. \nDie Tanztheater-Aufführung setzt ein Zeichen gegen Menschenfeindlichkeit und Diskriminierung im damaligen wie auch im heutigen Sinne – sie will sowohl die Performerinnen als auch das Publikum ermutigen\, sich für mehr Mitmenschlichkeit und Liebe einzusetzen. #NieWiederIstJetzt! \nWeitere Informationen (externer Link): \nhttps://www.karlstorbahnhof.de/programm/veranstaltung/courage-feminin-im-herzen-die-resistance/ \n 
URL:https://keinschrittnachrechts.de/event/extern-courage-feminin-im-herzen-die-resistance-performance-und-publikumsaustausch
LOCATION:Karlstorbahnhof (Südstadt)\, Marlene-Dietrich-Platz 3\, Heidelberg\, Germany
CATEGORIES:Externe Veranstaltungen
END:VEVENT
BEGIN:VEVENT
DTSTART;TZID=Europe/Berlin:20250620T173000
DTEND;TZID=Europe/Berlin:20250620T173000
DTSTAMP:20260425T162409
CREATED:20250616T085455Z
LAST-MODIFIED:20250616T085455Z
UID:2050-1750440600-1750440600@keinschrittnachrechts.de
SUMMARY:Extern | Demonstration zum Weltgeflüchtetentag: „Mensch lässt Mensch nicht ertrinken! Heidelberg für Seenotrettung!“
DESCRIPTION:Am 20. Juni ist Weltgeflüchtetentag. Aus diesem Anlass veranstaltet die Seebrücke Heidelberg eine Demonstration unter dem Motto „Mensch lässt Mensch nicht ertrinken! Heidelberg für Seenotrettung!“ \nDie Demonstration startet am Freitag\, dem 20.06.2025 um 17:30 Uhr an der Schwanenteichanlage an der Stadtbücherei Heidelberg. Nach einer Auftaktkundgebung führt die Route über die Poststraße durch die kleine Plöck und die Sofienstraße in die Hauptstraße\, am Uniplatz findet eine Zwischenkundgebung statt\, und schließlich endet die Demo mit einer Abschlusskundgebung am Marktplatz
URL:https://keinschrittnachrechts.de/event/extern-demonstration-zum-weltgefluechtetentag-mensch-laesst-mensch-nicht-ertrinken-heidelberg-fuer-seenotrettung
LOCATION:Stadtbücherei\, Poststraße 15\, Heidelberg\, Baden-Württemberg\, 69126\, Germany
CATEGORIES:Externe Veranstaltungen
END:VEVENT
BEGIN:VEVENT
DTSTART;TZID=Europe/Berlin:20250629T100000
DTEND;TZID=Europe/Berlin:20250629T190000
DTSTAMP:20260425T162409
CREATED:20250617T192227Z
LAST-MODIFIED:20250617T192227Z
UID:2054-1751191200-1751223600@keinschrittnachrechts.de
SUMMARY:Extern | VHS und Stadt Heidelberg: „Ein Platz im Gedächtnis“ Exkursion zur Gedenkstätte Grafeneck
DESCRIPTION:Auch Menschen aus Heidelberg wurden in Grafeneck auf der Schwäbischen Alb von den Nazis ermordet. Ermordet\, weil sie eine Behinderung hatten oder krank waren. Darunter waren auch Kinder.\nIn der ehemaligen Tötungsanstalt Grafeneck wurde ein Dokumentationszentrum eingerichtet. Am Sonntag\, 29. Juni besteht die Möglichkeit\, dieses gemeinsam mit der Kommunalen Behindertenbeauftragten sowie Mitgliedern des Projektbeirats zu besuchen und an einer Führung teilzunehmen.\nAbfahrt mit einem Reisebus ist um 10 Uhr\, die Rückkehr ist gegen 19 Uhr geplant. Für die Verpflegung sind die Teilnehmenden selbst verantwortlich.\nAnmeldung bitte bis 20. Juni.\nWenn Sie aufgrund einer Behinderung Unterstützung brauchen\, melden Sie sich bitte bis 18. Juni unter behindertenbeauftragte@heidelberg.de\, damit diese organisiert werden kann. \nVeranstalterin: Stadt Heidelberg/Kommunale Behindertenbeauftragte \nGebühr 10 € \nWeiter Informationen (externer Link):\nhttps://www.vhs-hd.de/programm/gesellschaft.html?action[93]=course&courseId=516-C-29766850
URL:https://keinschrittnachrechts.de/event/extern-vhs-und-stadt-heidelberg-ein-platz-im-gedaechtnis-exkursion-zur-gedenkstaette-grafeneck
LOCATION:Augustinum Heidelberg\, Jaspersstraße 2\, Heidelberg\, 69126\, Germany
CATEGORIES:Externe Veranstaltungen
END:VEVENT
END:VCALENDAR