BEGIN:VCALENDAR
VERSION:2.0
PRODID:-//Kein Schritt nach rechts - ECPv6.15.20//NONSGML v1.0//EN
CALSCALE:GREGORIAN
METHOD:PUBLISH
X-WR-CALNAME:Kein Schritt nach rechts
X-ORIGINAL-URL:https://keinschrittnachrechts.de
X-WR-CALDESC:Veranstaltungen für Kein Schritt nach rechts
REFRESH-INTERVAL;VALUE=DURATION:PT1H
X-Robots-Tag:noindex
X-PUBLISHED-TTL:PT1H
BEGIN:VTIMEZONE
TZID:Europe/Berlin
BEGIN:DAYLIGHT
TZOFFSETFROM:+0100
TZOFFSETTO:+0200
TZNAME:CEST
DTSTART:20250330T010000
END:DAYLIGHT
BEGIN:STANDARD
TZOFFSETFROM:+0200
TZOFFSETTO:+0100
TZNAME:CET
DTSTART:20251026T010000
END:STANDARD
BEGIN:DAYLIGHT
TZOFFSETFROM:+0100
TZOFFSETTO:+0200
TZNAME:CEST
DTSTART:20260329T010000
END:DAYLIGHT
BEGIN:STANDARD
TZOFFSETFROM:+0200
TZOFFSETTO:+0100
TZNAME:CET
DTSTART:20261025T010000
END:STANDARD
BEGIN:DAYLIGHT
TZOFFSETFROM:+0100
TZOFFSETTO:+0200
TZNAME:CEST
DTSTART:20270328T010000
END:DAYLIGHT
BEGIN:STANDARD
TZOFFSETFROM:+0200
TZOFFSETTO:+0100
TZNAME:CET
DTSTART:20271031T010000
END:STANDARD
END:VTIMEZONE
BEGIN:VEVENT
DTSTART;TZID=Europe/Berlin:20260423T193000
DTEND;TZID=Europe/Berlin:20260423T193000
DTSTAMP:20260421T234511
CREATED:20260414T083614Z
LAST-MODIFIED:20260414T083614Z
UID:3258-1776972600-1776972600@keinschrittnachrechts.de
SUMMARY:Extern | Buchvorstellung und Diskussion: "Aller Rechte beraubt"
DESCRIPTION:„Aller Rechte beraubt – Mit außergerichtlichen EU-Sanktionen zum autoritären Staat“ \nBuchvorstellung und Diskussion mit Hannes Hofbauer\, Publizist und Verleger\, Wien \nVeranstaltet vom Friedensbündnis Heidelberg
URL:https://keinschrittnachrechts.de/event/extern-buchvorstellung-und-diskussion-aller-rechte-beraubt
LOCATION:WeltHaus Heidelberg (neu)\, Kurfürsten Anlage 25 (am Römerkreis)\, Heidelberg
CATEGORIES:Externe Veranstaltungen
END:VEVENT
END:VCALENDAR