BEGIN:VCALENDAR
VERSION:2.0
PRODID:-//Kein Schritt nach rechts - ECPv6.15.20//NONSGML v1.0//EN
CALSCALE:GREGORIAN
METHOD:PUBLISH
X-ORIGINAL-URL:https://keinschrittnachrechts.de
X-WR-CALDESC:Veranstaltungen für Kein Schritt nach rechts
REFRESH-INTERVAL;VALUE=DURATION:PT1H
X-Robots-Tag:noindex
X-PUBLISHED-TTL:PT1H
BEGIN:VTIMEZONE
TZID:Europe/Berlin
BEGIN:DAYLIGHT
TZOFFSETFROM:+0100
TZOFFSETTO:+0200
TZNAME:CEST
DTSTART:20250330T010000
END:DAYLIGHT
BEGIN:STANDARD
TZOFFSETFROM:+0200
TZOFFSETTO:+0100
TZNAME:CET
DTSTART:20251026T010000
END:STANDARD
BEGIN:DAYLIGHT
TZOFFSETFROM:+0100
TZOFFSETTO:+0200
TZNAME:CEST
DTSTART:20260329T010000
END:DAYLIGHT
BEGIN:STANDARD
TZOFFSETFROM:+0200
TZOFFSETTO:+0100
TZNAME:CET
DTSTART:20261025T010000
END:STANDARD
BEGIN:DAYLIGHT
TZOFFSETFROM:+0100
TZOFFSETTO:+0200
TZNAME:CEST
DTSTART:20270328T010000
END:DAYLIGHT
BEGIN:STANDARD
TZOFFSETFROM:+0200
TZOFFSETTO:+0100
TZNAME:CET
DTSTART:20271031T010000
END:STANDARD
END:VTIMEZONE
BEGIN:VEVENT
DTSTART;TZID=Europe/Berlin:20260425T140000
DTEND;TZID=Europe/Berlin:20260425T180000
DTSTAMP:20260422T014633
CREATED:20260327T202025Z
LAST-MODIFIED:20260411T122549Z
UID:3202-1777125600-1777140000@keinschrittnachrechts.de
SUMMARY:Extern | Tag der offenen Tür im WeltHaus
DESCRIPTION:Anlässlich des Umzugs des WeltHauses – Zentrum für Umwelt und Entwicklung – von seinem bisherigen Standort im Ostflügel des Hauptbahnhofes in das ehemalige „Zollhaus“ am Römerkreis wird gefeiert! \nWorum geht es? \nDie WeltHaus-Akteure stellen sich und ihre Themen – siehe „Organisationen und Arbeitsbereiche“ – einem breiteren Publikum vor. Mitmachaktionen\, Essensangebote und ein musikalisch-tänzerisches Rahmenprogramm warten auf die Besucher*innen. \nDer Eintritt ist kostenlos. \nWeitere Informationen (externer Link): \nhttp://www.welthaus-heidelberg.de/de/veranstaltungen/
URL:https://keinschrittnachrechts.de/event/extern-tag-der-offenen-tuer-im-welthaus
LOCATION:WeltHaus Heidelberg (neu)\, Kurfürsten Anlage 25 (am Römerkreis)\, Heidelberg
CATEGORIES:Externe Veranstaltungen
END:VEVENT
END:VCALENDAR