BEGIN:VCALENDAR
VERSION:2.0
PRODID:-//Kein Schritt nach rechts - ECPv6.15.20//NONSGML v1.0//EN
CALSCALE:GREGORIAN
METHOD:PUBLISH
X-ORIGINAL-URL:https://keinschrittnachrechts.de
X-WR-CALDESC:Veranstaltungen für Kein Schritt nach rechts
REFRESH-INTERVAL;VALUE=DURATION:PT1H
X-Robots-Tag:noindex
X-PUBLISHED-TTL:PT1H
BEGIN:VTIMEZONE
TZID:Europe/Berlin
BEGIN:DAYLIGHT
TZOFFSETFROM:+0100
TZOFFSETTO:+0200
TZNAME:CEST
DTSTART:20240331T010000
END:DAYLIGHT
BEGIN:STANDARD
TZOFFSETFROM:+0200
TZOFFSETTO:+0100
TZNAME:CET
DTSTART:20241027T010000
END:STANDARD
BEGIN:DAYLIGHT
TZOFFSETFROM:+0100
TZOFFSETTO:+0200
TZNAME:CEST
DTSTART:20250330T010000
END:DAYLIGHT
BEGIN:STANDARD
TZOFFSETFROM:+0200
TZOFFSETTO:+0100
TZNAME:CET
DTSTART:20251026T010000
END:STANDARD
BEGIN:DAYLIGHT
TZOFFSETFROM:+0100
TZOFFSETTO:+0200
TZNAME:CEST
DTSTART:20260329T010000
END:DAYLIGHT
BEGIN:STANDARD
TZOFFSETFROM:+0200
TZOFFSETTO:+0100
TZNAME:CET
DTSTART:20261025T010000
END:STANDARD
END:VTIMEZONE
BEGIN:VEVENT
DTSTART;TZID=Europe/Berlin:20250219T180000
DTEND;TZID=Europe/Berlin:20250219T180000
DTSTAMP:20260426T033241
CREATED:20250125T153004Z
LAST-MODIFIED:20250217T200055Z
UID:1254-1739988000-1739988000@keinschrittnachrechts.de
SUMMARY:Extern | Demo: ERINNERN.VERÄNDERN zum 5. Jahrestags des Attentats in Hanau
DESCRIPTION:Samstag war großartig! Wir konnten gemeinsam mit so vielen Tausenden Menschen ein deutliches Zeichen setzen: Für Zusammenhalt\, für Menschlichkeit\, gegen rechten Hass und Hetze.\nWenige Tage später\, am Mittwoch den 19. Februar findet in Heidelberg das Gedenken an die Opfer des rassistischen Attentats in Hanau statt. Organisiert wird die Kundgebung von Erinnern.Verändern\, die seit Jahren in Heidelberg Erinnerungsarbeit leisten. \nWann? Mi\, 19. Feb um 18 Uhr\nWo? Marktplatz\n👥 Mir ist es sehr wichtig\, dass wir da zusammen hingehen. Kommst du mit? \n➡️ Hier zur Gruppe\, um vor allem auch als Menschen aus einem Bündnis das sich gegen rechten Hass einsetzt\, gemeinsam dorthin zu gehen und ein solidarisches Miteinander zu leben. \n🖤 Am Samstag war die offizielle Demo in Hanau\, um den Verstorbenen zu gedenken und sich mit den Angehörigen und allen Betroffenen zu solidarisieren. Während wir zeitgleich in Heidelberg auf der Straße waren um gegen rechts zu protestieren\, waren in Hanau nur knapp 1.000 Menschen. Das trifft auf Verständnislosigkeit. Wir haben alle den Redebeitrag von erinnern.verändern auf unserer Demo gehört – lasst es uns am 19. Februar in Heidelberg besser machen\, denn in den letzten Jahren waren auch hier immer nur sehr wenige Menschen am offiziellen Gedenken dabei. \nWenn du dich noch informieren möchtest\, schau auf die Website von erinnern-veraendern.de. \nIch kann euch zudem diesen Podcast empfehlen\, den ich vor einigen Jahren dazu gehört habe. Bitte beachtet die Content Note. \n  \n 
URL:https://keinschrittnachrechts.de/event/extern-demo-erinnern-veraendern-zum-5-jahrestags-des-attentats-in-hanau
LOCATION:Marktplatz Heidelberg\, Marktplatz\, Heidelberg-Altstadt
CATEGORIES:Externe Veranstaltungen
END:VEVENT
END:VCALENDAR