BEGIN:VCALENDAR
VERSION:2.0
PRODID:-//Kein Schritt nach rechts - ECPv6.15.20//NONSGML v1.0//EN
CALSCALE:GREGORIAN
METHOD:PUBLISH
X-WR-CALNAME:Kein Schritt nach rechts
X-ORIGINAL-URL:https://keinschrittnachrechts.de
X-WR-CALDESC:Veranstaltungen für Kein Schritt nach rechts
REFRESH-INTERVAL;VALUE=DURATION:PT1H
X-Robots-Tag:noindex
X-PUBLISHED-TTL:PT1H
BEGIN:VTIMEZONE
TZID:Europe/Berlin
BEGIN:DAYLIGHT
TZOFFSETFROM:+0100
TZOFFSETTO:+0200
TZNAME:CEST
DTSTART:20240331T010000
END:DAYLIGHT
BEGIN:STANDARD
TZOFFSETFROM:+0200
TZOFFSETTO:+0100
TZNAME:CET
DTSTART:20241027T010000
END:STANDARD
BEGIN:DAYLIGHT
TZOFFSETFROM:+0100
TZOFFSETTO:+0200
TZNAME:CEST
DTSTART:20250330T010000
END:DAYLIGHT
BEGIN:STANDARD
TZOFFSETFROM:+0200
TZOFFSETTO:+0100
TZNAME:CET
DTSTART:20251026T010000
END:STANDARD
BEGIN:DAYLIGHT
TZOFFSETFROM:+0100
TZOFFSETTO:+0200
TZNAME:CEST
DTSTART:20260329T010000
END:DAYLIGHT
BEGIN:STANDARD
TZOFFSETFROM:+0200
TZOFFSETTO:+0100
TZNAME:CET
DTSTART:20261025T010000
END:STANDARD
END:VTIMEZONE
BEGIN:VEVENT
DTSTART;TZID=Europe/Berlin:20250208T140000
DTEND;TZID=Europe/Berlin:20250208T160000
DTSTAMP:20260426T051057
CREATED:20250206T181148Z
LAST-MODIFIED:20250206T181148Z
UID:1390-1739023200-1739030400@keinschrittnachrechts.de
SUMMARY:Extern | Eppelheim wählt demokratisch
DESCRIPTION:Aufruf zur Teilnahme an der Demonstration in Eppelheim – wählt demokratisch\nTermin: 08.02.2025 14.00 Uhr\nTreffpunkt: Katholische Christkönigkirche Rudolf-Wild-Str. 51\nAbschlusskundgebung: Vorplatz Rudolf-Wild-Halle\nGemeinsam für Demokratie\, Menschenrechte und Vielfalt!\nWir sind gegen Menschenfeindlichkeit und gegen Rechtsextremismus!\nEinladung an alle Bürger Innen. Mobilisieren Sie alle Freunde\, Verwandte\, Bekannte\, Kirchen-\, Vereins- und Parteimitglieder.\nBringen Sie Fahnen\, Schilder und Pfeifen mit.\nEppelheim ist bunt! Und laut!
URL:https://keinschrittnachrechts.de/event/extern-eppelheim-waehlt-demokratisch
LOCATION:Christkönigkirche Eppelheim\, Rudolf-Wild-Str. 51\, Eppelheim\, Baden-Württemberg\, 69214\, Germany
CATEGORIES:Externe Veranstaltungen
END:VEVENT
END:VCALENDAR