BEGIN:VCALENDAR
VERSION:2.0
PRODID:-//Kein Schritt nach rechts - ECPv6.15.20//NONSGML v1.0//EN
CALSCALE:GREGORIAN
METHOD:PUBLISH
X-WR-CALNAME:Kein Schritt nach rechts
X-ORIGINAL-URL:https://keinschrittnachrechts.de
X-WR-CALDESC:Veranstaltungen für Kein Schritt nach rechts
REFRESH-INTERVAL;VALUE=DURATION:PT1H
X-Robots-Tag:noindex
X-PUBLISHED-TTL:PT1H
BEGIN:VTIMEZONE
TZID:Europe/Berlin
BEGIN:DAYLIGHT
TZOFFSETFROM:+0100
TZOFFSETTO:+0200
TZNAME:CEST
DTSTART:20250330T010000
END:DAYLIGHT
BEGIN:STANDARD
TZOFFSETFROM:+0200
TZOFFSETTO:+0100
TZNAME:CET
DTSTART:20251026T010000
END:STANDARD
BEGIN:DAYLIGHT
TZOFFSETFROM:+0100
TZOFFSETTO:+0200
TZNAME:CEST
DTSTART:20260329T010000
END:DAYLIGHT
BEGIN:STANDARD
TZOFFSETFROM:+0200
TZOFFSETTO:+0100
TZNAME:CET
DTSTART:20261025T010000
END:STANDARD
BEGIN:DAYLIGHT
TZOFFSETFROM:+0100
TZOFFSETTO:+0200
TZNAME:CEST
DTSTART:20270328T010000
END:DAYLIGHT
BEGIN:STANDARD
TZOFFSETFROM:+0200
TZOFFSETTO:+0100
TZNAME:CET
DTSTART:20271031T010000
END:STANDARD
END:VTIMEZONE
BEGIN:VEVENT
DTSTART;TZID=Europe/Berlin:20260306T160000
DTEND;TZID=Europe/Berlin:20260306T160000
DTSTAMP:20260425T004238
CREATED:20251106T110538Z
LAST-MODIFIED:20251106T110538Z
UID:2597-1772812800-1772812800@keinschrittnachrechts.de
SUMMARY:Extern | Dokumentarfilm: Petra Kelly – Act Now!
DESCRIPTION:Biografischer Dokumentarfilm über eine unkonventionelle Kämpferin für Frieden und Umweltschutz\n„Diese geschickt eingeflochtene Verbindung der vergangenen früh-grünen Tage mit dem heutigen verzweifelten Kampf um Klima- und Bürger- und Geschlechtergerechtigkeit macht den Film so relevant.“ (www.kino-zeit.de) \nSie war Pazifistin\, Feministin und Mitbegründerin der Partei „Die Grünen“ – Petra Kelly war eine Ikone der 1980er-Jahre. Sie glaubte daran\, dass man als einzelner Mensch die Welt verändern kann. Auf dem Höhepunkt des Rüstungswettlaufs zwischen Ost und West zu Beginn der 1980er Jahre brachte sie Hunderttausende auf die Straße\, um gegen die Stationierung von Atomraketen auf westdeutschem Boden zu protestieren. Petra Kelly war mit Ihrer unerbittlichen Forderung nach einer Transformation der Gesellschaft ihrer Zeit voraus. Heute ist sie ein Vorbild für viele junge Menschen\, die auch außerhalb des Politikbetriebes ihr Recht auf bürgerschaftliches Engagement in Anspruch nehmen. Die aktuelle Weltlage zeigt\, dass Petra Kellys Stimme\, ihre Ideen und Visionen wichtiger denn je sind. \nDoris Metz‘ Dokumentarfilm „Petra Kelly – Act Now!“ gibt die Gelegenheit\, diese politische Aktivistin wiederzuentdecken. Der Film wurde beim Deutschen Filmpreis 2025 als „Bester Dokumentarfilm“ sowie beim Filmfest München 2024 mit dem „One-Future-Preis“ ausgezeichnet. \nEintritt 7 Euro\, ermäßigt 5 Euro \nWeitere Informationen (externer Link): \nhttps://augustinum.de/magazin/artikel/petra-kelly-act-now/
URL:https://keinschrittnachrechts.de/event/extern-dokumentarfilm-petra-kelly-act-now
LOCATION:Augustinum Heidelberg\, Jaspersstraße 2\, Heidelberg\, 69126\, Germany
CATEGORIES:Externe Veranstaltungen
END:VEVENT
BEGIN:VEVENT
DTSTART;TZID=Europe/Berlin:20260325T180000
DTEND;TZID=Europe/Berlin:20260325T193000
DTSTAMP:20260425T004238
CREATED:20260324T164736Z
LAST-MODIFIED:20260324T164736Z
UID:3170-1774461600-1774467000@keinschrittnachrechts.de
SUMMARY:Extern | Sich engagieren - aber wie?
DESCRIPTION:Ein Informationsabend für Unentschlossene und Aufgeschlossene auf der Suche nach einem passenden Engagement\n\nStudien zeigen: Wer sich engagiert\, hat mehr vom Leben – und Menschen\, die im Gemeinwesen aktiv sind\, leben zufriedener und gesünder. Besonders wichtig ist allerdings\, ein individuell passendes Engagement zu finden ohne Stress und Überforderung. Dieser Informationsabend soll eine erste Orientierungshilfe sein. Wir zeigen Ihnen die Entwicklung vom klassischen Ehrenamt hin zu neuen Formen des freiwilligen Engagements und stellen unsere Engagement-Datenbank vor. Sie erhalten einen ersten Überblick über die vielfältigen Möglichkeiten\, sich in Heidelberg zu engagieren – kurz- oder langfristig\, vor Ort oder von zu Hause aus. Wir zeigen Ihnen Möglichkeiten auf\, wie Sie Ihr persönliches Engagementprofil entdecken können. Wer sich gerne tiefer mit dem Thema oder mit weiteren Fragen nach einem passenden Engagement beschäftigen möchte\, ist herzlich zu einer individuellen Beratung in der FreiwilligenAgentur Heidelberg eingeladen. \nEintritt frei. \nWeitere Informationen (externer Link):\nhttps://www.vhs-hd.de/kurs/30458452
URL:https://keinschrittnachrechts.de/event/extern-sich-engagieren-aber-wie
LOCATION:Volkshochschule Heidelberg\, Bergheimer Straße 76\, Heidelberg\, 69115
CATEGORIES:Externe Veranstaltungen
END:VEVENT
END:VCALENDAR