BEGIN:VCALENDAR
VERSION:2.0
PRODID:-//Kein Schritt nach rechts - ECPv6.15.20//NONSGML v1.0//EN
CALSCALE:GREGORIAN
METHOD:PUBLISH
X-ORIGINAL-URL:https://keinschrittnachrechts.de
X-WR-CALDESC:Veranstaltungen für Kein Schritt nach rechts
REFRESH-INTERVAL;VALUE=DURATION:PT1H
X-Robots-Tag:noindex
X-PUBLISHED-TTL:PT1H
BEGIN:VTIMEZONE
TZID:Europe/Berlin
BEGIN:DAYLIGHT
TZOFFSETFROM:+0100
TZOFFSETTO:+0200
TZNAME:CEST
DTSTART:20240331T010000
END:DAYLIGHT
BEGIN:STANDARD
TZOFFSETFROM:+0200
TZOFFSETTO:+0100
TZNAME:CET
DTSTART:20241027T010000
END:STANDARD
BEGIN:DAYLIGHT
TZOFFSETFROM:+0100
TZOFFSETTO:+0200
TZNAME:CEST
DTSTART:20250330T010000
END:DAYLIGHT
BEGIN:STANDARD
TZOFFSETFROM:+0200
TZOFFSETTO:+0100
TZNAME:CET
DTSTART:20251026T010000
END:STANDARD
BEGIN:DAYLIGHT
TZOFFSETFROM:+0100
TZOFFSETTO:+0200
TZNAME:CEST
DTSTART:20260329T010000
END:DAYLIGHT
BEGIN:STANDARD
TZOFFSETFROM:+0200
TZOFFSETTO:+0100
TZNAME:CET
DTSTART:20261025T010000
END:STANDARD
END:VTIMEZONE
BEGIN:VEVENT
DTSTART;TZID=Europe/Berlin:20250513T193000
DTEND;TZID=Europe/Berlin:20250513T213000
DTSTAMP:20260425T193547
CREATED:20250430T095028Z
LAST-MODIFIED:20250506T185741Z
UID:1804-1747164600-1747171800@keinschrittnachrechts.de
SUMMARY:Extern | Die Neue Rechte im Kampf um Hegemonie! (Vortrag & Diskussion)
DESCRIPTION:13.05 19:30 Rabatz | IL HD/akut+c | Vortrag & Diskussion zur Broschüre „Die Neue Rechte im Kampf um Hegemonie!“ \nWie schaffen es Menschen wie Trump oder die identitäre Bewegung Hegemonie / Vorherrschaft in den Köpfen voranzutreiben?\nBroschüre im Druck.
URL:https://keinschrittnachrechts.de/event/extern-die-neue-rechte-im-kampf-um-hegemonie
LOCATION:Rabatz  (Zugang von der John-Zenger-Str.)\, Rheinstr. 4\, Heidelberg\, 69115
CATEGORIES:Externe Veranstaltungen
END:VEVENT
BEGIN:VEVENT
DTSTART;TZID=Europe/Berlin:20250514T200000
DTEND;TZID=Europe/Berlin:20250514T200000
DTSTAMP:20260425T193547
CREATED:20250505T151448Z
LAST-MODIFIED:20250506T185711Z
UID:1836-1747252800-1747252800@keinschrittnachrechts.de
SUMMARY:Extern | Lesung und Gespräch: Jean-Baptiste Andrea „Was ich von ihr weiß“ / „Veiller sur elle“
DESCRIPTION:Im großen Spiel des Schicksals hat Michelangelo Vitaliani\, genannt Mimo\, die falschen Karten gezogen. In Armut geboren\, wird er zu seinem Onkel nach Italien gegeben\, um Bildhauer zu werden. In dem ligurischen Dorf Pietra d’Alba begegnet er Viola Orsini\, Tochter einer angesehenen Adelsfamilie\, die nicht in ihre Zeit passt. Viola und Mimo durchleben den Aufstieg des Faschismus und die Unruhen der Weltkriege im 20. Jahrhundert. \nLesung und Gespräch mit dem Autor \nVeranstaltung des Deutsch-Französischen Kulturzentrum e.V. (dfk)\, Centre Culturel Franco-Allemand in Kooperation mit dem Karlstorbahnhof \nWeitere Informationen: (externer Link) \nhttps://www.karlstorbahnhof.de/programm/veranstaltung/jean-baptiste-andrea-veiller-sur-elle/
URL:https://keinschrittnachrechts.de/event/extern-lesung-und-gespraech-jean-baptiste-andrea-was-ich-von-ihr-weiss-veiller-sur-elle
LOCATION:Karlstorbahnhof (Südstadt)\, Marlene-Dietrich-Platz 3\, Heidelberg\, Germany
CATEGORIES:Externe Veranstaltungen
END:VEVENT
BEGIN:VEVENT
DTSTART;TZID=Europe/Berlin:20250518T110000
DTEND;TZID=Europe/Berlin:20250518T140000
DTSTAMP:20260425T193547
CREATED:20250505T150537Z
LAST-MODIFIED:20250506T185353Z
UID:1830-1747566000-1747576800@keinschrittnachrechts.de
SUMMARY:Extern | Dokumentations- und Kulturzentrum Deutscher Sinti und Roma: Führungen zum Internationalen Museumstag
DESCRIPTION:Weltweit wird am Sonntag\, dem 18. Mai 2025\, der Internationale Museumstag gefeiert. Natürlich auch in Heidelberg. Und daran beteiligt sich das Dokumentations- und Kulturzentrum Deutscher mit einem besonderen Angebot. Um 11 und um 14 Uhr gibt es an diesem Tag zwei kostenlose Führungen jeweils mit Gespräch zu „Schwerpunkten der Dauerausstellung“. \nWeitere Informationen: (externer Link) \nhttps://dokuzentrum.sintiundroma.de/fuehrungen/ \n  \n 
URL:https://keinschrittnachrechts.de/event/extern-dokumentations-und-kulturzentrum-deutscher-sinti-und-roma-fuehrungen-zum-internationalen-museumstag
LOCATION:Dokumentations- und Kulturzentrum deutscher Sinti und Roma\, Bremeneckgasse 2\, Heidelberg\, Germany
CATEGORIES:Externe Veranstaltungen
END:VEVENT
BEGIN:VEVENT
DTSTART;TZID=Europe/Berlin:20250524T091500
DTEND;TZID=Europe/Berlin:20250524T104500
DTSTAMP:20260425T193547
CREATED:20250522T181027Z
LAST-MODIFIED:20250522T182118Z
UID:1969-1748078100-1748083500@keinschrittnachrechts.de
SUMMARY:Extern | Heidelberger Symposium:  Dialog: Umdenken in der europäischen Flüchtlingspolitik – zwischen dem Wunsch nach Reformen und dem Schutz des Rechtsstaats
DESCRIPTION:Im Rahmen des Heidelberger Symposiums findet von 9:15 – 10:45 in der Neuen Aula eine Veranstaltung zur europäischen Asypolitik statt. \nDas Veranstaltungsformat:\n„In diesem neuen Format haben Herr Dr. Sommer und Herr Dr. Keil jeweils 30 Minuten Redezeit. Ein anschließender Dialog moderiert von Herrn Dr. Rath ermöglicht es beiden\, aufeinander einzugehen und Stellung zum Gesagten zu beziehen. Danach wird dem Publikum Zeit für Rückfragen und Diskussionen gegeben. Mit dem neuen Veranstaltungsformat schaffen wir einen Rahmen\, der der Komplexität der Thematik gerecht wird und eine vertiefte\, kritische Auseinandersetzung fördert.“ \n„Im Namen des Organisationsteams und des Vorstands des 36. Heidelberger Symposiums laden alle herzlich ein\, sich an dieser Auseinandersetzung zu beteiligen – auch und gerade\, wenn es unbequem wird. Nur so können wir gemeinsam Antworten auf die Herausforderungen unserer Zeit finden.“ \n  \nExterne Links zu dem Thema: \nWeitere Infos zur Veranstaltung: https://www.heidelberger-symposium.de/event/asyl \nStellungnahme zur Veranstaltung des Heidelberger Symposiums: https://heidelberger-symposium.de/blog/stellungnahme \nRNZ-Artikel zum diesjährigen Heidelberger Symposiums: https://www.rnz.de/region/heidelberg_artikel\,-Motto-UnUmdenkbar-Das-gibt-es-beim-Heidelberger-Symposium-_arid\,1571937.html \n 
URL:https://keinschrittnachrechts.de/event/extern-heidelberger-symposium-dialog-umdenken-in-der-europaeischen-fluechtlingspolitik-zwischen-dem-wunsch-nach-reformen-und-dem-schutz-des-rechtsstaats
LOCATION:Neue Universität\, Universitätsplatz 1\, Heidelberg
CATEGORIES:Externe Veranstaltungen
END:VEVENT
BEGIN:VEVENT
DTSTART;TZID=Europe/Berlin:20250524T164500
DTEND;TZID=Europe/Berlin:20250524T164500
DTSTAMP:20260425T193547
CREATED:20250516T140348Z
LAST-MODIFIED:20250516T141706Z
UID:1924-1748105100-1748105100@keinschrittnachrechts.de
SUMMARY:Extern | DAI / Universität Heidelberg:  Die Polarisierung der Gesellschaft Zwischen Dialog und Spaltung
DESCRIPTION:Die Polarisierung der Gesellschaft\nZwischen Dialog und Spaltung: Gesellschaft im Spannungsfeld – Polarisierung als Herausforderung für Demokratie und Medien\nIm Dialog \n\nWie entstehen gesellschaftliche Polarisierung und politische Spaltung – und wie können Demokratien sowie Medien damit umgehen? In dieser Veranstaltung diskutieren Prof. Dr. Uwe Jun (Parteienforscher an der Universität Trier) und Dr. Eva Ricarda Lautsch (Politikredakteurin bei ZEIT ONLINE) die Ursachen\, Folgen und möglichen Lösungsansätze für diese Herausforderung.\nNach zwei kurzen Impulsvorträgen treten die beiden Expert*innen in den Dialog und diskutieren mit dem Publikum.\n \nVeranstaltungsort ist die Neue Universität Heidelberg\, Universitätsplatz 1\, 69117. \n\nWeitere Informationen und Link zum Ticketverkauf: (Externer Link)\nhttps://dai-heidelberg.de/de/veranstaltungen/eva-ricarda-lautsch-uwe-jun-67577/
URL:https://keinschrittnachrechts.de/event/extern-dai-universitaet-heidelberg-die-polarisierung-der-gesellschaft-zwischen-dialog-und-spaltung
LOCATION:Neue Universität\, Universitätsplatz 1\, Heidelberg
CATEGORIES:Externe Veranstaltungen
END:VEVENT
END:VCALENDAR