BEGIN:VCALENDAR
VERSION:2.0
PRODID:-//Kein Schritt nach rechts - ECPv6.15.20//NONSGML v1.0//EN
CALSCALE:GREGORIAN
METHOD:PUBLISH
X-ORIGINAL-URL:https://keinschrittnachrechts.de
X-WR-CALDESC:Veranstaltungen für Kein Schritt nach rechts
REFRESH-INTERVAL;VALUE=DURATION:PT1H
X-Robots-Tag:noindex
X-PUBLISHED-TTL:PT1H
BEGIN:VTIMEZONE
TZID:Europe/Berlin
BEGIN:DAYLIGHT
TZOFFSETFROM:+0100
TZOFFSETTO:+0200
TZNAME:CEST
DTSTART:20250330T010000
END:DAYLIGHT
BEGIN:STANDARD
TZOFFSETFROM:+0200
TZOFFSETTO:+0100
TZNAME:CET
DTSTART:20251026T010000
END:STANDARD
BEGIN:DAYLIGHT
TZOFFSETFROM:+0100
TZOFFSETTO:+0200
TZNAME:CEST
DTSTART:20260329T010000
END:DAYLIGHT
BEGIN:STANDARD
TZOFFSETFROM:+0200
TZOFFSETTO:+0100
TZNAME:CET
DTSTART:20261025T010000
END:STANDARD
BEGIN:DAYLIGHT
TZOFFSETFROM:+0100
TZOFFSETTO:+0200
TZNAME:CEST
DTSTART:20270328T010000
END:DAYLIGHT
BEGIN:STANDARD
TZOFFSETFROM:+0200
TZOFFSETTO:+0100
TZNAME:CET
DTSTART:20271031T010000
END:STANDARD
END:VTIMEZONE
BEGIN:VEVENT
DTSTART;TZID=Europe/Berlin:20260520T183000
DTEND;TZID=Europe/Berlin:20260520T183000
DTSTAMP:20260421T205022
CREATED:20260411T115708Z
LAST-MODIFIED:20260411T115708Z
UID:3233-1779301800-1779301800@keinschrittnachrechts.de
SUMMARY:Extern | Sprechen & Zuhören – ein Dialogformat im Klimanetz
DESCRIPTION:Damit gesellschaftliche Verständigung über Klimathemen gelingt\, erprobt das Klimanetz Räume für echtes Zuhören. In Anlehnung an das bewährte Dialogformat von Mehr Demokratie e.V. entsteht ein sicherer\, strukturierter und hierarchiefreier Austausch: Jede Stimme bekommt gleich viel Raum\, und unterschiedliche Perspektiven werden wirklich gehört. Durch dieses Format wachsen Vertrauen\, Empathie und ein gemeinsames Verständnis – die Grundlage für dauerhafte Zusammenarbeit und Verständigung.
URL:https://keinschrittnachrechts.de/event/extern-sprechen-zuhoeren-ein-dialogformat-im-klimanetz
LOCATION:WeltHaus Heidelberg (neu)\, Kurfürsten Anlage 25 (am Römerkreis)\, Heidelberg
CATEGORIES:Externe Veranstaltungen
END:VEVENT
END:VCALENDAR