BEGIN:VCALENDAR
VERSION:2.0
PRODID:-//Kein Schritt nach rechts - ECPv6.15.20//NONSGML v1.0//EN
CALSCALE:GREGORIAN
METHOD:PUBLISH
X-ORIGINAL-URL:https://keinschrittnachrechts.de
X-WR-CALDESC:Veranstaltungen für Kein Schritt nach rechts
REFRESH-INTERVAL;VALUE=DURATION:PT1H
X-Robots-Tag:noindex
X-PUBLISHED-TTL:PT1H
BEGIN:VTIMEZONE
TZID:Europe/Berlin
BEGIN:DAYLIGHT
TZOFFSETFROM:+0100
TZOFFSETTO:+0200
TZNAME:CEST
DTSTART:20240331T010000
END:DAYLIGHT
BEGIN:STANDARD
TZOFFSETFROM:+0200
TZOFFSETTO:+0100
TZNAME:CET
DTSTART:20241027T010000
END:STANDARD
BEGIN:DAYLIGHT
TZOFFSETFROM:+0100
TZOFFSETTO:+0200
TZNAME:CEST
DTSTART:20250330T010000
END:DAYLIGHT
BEGIN:STANDARD
TZOFFSETFROM:+0200
TZOFFSETTO:+0100
TZNAME:CET
DTSTART:20251026T010000
END:STANDARD
BEGIN:DAYLIGHT
TZOFFSETFROM:+0100
TZOFFSETTO:+0200
TZNAME:CEST
DTSTART:20260329T010000
END:DAYLIGHT
BEGIN:STANDARD
TZOFFSETFROM:+0200
TZOFFSETTO:+0100
TZNAME:CET
DTSTART:20261025T010000
END:STANDARD
END:VTIMEZONE
BEGIN:VEVENT
DTSTART;TZID=Europe/Berlin:20251114T143000
DTEND;TZID=Europe/Berlin:20251114T143000
DTSTAMP:20260425T153206
CREATED:20251110T171957Z
LAST-MODIFIED:20251110T172513Z
UID:2607-1763130600-1763130600@keinschrittnachrechts.de
SUMMARY:Extern | Lampertheim: Demokratiefest 2025 + Lampertheimer Erklärung
DESCRIPTION:Demokratiefest 2025 — Mach mit!\n„Die Partnerschaft für Demokratie Lampertheim lädt herzlich zum Demokratiefest unter dem Motto „Wir rocken die Demokratie!“ ein: Am Freitag\, den 14. November 2025 feiern wir von 14:30 bis 18:30 Uhr im Schwanensaal Gemeinschaft\, Musik und Mitgestaltung.“ \nIm Anschluss daran um 19 Uhr: \nLampertheimer Erklärung\nDie feierliche Präsentation der Lampertheimer Erklärung findet am Freitag\, 14. November 2025\, um 19:00 Uhr in der St. Andreas Kirche in Lampertheim statt; die Partnerschaft für Demokratie Lampertheim lädt alle Bürgerinnen und Bürger herzlich ein\, bei diesem wichtigen Anlass ein deutliches Zeichen für Zusammenhalt\, Vielfalt und Respekt zu setzen. \n  \nWeitere Informationen dazu: (Externe Links)\nhttps://www.pfd-lampertheim.de/veranstaltung/wir-rocken-die-demokratie/\nhttps://www.pfd-lampertheim.de/veranstaltung/feierliche-praesentation-der-lampertheimer-erklaerung/
URL:https://keinschrittnachrechts.de/event/extern-lampertheim-demokratiefest-2025
CATEGORIES:Externe Veranstaltungen
END:VEVENT
END:VCALENDAR