BEGIN:VCALENDAR
VERSION:2.0
PRODID:-//Kein Schritt nach rechts - ECPv6.15.20//NONSGML v1.0//EN
CALSCALE:GREGORIAN
METHOD:PUBLISH
X-WR-CALNAME:Kein Schritt nach rechts
X-ORIGINAL-URL:https://keinschrittnachrechts.de
X-WR-CALDESC:Veranstaltungen für Kein Schritt nach rechts
REFRESH-INTERVAL;VALUE=DURATION:PT1H
X-Robots-Tag:noindex
X-PUBLISHED-TTL:PT1H
BEGIN:VTIMEZONE
TZID:Europe/Berlin
BEGIN:DAYLIGHT
TZOFFSETFROM:+0100
TZOFFSETTO:+0200
TZNAME:CEST
DTSTART:20240331T010000
END:DAYLIGHT
BEGIN:STANDARD
TZOFFSETFROM:+0200
TZOFFSETTO:+0100
TZNAME:CET
DTSTART:20241027T010000
END:STANDARD
BEGIN:DAYLIGHT
TZOFFSETFROM:+0100
TZOFFSETTO:+0200
TZNAME:CEST
DTSTART:20250330T010000
END:DAYLIGHT
BEGIN:STANDARD
TZOFFSETFROM:+0200
TZOFFSETTO:+0100
TZNAME:CET
DTSTART:20251026T010000
END:STANDARD
BEGIN:DAYLIGHT
TZOFFSETFROM:+0100
TZOFFSETTO:+0200
TZNAME:CEST
DTSTART:20260329T010000
END:DAYLIGHT
BEGIN:STANDARD
TZOFFSETFROM:+0200
TZOFFSETTO:+0100
TZNAME:CET
DTSTART:20261025T010000
END:STANDARD
END:VTIMEZONE
BEGIN:VEVENT
DTSTART;TZID=Europe/Berlin:20250109T201500
DTEND;TZID=Europe/Berlin:20250109T220000
DTSTAMP:20260426T052433
CREATED:20241220T181732Z
LAST-MODIFIED:20241220T181945Z
UID:1032-1736453700-1736460000@keinschrittnachrechts.de
SUMMARY:Extern | VHS: WAHL - WEB - TALKS - Vertrauensfrage(n): Die Bundestagswahl 2025 - online
DESCRIPTION:AfD\, BSW und Linkspartei und ihre Aussichten auf dem Wähler*innenmarkt bei der Bundestagswahl 2025 – Online\nDie Bundestagswahl 2025 wird so spannend wie schon lange nicht mehr. In welchem Zustand präsentiert sich das „politische EKG“ unseres Landes? \nWie krank oder gesund ist unsere parlamentarische Demokratie? Was sind die wahlentscheidenden Themen und welche Koalitionsoptionen sind denkbar? Wie beeinflussen Kriege und Krisen Wahlverhalten? Zunehmend werden Wahlen auf der Zielgeraden entschieden und die Zahl der „Last-Minute-Wähler*innen“ hat in den letzten Jahren zugenommen. Bestimmen die Ängste der Menschen\, wer Mehrheiten erringt oder gewinnen die Parteien\, die eine Agenda der Hoffnung verbreiten? Bei unseren spannenden Webtalks bilanzieren Politikwissenschaftler*innen die Parlamentsarbeit der letzten Legislaturperiode und bewerten die politischen und populistischen Strategien der Oppositionsparteien im Deutschen Bundestag. Wir freuen uns auf interessante Expertisen und spannende Einblicke in die Zukunft Deutschlands.\nBitte melden Sie sich an bei der Landeszentrale für politische Bildung Baden-Württemberg unter:  https://www.lpb-freiburg.de/anmeldung-wahl-webtalk-25 \nWann: Donnerstag\, 09.01.2025 \, 20:15 – 21:45 Uhr \nWo: VHS Heidelberg (Online\, kostenlos) \nNähere Infos auf der Webseite der VHS Heidelberg.
URL:https://keinschrittnachrechts.de/event/extern-vhs-wahl-web-talks-vertrauensfragen-die-bundestagswahl-2025-online
LOCATION:Online
CATEGORIES:Externe Veranstaltungen
END:VEVENT
BEGIN:VEVENT
DTSTART;TZID=Europe/Berlin:20250116T201500
DTEND;TZID=Europe/Berlin:20250116T220000
DTSTAMP:20260426T052433
CREATED:20241220T182239Z
LAST-MODIFIED:20241220T182303Z
UID:1038-1737058500-1737064800@keinschrittnachrechts.de
SUMMARY:Extern | VHS: WAHL - WEB - TALKS - Vertrauensfrage(n): Die Bundestagswahl 2025 -Wer mit wem?\, online
DESCRIPTION:Wer mit wem? Wähler*innen und Koalitionsmärkte und die neuen Unverbindlichkeiten – Online\nDie Bundestagswahl 2025 wird so spannend wie schon lange nicht mehr. In welchem Zustand präsentiert sich das „politische EKG“ unseres Landes? Wie krank oder gesund ist unsere parlamentarische Demokratie? Was sind die wahlentscheidenden Themen und welche Koalitionsoptionen sind denkbar? Wie beeinflussen Kriege und Krisen Wahlverhalten? Zunehmend werden Wahlen auf der Zielgeraden entschieden und die Zahl der „Last-Minute-Wähler*innen“ hat in den letzten Jahren zugenommen. Bestimmen die Ängste der Menschen\, wer Mehrheiten erringt oder gewinnen die Parteien\, die eine Agenda der Hoffnung verbreiten? Bei unseren spannenden Webtalks bilanzieren Politikwissenschaftler*innen die Parlamentsarbeit der letzten Legislaturperiode und bewerten die politischen und populistischen Strategien der Oppositionsparteien im Deutschen Bundestag. Wir freuen uns auf interessante Expertisen und spannende Einblicke in die Zukunft Deutschlands.\nBitte melden Sie sich an bei der Landeszentrale für politische Bildung Baden-Württemberg unter:  https://www.lpb-freiburg.de/anmeldung-wahl-webtalk-25 \n  \nWann: Donnerstag\, 16.01.2025 \, 20:15 – 21:45 Uhr \nWo: VHS Heidelberg (Online\, kostenlos) \nNähere Infos auf der Webseite der VHS Heidelberg.
URL:https://keinschrittnachrechts.de/event/extern-vhs-wahl-web-talks-vertrauensfragen-die-bundestagswahl-2025-wer-mit-wem-online
LOCATION:Online
CATEGORIES:Externe Veranstaltungen
END:VEVENT
BEGIN:VEVENT
DTSTART;TZID=Europe/Berlin:20250118T143000
DTEND;TZID=Europe/Berlin:20250118T163000
DTSTAMP:20260426T052433
CREATED:20250110T151705Z
LAST-MODIFIED:20250117T092326Z
UID:1125-1737210600-1737217800@keinschrittnachrechts.de
SUMMARY:Extern | Dance for Democracy mit der LpB & Theater Heidelberg
DESCRIPTION:Swing Social Dance für Demokratie\, Vielfalt und ein starkes Miteinander!\nFoyer Marguerre-Saal \nWo es egal ist\, wer du bist\, woher du kommst\, was du tust\, welche Sprache du sprichst. Wo du auf Freund*innen triffst\, weil du auf der Tanzfläche nur eines bist: Tänzer*in!\nDance for Democracy schafft einen Ort für Austausch: Menschen kommen zusammen\, um gemeinsam zu tanzen und sich kennenzulernen. Und fördert auf unkonventionelle Weise die Demokratie\, denn Demokratie hat viele Gesichter. Tanzen: die fröhliche Alternative zur traditionellen Demonstration stärkt den Zusammenhalt\, denn gemeinsames Erleben verbindet – auch über die Tanzfläche hinaus.\nDance for Democracy lädt euch ein: zum Tanz für Demokratie\, Vielfalt und Gleichberechtigung!
URL:https://keinschrittnachrechts.de/event/extern-dance-for-democracy-mit-der-lpb-theater-heidelberg
LOCATION:Theater Heidelberg\, Theaterstraße 10\, Heidelberg\, Baden-Württemberg\, 69117\, Germany
CATEGORIES:Externe Veranstaltungen
END:VEVENT
BEGIN:VEVENT
DTSTART;TZID=Europe/Berlin:20250118T180000
DTEND;TZID=Europe/Berlin:20250118T180000
DTSTAMP:20260426T052433
CREATED:20241217T124505Z
LAST-MODIFIED:20250105T125211Z
UID:1024-1737223200-1737223200@keinschrittnachrechts.de
SUMMARY:KSNR | Filmabend mit Diskussion 'Unser Platz in der Demokratie': "Die Känguru-Chroniken" & "Wildes Herz"
DESCRIPTION:🎥 Das erwartet euch:\nEin inspirierendes Double Feature mit:\n·     AB 18 UHR  „Die Känguru-Chroniken“ (2020; FSK 0): Was passiert\, wenn ein überzeugter Kleinkünstler und Kommunist auf ein anarchistisches\, sprechendes Känguru trifft?\nChaos\, Humor und eine gehörige Portion Gesellschaftskritik! Mit Marc-Uwe und seinem tierischen Mitbewohner kommt es zur satirischen Auseinandersetzung mit Kapitalismus\, Solidarität und absurden politischen Strukturen\, die den Zeitgeist unserer Gesellschaft hinterfragt.\n·     AB 20 UHR  „Wildes Herz“ (2017; FSK 12): Die bewegende Geschichte des Frontmanns Monchi der Band Feine Sahne Fischfilet\, die den unermüdlichen Kampf gegen Rechtsradikalismus und für ein weltoffenes Miteinander dokumentiert. Mit rauer Energie und Leidenschaft zeigt der Film\, wie Musik\, Aktivismus und eine starke Gemeinschaft zusammenkommen\, um in Mecklenburg-Vorpommern – einer Region\, die stark von rechtsextremen Strukturen geprägt ist – für Toleranz und Weltoffenheit einzustehen. \nDie Veranstaltung richtet sich an alle Menschen ab 12 Jahren\, die Lust haben\, sich auf humorvolle\, inspirierende und nachdenkliche Weise mit den Herausforderungen unserer Zeit auseinanderzusetzen und über ihren Platz in der Demokratie nachzudenken – oder auch einfach nur Lust haben\, einen unterhaltsamen Film zu schauen. \nZwischen den Filmen und im Anschluss laden wir euch zu einem offenen Austausch ein. Mit Raum für Diskussionen über die Filme\, die Themen Demokratie\, Extremismus und das aktuelle politische Geschehen\, möchten wir mit Euch in Austausch kommen\, was zu einer lebendigen und demokratischen Gesellschaft beitragen kann und was Euch wichtig ist. Getränken und Snacks können vor Ort erworben werden. \n🕒 Wann? 18. Januar 2025\, ab 18 Uhr\n📍Wo? Bürgerhaus HeidelBERG\, Emmertsgrund/Boxberg\n🎟️Für wen? Alle interessierten Menschen ab 12 Jahren \nSo könnt ihr uns unterstützen:\nDamit die Veranstaltung ein Erfolg wird\, sind wir auf eure Hilfe angewiesen. Uns entstehen Kosten für\n·       Filmleihgebühren\n·       Druck- und Werbematerialien\n·       Saalmiete\n·       Snacks\ndie sich auf circa 1.250€ belaufen.\n➡️ Spenden: Jeder Beitrag\, ob groß oder klein\, hilft uns sehr! Gemeinsam können wir dafür sorgen\, dass der Austausch über Demokratie und Zusammenhalt möglichst viele Menschen erreicht.\nLink zum Spendenaufruf.\n➡️Veranstaltung teilen: Ihr könnt uns auch unterstützen\, indem ihr diese Veranstaltung in euren Netzwerken teilt\, in euren Räumlichkeiten darauf hinweist oder Freund*innen und Bekannte einladet. \nFür Fragen\, Spenden oder weitere Unterstützungsmöglichkeiten könnt ihr uns gerne kontaktieren: akbildung@keinschrittnachrechts.de\nWir danken der Bürgerstiftung\, dass sie als Unterstützer dabei ist! \nWir freuen uns darauf\, diesen besonderen Abend mit euch zu gestalten! \n  \n  \n 
URL:https://keinschrittnachrechts.de/event/ksnr-filmabend-mit-diskussion-unser-platz-in-der-demokratie-die-kaenguru-chroniken-wildes-herz
LOCATION:Bürgerhaus HeidelBERG\, Forum 1\, Heidelberg
CATEGORIES:Kein Schritt nach Rechts
END:VEVENT
BEGIN:VEVENT
DTSTART;TZID=Europe/Berlin:20250123T201500
DTEND;TZID=Europe/Berlin:20250123T220000
DTSTAMP:20260426T052433
CREATED:20241220T183304Z
LAST-MODIFIED:20241220T183304Z
UID:1044-1737663300-1737669600@keinschrittnachrechts.de
SUMMARY:Extern | VHS: WAHL - WEB - TALKS - Vertrauensfrage(n): Die Bundestagswahl 2025 - Vergleich mit 2021\, online
DESCRIPTION:Die Bundestagswahlkämpfe 2021 und 2025 im Vergleich – Online – Online\nDie Bundestagswahl 2025 wird so spannend wie schon lange nicht mehr. In welchem Zustand präsentiert sich das „politische EKG“ unseres Landes? Wie krank oder gesund ist unsere parlamentarische Demokratie? Was sind die wahlentscheidenden Themen und welche Koalitionsoptionen sind denkbar? Wie beeinflussen Kriege und Krisen Wahlverhalten? Zunehmend werden Wahlen auf der Zielgeraden entschieden und die Zahl der „Last-Minute-Wähler*innen“ hat in den letzten Jahren zugenommen. Bestimmen die Ängste der Menschen\, wer Mehrheiten erringt oder gewinnen die Parteien\, die eine Agenda der Hoffnung verbreiten? Bei unseren spannenden Webtalks bilanzieren Politikwissenschaftler*innen die Parlamentsarbeit der letzten Legislaturperiode und bewerten die politischen und populistischen Strategien der Oppositionsparteien im Deutschen Bundestag. Wir freuen uns auf interessante Expertisen und spannende Einblicke in die Zukunft Deutschlands.\nBitte melden Sie sich an bei der Landeszentrale für politische Bildung Baden-Württemberg unter:  https://www.lpb-freiburg.de/anmeldung-wahl-webtalk-25 \n  \nWann: Donnerstag\, 23.01.2025 \, 20:15 – 21:45 Uhr \nWo: VHS Heidelberg (Online\, kostenlos) \nNähere Infos auf der Webseite der VHS Heidelberg.
URL:https://keinschrittnachrechts.de/event/extern-vhs-wahl-web-talks-vertrauensfragen-die-bundestagswahl-2025-vergleich-mit-2021-online
LOCATION:Online
CATEGORIES:Externe Veranstaltungen
END:VEVENT
BEGIN:VEVENT
DTSTART;VALUE=DATE:20250125
DTEND;VALUE=DATE:20250127
DTSTAMP:20260426T052433
CREATED:20250102T202837Z
LAST-MODIFIED:20250123T223241Z
UID:1077-1737763200-1737935999@keinschrittnachrechts.de
SUMMARY:Extern | Perspektive Rojava: Demokratische Vision aus Nord- und Ost-Syrien
DESCRIPTION:Was können wir aus Rojava lernen? In einer Zeit\, in der Populismus und Rechtsextremismus weltweit auf dem Vormarsch sind\, unsere Demokratie an ihre Grenzen stößt\, die Kriege in der Welt und auch in der Region Rojavas immer weiter eskalieren und die Zeit zur Bekämpfung des Klimawandels drängt\, braucht es mehr denn je neue Ideen\, Impulse und Visionen. Dazu möchte wir unsere Aufmerksamkeit auf die Demokratische Selbstverwaltung in Nord- und Ostsyrien richten. Allen Widrigkeiten zum Trotz hat sich in dieser Region in 12 Jahren eine beeindruckende Form der Basisdemokratie entwickelt. Frauenbefreiung\, multireligiöses Zusammenleben und Ökologie werden in einzigartiger Weise gelebt. \nLeider hat das Thema aufgrund der derzeitigen Entwicklungen in Syrien an Aktualität und Dramatik gewonnen Die Region sieht sich heftigen Angriffen ausgesetzt – der Ausgang des Konflikts bleibt ungewiss. Umso wichtiger\, dass wir uns über diese Region informieren. Wer helfen möchte\, kann dies beispielsweise durch eine Spende an @medicointernational tun. \nTagung 25. & 26.01 | Aula des CA (Marie-Clauss-Straße 3\, 69126 Heidelberg)\nWeitere Infos auf der Webseite des Collegium Academicum: (Externer Link)\nhttps://collegiumacademicum.de/rojava/
URL:https://keinschrittnachrechts.de/event/extern-perspektive-rojava-demokratische-vision-aus-nord-und-ost-syrien
LOCATION:Collegium Academicum\, Heidelberg\, Marie-Clauss-Straße 3\, Heidelberg\, 69115\, Germany
CATEGORIES:Externe Veranstaltungen
END:VEVENT
BEGIN:VEVENT
DTSTART;TZID=Europe/Berlin:20250127T180000
DTEND;TZID=Europe/Berlin:20250127T210000
DTSTAMP:20260426T052433
CREATED:20250113T182704Z
LAST-MODIFIED:20250113T183327Z
UID:1144-1738000800-1738011600@keinschrittnachrechts.de
SUMMARY:Extern | Mahnwache zum Gedenken an die Opfer des Holocaust
DESCRIPTION:Mahnwache am Georgi-Platz zum internationalen Tag des Gedenkens an die Opfer des Holocaust.\nLeimener Bündnis für Demokratie\, Menschenrechte und Vielfalt
URL:https://keinschrittnachrechts.de/event/mahnwache-zum-gedenken-an-die-opfer-des-holocaust
LOCATION:Georgi-Platz\, Georgi-Marktplatz\, Leimen\, Baden-Württemberg\, 69181\, Germany
CATEGORIES:Externe Veranstaltungen
END:VEVENT
BEGIN:VEVENT
DTSTART;TZID=Europe/Berlin:20250130T201500
DTEND;TZID=Europe/Berlin:20250130T220000
DTSTAMP:20260426T052433
CREATED:20241220T182747Z
LAST-MODIFIED:20241220T183035Z
UID:1040-1738268100-1738274400@keinschrittnachrechts.de
SUMMARY:Extern | VHS: WAHL - WEB - TALKS - Vertrauensfrage(n): Die Bundestagswahl 2025 - das Ende der Ampelkoalition und die Folgen\, online
DESCRIPTION:Die gespaltene Republik: das Ende der Ampel-Koalition und ihre Folgen- Online\nDie Bundestagswahl 2025 wird so spannend wie schon lange nicht mehr. In welchem Zustand präsentiert sich das „politische EKG“ unseres Landes? Wie krank oder gesund ist unsere parlamentarische Demokratie? Was sind die wahlentscheidenden Themen und welche Koalitionsoptionen sind denkbar? Wie beeinflussen Kriege und Krisen Wahlverhalten? Zunehmend werden Wahlen auf der Zielgeraden entschieden und die Zahl der „Last-Minute-Wähler*innen“ hat in den letzten Jahren zugenommen. Bestimmen die Ängste der Menschen\, wer Mehrheiten erringt oder gewinnen die Parteien\, die eine Agenda der Hoffnung verbreiten? Bei unseren spannenden Webtalks bilanzieren Politikwissenschaftler*innen die Parlamentsarbeit der letzten Legislaturperiode und bewerten die politischen und populistischen Strategien der Oppositionsparteien im Deutschen Bundestag. Wir freuen uns auf interessante Expertisen und spannende Einblicke in die Zukunft Deutschlands.\nBitte melden Sie sich an bei der Landeszentrale für politische Bildung Baden-Württemberg unter:  https://www.lpb-freiburg.de/anmeldung-wahl-webtalk-25 \n  \nWann: Donnerstag\, 30.01.2025 \, 20:15 – 21:45 Uhr \nWo: VHS Heidelberg (Online\, kostenlos) \nNähere Infos auf der Webseite der VHS Heidelberg.
URL:https://keinschrittnachrechts.de/event/extern-vhs-wahl-web-talks-vertrauensfragen-die-bundestagswahl-2025-2021-und-2025-im-vergleich-online
LOCATION:Online
CATEGORIES:Externe Veranstaltungen
END:VEVENT
END:VCALENDAR