BEGIN:VCALENDAR
VERSION:2.0
PRODID:-//Kein Schritt nach rechts - ECPv6.15.20//NONSGML v1.0//EN
CALSCALE:GREGORIAN
METHOD:PUBLISH
X-ORIGINAL-URL:https://keinschrittnachrechts.de
X-WR-CALDESC:Veranstaltungen für Kein Schritt nach rechts
REFRESH-INTERVAL;VALUE=DURATION:PT1H
X-Robots-Tag:noindex
X-PUBLISHED-TTL:PT1H
BEGIN:VTIMEZONE
TZID:Europe/Berlin
BEGIN:DAYLIGHT
TZOFFSETFROM:+0100
TZOFFSETTO:+0200
TZNAME:CEST
DTSTART:20250330T010000
END:DAYLIGHT
BEGIN:STANDARD
TZOFFSETFROM:+0200
TZOFFSETTO:+0100
TZNAME:CET
DTSTART:20251026T010000
END:STANDARD
BEGIN:DAYLIGHT
TZOFFSETFROM:+0100
TZOFFSETTO:+0200
TZNAME:CEST
DTSTART:20260329T010000
END:DAYLIGHT
BEGIN:STANDARD
TZOFFSETFROM:+0200
TZOFFSETTO:+0100
TZNAME:CET
DTSTART:20261025T010000
END:STANDARD
BEGIN:DAYLIGHT
TZOFFSETFROM:+0100
TZOFFSETTO:+0200
TZNAME:CEST
DTSTART:20270328T010000
END:DAYLIGHT
BEGIN:STANDARD
TZOFFSETFROM:+0200
TZOFFSETTO:+0100
TZNAME:CET
DTSTART:20271031T010000
END:STANDARD
END:VTIMEZONE
BEGIN:VEVENT
DTSTART;TZID=Europe/Berlin:20260501T100000
DTEND;TZID=Europe/Berlin:20260501T143000
DTSTAMP:20260424T203703
CREATED:20260414T082735Z
LAST-MODIFIED:20260414T082735Z
UID:3256-1777629600-1777645800@keinschrittnachrechts.de
SUMMARY:Extern | Mai-Demonstration "Erst unsere Jobs\, dann eure Profite"
DESCRIPTION:Der DGB Heidelberg-Rhein-Neckar lädt ein zur diesjährigen Demonstration mit anschließender Kundgebung zum 1. Mai in Heidelberg unter dem Motto „Erst unsere Jobs\, dann eure Profite“ \nAblauf\n10:00 Aufstellung der Demo am Beginn der Hauptstraße/St. Anna-Gasse \n10:30 Abmarsch Demo \n11:00 Kundgebung auf dem Marktplatz \nDie diesjährige Mai-Rede hält Alexander Münchow\, Landesbezirkssekretär der NGG Südwest \nAuf dem Marktplatz gibt es Infostände von Gewerkschaften und anderen Organisationen – auch einen Stand von Kein Schritt nach Rechts\, musikalische Begleitung und Angebote für Kinder. \nWeitere Informationen (externer Link): \nhttps://heidelberg.igmetall.de/termin-detail?id=58414acf-da7c-45b2-a5a1-442733cf807e
URL:https://keinschrittnachrechts.de/event/extern-mai-demonstration-erst-unsere-jobs-dann-eure-profite
LOCATION:Marktplatz Heidelberg\, Marktplatz\, Heidelberg-Altstadt
CATEGORIES:Externe Veranstaltungen
END:VEVENT
END:VCALENDAR