BEGIN:VCALENDAR
VERSION:2.0
PRODID:-//Kein Schritt nach rechts - ECPv6.15.20//NONSGML v1.0//EN
CALSCALE:GREGORIAN
METHOD:PUBLISH
X-ORIGINAL-URL:https://keinschrittnachrechts.de
X-WR-CALDESC:Veranstaltungen für Kein Schritt nach rechts
REFRESH-INTERVAL;VALUE=DURATION:PT1H
X-Robots-Tag:noindex
X-PUBLISHED-TTL:PT1H
BEGIN:VTIMEZONE
TZID:Europe/Berlin
BEGIN:DAYLIGHT
TZOFFSETFROM:+0100
TZOFFSETTO:+0200
TZNAME:CEST
DTSTART:20240331T010000
END:DAYLIGHT
BEGIN:STANDARD
TZOFFSETFROM:+0200
TZOFFSETTO:+0100
TZNAME:CET
DTSTART:20241027T010000
END:STANDARD
BEGIN:DAYLIGHT
TZOFFSETFROM:+0100
TZOFFSETTO:+0200
TZNAME:CEST
DTSTART:20250330T010000
END:DAYLIGHT
BEGIN:STANDARD
TZOFFSETFROM:+0200
TZOFFSETTO:+0100
TZNAME:CET
DTSTART:20251026T010000
END:STANDARD
BEGIN:DAYLIGHT
TZOFFSETFROM:+0100
TZOFFSETTO:+0200
TZNAME:CEST
DTSTART:20260329T010000
END:DAYLIGHT
BEGIN:STANDARD
TZOFFSETFROM:+0200
TZOFFSETTO:+0100
TZNAME:CET
DTSTART:20261025T010000
END:STANDARD
END:VTIMEZONE
BEGIN:VEVENT
DTSTART;TZID=Europe/Berlin:20250207T183000
DTEND;TZID=Europe/Berlin:20250207T193000
DTSTAMP:20260426T051440
CREATED:20250204T124118Z
LAST-MODIFIED:20250204T182310Z
UID:1364-1738953000-1738956600@keinschrittnachrechts.de
SUMMARY:KSnr | Trauerfeier für das politische Gewissen
DESCRIPTION:Alexander Föhr hat gemeinsam mit CDU\, FDP und AFD für ein menschenrechtsverachtendes Gesetz gestimmt! Damit tritt er Menschenrechte mit Füßen. Sein politisches Gewissen hat er in unseren Augen hiermit beerdigt. Wir sind erschüttert\, zutiefst betroffen und wollen gemeinsam trauern! \nRechtsextreme Politik wird nicht menschlicher oder besser\, nur weil sie von der „Mitte“ ausgeführt wird!!! Sie hilft auch nicht dem Rechtsruck entgegenzuwirken\, sondern setzt ihn in die Tat um. Dies sind wir nicht bereit mitzutragen!!! \nLasst uns zusammen kommen\, gemeinsam singen und ein Licht für Menschlichkeit und Demokratie in die Politik senden.
URL:https://keinschrittnachrechts.de/event/ksnr-trauerfeier-fuer-das-politische-gewissen
LOCATION:CDU-Büro Dossenheim\, Gewerbestraße 2-4\, Dossenheim\, Baden-Württemberg\, 69221\, Germany
CATEGORIES:Kein Schritt nach Rechts
END:VEVENT
END:VCALENDAR