BEGIN:VCALENDAR
VERSION:2.0
PRODID:-//Kein Schritt nach rechts - ECPv6.15.20//NONSGML v1.0//EN
CALSCALE:GREGORIAN
METHOD:PUBLISH
X-WR-CALNAME:Kein Schritt nach rechts
X-ORIGINAL-URL:https://keinschrittnachrechts.de
X-WR-CALDESC:Veranstaltungen für Kein Schritt nach rechts
REFRESH-INTERVAL;VALUE=DURATION:PT1H
X-Robots-Tag:noindex
X-PUBLISHED-TTL:PT1H
BEGIN:VTIMEZONE
TZID:Europe/Berlin
BEGIN:DAYLIGHT
TZOFFSETFROM:+0100
TZOFFSETTO:+0200
TZNAME:CEST
DTSTART:20240331T010000
END:DAYLIGHT
BEGIN:STANDARD
TZOFFSETFROM:+0200
TZOFFSETTO:+0100
TZNAME:CET
DTSTART:20241027T010000
END:STANDARD
BEGIN:DAYLIGHT
TZOFFSETFROM:+0100
TZOFFSETTO:+0200
TZNAME:CEST
DTSTART:20250330T010000
END:DAYLIGHT
BEGIN:STANDARD
TZOFFSETFROM:+0200
TZOFFSETTO:+0100
TZNAME:CET
DTSTART:20251026T010000
END:STANDARD
BEGIN:DAYLIGHT
TZOFFSETFROM:+0100
TZOFFSETTO:+0200
TZNAME:CEST
DTSTART:20260329T010000
END:DAYLIGHT
BEGIN:STANDARD
TZOFFSETFROM:+0200
TZOFFSETTO:+0100
TZNAME:CET
DTSTART:20261025T010000
END:STANDARD
END:VTIMEZONE
BEGIN:VEVENT
DTSTART;TZID=Europe/Berlin:20250516T160000
DTEND;TZID=Europe/Berlin:20250516T173000
DTSTAMP:20260426T010137
CREATED:20250501T214427Z
LAST-MODIFIED:20250506T185651Z
UID:1810-1747411200-1747416600@keinschrittnachrechts.de
SUMMARY:Extern | Gedenkveranstaltung zum 92. Jahrestag der Heidelberger Bücherverbrennung
DESCRIPTION:92 Jahre Bücherverbrennung in Heidelberg 2025\n\nLesung aus verbrannten Büchern am Freitag\, 16. Mai 2025\, 16:00-17:30 Uhr auf dem Karlsplatz (bei Regen im Palais Boisserée). \nUni Heidelberg in Kooperation mit der Heidelberger Lupe e.V. und dem Kulturamt Heidelberg \nWeitere Informationen: (externer Link) \nhttps://www.gs.uni-heidelberg.de/de/forschung/neuere-deutsche-literaturwissenschaft/moderne-und-gegenwart/buecherverbrennung-1933
URL:https://keinschrittnachrechts.de/event/extern-gedenkveranstaltung-zum-92-jahrestag-der-heidelberger-buecherverbrennung
LOCATION:Karlsplatz\, Karlsplatz\, Heidelberg\, 69117\, Germany
CATEGORIES:Externe Veranstaltungen
END:VEVENT
END:VCALENDAR