BEGIN:VCALENDAR
VERSION:2.0
PRODID:-//Kein Schritt nach rechts - ECPv6.15.20//NONSGML v1.0//EN
CALSCALE:GREGORIAN
METHOD:PUBLISH
X-WR-CALNAME:Kein Schritt nach rechts
X-ORIGINAL-URL:https://keinschrittnachrechts.de
X-WR-CALDESC:Veranstaltungen für Kein Schritt nach rechts
REFRESH-INTERVAL;VALUE=DURATION:PT1H
X-Robots-Tag:noindex
X-PUBLISHED-TTL:PT1H
BEGIN:VTIMEZONE
TZID:Europe/Berlin
BEGIN:DAYLIGHT
TZOFFSETFROM:+0100
TZOFFSETTO:+0200
TZNAME:CEST
DTSTART:20240331T010000
END:DAYLIGHT
BEGIN:STANDARD
TZOFFSETFROM:+0200
TZOFFSETTO:+0100
TZNAME:CET
DTSTART:20241027T010000
END:STANDARD
BEGIN:DAYLIGHT
TZOFFSETFROM:+0100
TZOFFSETTO:+0200
TZNAME:CEST
DTSTART:20250330T010000
END:DAYLIGHT
BEGIN:STANDARD
TZOFFSETFROM:+0200
TZOFFSETTO:+0100
TZNAME:CET
DTSTART:20251026T010000
END:STANDARD
BEGIN:DAYLIGHT
TZOFFSETFROM:+0100
TZOFFSETTO:+0200
TZNAME:CEST
DTSTART:20260329T010000
END:DAYLIGHT
BEGIN:STANDARD
TZOFFSETFROM:+0200
TZOFFSETTO:+0100
TZNAME:CET
DTSTART:20261025T010000
END:STANDARD
END:VTIMEZONE
BEGIN:VEVENT
DTSTART;TZID=Europe/Berlin:20250830T170000
DTEND;TZID=Europe/Berlin:20250830T170000
DTSTAMP:20260426T015317
CREATED:20250730T104531Z
LAST-MODIFIED:20250813T125505Z
UID:2194-1756573200-1756573200@keinschrittnachrechts.de
SUMMARY:KSNR | Aktivis-Muss Literaturpicknick am Iqbal-Ufer
DESCRIPTION:Der Sommer neigt sich dem Ende zu\, aber gute Texte bleiben für immer. Deswegen organisieren wir ein entspanntes Get-Together mit Mitbringbuffett und Open Mic. \nBeim Open Mic könnt ihr Texte vortragen – ob Liebesbriefe an die Demokratie\, Texte\, die euch mitnehmen\, oder eure Lieblingszitate und Musik: Kommt einfach (auch spontan) dazu. \nUm das Picknick und das Bündnis zu finanzieren\, organisieren wir auch einen Bücherflohmarkt.
URL:https://keinschrittnachrechts.de/event/ksnr-literaturpicknick-am-iqbal-ufer
LOCATION:Neckarort Iqbalufer\, Schurmannstraße\, Heidelberg\, 69115\, Germany
CATEGORIES:Kein Schritt nach Rechts
END:VEVENT
END:VCALENDAR