BEGIN:VCALENDAR
VERSION:2.0
PRODID:-//Kein Schritt nach rechts - ECPv6.15.20//NONSGML v1.0//EN
CALSCALE:GREGORIAN
METHOD:PUBLISH
X-ORIGINAL-URL:https://keinschrittnachrechts.de
X-WR-CALDESC:Veranstaltungen für Kein Schritt nach rechts
REFRESH-INTERVAL;VALUE=DURATION:PT1H
X-Robots-Tag:noindex
X-PUBLISHED-TTL:PT1H
BEGIN:VTIMEZONE
TZID:Europe/Berlin
BEGIN:DAYLIGHT
TZOFFSETFROM:+0100
TZOFFSETTO:+0200
TZNAME:CEST
DTSTART:20240331T010000
END:DAYLIGHT
BEGIN:STANDARD
TZOFFSETFROM:+0200
TZOFFSETTO:+0100
TZNAME:CET
DTSTART:20241027T010000
END:STANDARD
BEGIN:DAYLIGHT
TZOFFSETFROM:+0100
TZOFFSETTO:+0200
TZNAME:CEST
DTSTART:20250330T010000
END:DAYLIGHT
BEGIN:STANDARD
TZOFFSETFROM:+0200
TZOFFSETTO:+0100
TZNAME:CET
DTSTART:20251026T010000
END:STANDARD
BEGIN:DAYLIGHT
TZOFFSETFROM:+0100
TZOFFSETTO:+0200
TZNAME:CEST
DTSTART:20260329T010000
END:DAYLIGHT
BEGIN:STANDARD
TZOFFSETFROM:+0200
TZOFFSETTO:+0100
TZNAME:CET
DTSTART:20261025T010000
END:STANDARD
END:VTIMEZONE
BEGIN:VEVENT
DTSTART;TZID=Europe/Berlin:20250526T100000
DTEND;TZID=Europe/Berlin:20250526T140000
DTSTAMP:20260425T220255
CREATED:20250521T200716Z
LAST-MODIFIED:20250521T200716Z
UID:1945-1748253600-1748268000@keinschrittnachrechts.de
SUMMARY:Extern | Initiative Bezahlkarte Stoppen: Gutscheinausgabe
DESCRIPTION:Die Initiative Bezahlkarte stoppen in Heidelberg bittet um Beteiligung: \n„Wir benötigen Bargeld! \nKommt bei unserer Gutschein-Ausgabestelle vorbei und holt euch dort euren Soli-Einkaufsgutschein ab. Je nach Verfügbarkeit haben wir Gutscheine von Aldi\, DM\, Edeka\, Kaufland\, Lidl\, Rewe und Tegut. \nWo? Im Linken Büro in der Theodor-Körner-Str. 7 in Heidelberg \nWann? Zu den Öffnungszeiten Montags und Dienstags 10-14 Uhr und Mittwochs 13-18 Uhr \nDanke für eure Unterstützung💜“ \nPressemitteilung zum Gemeinderatsbeschluss zur Bezahlkarte: (Externer Link)\nhttps://www.heidelberg.de/HD/Presse/10_04_2025+bezahlkarte+fuer+gefluechtete.html
URL:https://keinschrittnachrechts.de/event/extern-initiative-bezahlkarte-stoppen-gutscheinausgabe
LOCATION:Theodor-Körner-Str. 7\, Theodor-Körner-Str. 7\, Heidelberg\, 69115\, Germany
CATEGORIES:Externe Veranstaltungen
END:VEVENT
BEGIN:VEVENT
DTSTART;TZID=Europe/Berlin:20250527T100000
DTEND;TZID=Europe/Berlin:20250527T140000
DTSTAMP:20260425T220255
CREATED:20250521T200843Z
LAST-MODIFIED:20250521T200843Z
UID:1950-1748340000-1748354400@keinschrittnachrechts.de
SUMMARY:Extern | Initiative Bezahlkarte Stoppen: Gutscheinausgabe
DESCRIPTION:Die Initiative Bezahlkarte stoppen in Heidelberg bittet um Beteiligung: \n„Wir benötigen Bargeld! \nKommt bei unserer Gutschein-Ausgabestelle vorbei und holt euch dort euren Soli-Einkaufsgutschein ab. Je nach Verfügbarkeit haben wir Gutscheine von Aldi\, DM\, Edeka\, Kaufland\, Lidl\, Rewe und Tegut. \nWo? Im Linken Büro in der Theodor-Körner-Str. 7 in Heidelberg \nWann? Zu den Öffnungszeiten Montags und Dienstags 10-14 Uhr und Mittwochs 13-18 Uhr \nDanke für eure Unterstützung💜“ \nPressemitteilung zum Gemeinderatsbeschluss zur Bezahlkarte: (Externer Link)\nhttps://www.heidelberg.de/HD/Presse/10_04_2025+bezahlkarte+fuer+gefluechtete.html
URL:https://keinschrittnachrechts.de/event/extern-initiative-bezahlkarte-stoppen-gutscheinausgabe-2
LOCATION:Theodor-Körner-Str. 7\, Theodor-Körner-Str. 7\, Heidelberg\, 69115\, Germany
CATEGORIES:Externe Veranstaltungen
END:VEVENT
BEGIN:VEVENT
DTSTART;TZID=Europe/Berlin:20250528T130000
DTEND;TZID=Europe/Berlin:20250528T180000
DTSTAMP:20260425T220255
CREATED:20250521T200921Z
LAST-MODIFIED:20250521T200921Z
UID:1952-1748437200-1748455200@keinschrittnachrechts.de
SUMMARY:Extern | Initiative Bezahlkarte Stoppen: Gutscheinausgabe
DESCRIPTION:Die Initiative Bezahlkarte stoppen in Heidelberg bittet um Beteiligung: \n„Wir benötigen Bargeld! \nKommt bei unserer Gutschein-Ausgabestelle vorbei und holt euch dort euren Soli-Einkaufsgutschein ab. Je nach Verfügbarkeit haben wir Gutscheine von Aldi\, DM\, Edeka\, Kaufland\, Lidl\, Rewe und Tegut. \nWo? Im Linken Büro in der Theodor-Körner-Str. 7 in Heidelberg \nWann? Zu den Öffnungszeiten Montags und Dienstags 10-14 Uhr und Mittwochs 13-18 Uhr \nDanke für eure Unterstützung💜“ \nPressemitteilung zum Gemeinderatsbeschluss zur Bezahlkarte: (Externer Link)\nhttps://www.heidelberg.de/HD/Presse/10_04_2025+bezahlkarte+fuer+gefluechtete.html
URL:https://keinschrittnachrechts.de/event/extern-initiative-bezahlkarte-stoppen-gutscheinausgabe-3
LOCATION:Theodor-Körner-Str. 7\, Theodor-Körner-Str. 7\, Heidelberg\, 69115\, Germany
CATEGORIES:Externe Veranstaltungen
END:VEVENT
END:VCALENDAR