BEGIN:VCALENDAR
VERSION:2.0
PRODID:-//Kein Schritt nach rechts - ECPv6.15.20//NONSGML v1.0//EN
CALSCALE:GREGORIAN
METHOD:PUBLISH
X-WR-CALNAME:Kein Schritt nach rechts
X-ORIGINAL-URL:https://keinschrittnachrechts.de
X-WR-CALDESC:Veranstaltungen für Kein Schritt nach rechts
REFRESH-INTERVAL;VALUE=DURATION:PT1H
X-Robots-Tag:noindex
X-PUBLISHED-TTL:PT1H
BEGIN:VTIMEZONE
TZID:Europe/Berlin
BEGIN:DAYLIGHT
TZOFFSETFROM:+0100
TZOFFSETTO:+0200
TZNAME:CEST
DTSTART:20250330T010000
END:DAYLIGHT
BEGIN:STANDARD
TZOFFSETFROM:+0200
TZOFFSETTO:+0100
TZNAME:CET
DTSTART:20251026T010000
END:STANDARD
BEGIN:DAYLIGHT
TZOFFSETFROM:+0100
TZOFFSETTO:+0200
TZNAME:CEST
DTSTART:20260329T010000
END:DAYLIGHT
BEGIN:STANDARD
TZOFFSETFROM:+0200
TZOFFSETTO:+0100
TZNAME:CET
DTSTART:20261025T010000
END:STANDARD
BEGIN:DAYLIGHT
TZOFFSETFROM:+0100
TZOFFSETTO:+0200
TZNAME:CEST
DTSTART:20270328T010000
END:DAYLIGHT
BEGIN:STANDARD
TZOFFSETFROM:+0200
TZOFFSETTO:+0100
TZNAME:CET
DTSTART:20271031T010000
END:STANDARD
END:VTIMEZONE
BEGIN:VEVENT
DTSTART;VALUE=DATE:20261002
DTEND;VALUE=DATE:20261003
DTSTAMP:20260422T134236
CREATED:20260327T195831Z
LAST-MODIFIED:20260327T201720Z
UID:3191-1790899200-1790985599@keinschrittnachrechts.de
SUMMARY:Extern | SAVE THE DATE: Lange Nacht der Demokratie
DESCRIPTION:Am 2. Oktober 2026 findet – initiiert vom Volkshochschulverband Baden-Württemberg – die zweite landesweite „Lange Nacht der Demokratie“ statt: Landesweit wird in Städten und Gemeinden in vielfältigen Formaten über Demokratie diskutiert\, philosophiert und gestritten. Auch die PHHD wird sich mit einem eigenen Angebot beteiligen; unterstützt wird sie dabei etwa von Mosaik Deutschland\, dem Queer Space sowie der Landeszentrale für politische Bildung. \nDas geplante Angebot wird sich insbesondere an Schüler:innen der Klassen 5 bis 10\, aber auch an Lehrpersonen und weitere Interessierte richten. Ziel ist es\, Demokratie erfahrbar zu machen und Räume für Austausch\, Beteiligung und Diskussion zu eröffnen. \nWeitere Informationen (externer Link): \nhttps://events.ph-heidelberg.de/event/lange-nacht-der-demokratie
URL:https://keinschrittnachrechts.de/event/extern-lange-nacht-der-demokratie
LOCATION:Pädagogische Hochschule Heidelberg\, Keplerstraße 87\, Heidelberg\, 69120\, Germany
CATEGORIES:Externe Veranstaltungen
END:VEVENT
END:VCALENDAR