BEGIN:VCALENDAR
VERSION:2.0
PRODID:-//Kein Schritt nach rechts - ECPv6.15.20//NONSGML v1.0//EN
CALSCALE:GREGORIAN
METHOD:PUBLISH
X-WR-CALNAME:Kein Schritt nach rechts
X-ORIGINAL-URL:https://keinschrittnachrechts.de
X-WR-CALDESC:Veranstaltungen für Kein Schritt nach rechts
REFRESH-INTERVAL;VALUE=DURATION:PT1H
X-Robots-Tag:noindex
X-PUBLISHED-TTL:PT1H
BEGIN:VTIMEZONE
TZID:Europe/Berlin
BEGIN:DAYLIGHT
TZOFFSETFROM:+0100
TZOFFSETTO:+0200
TZNAME:CEST
DTSTART:20250330T010000
END:DAYLIGHT
BEGIN:STANDARD
TZOFFSETFROM:+0200
TZOFFSETTO:+0100
TZNAME:CET
DTSTART:20251026T010000
END:STANDARD
BEGIN:DAYLIGHT
TZOFFSETFROM:+0100
TZOFFSETTO:+0200
TZNAME:CEST
DTSTART:20260329T010000
END:DAYLIGHT
BEGIN:STANDARD
TZOFFSETFROM:+0200
TZOFFSETTO:+0100
TZNAME:CET
DTSTART:20261025T010000
END:STANDARD
BEGIN:DAYLIGHT
TZOFFSETFROM:+0100
TZOFFSETTO:+0200
TZNAME:CEST
DTSTART:20270328T010000
END:DAYLIGHT
BEGIN:STANDARD
TZOFFSETFROM:+0200
TZOFFSETTO:+0100
TZNAME:CET
DTSTART:20271031T010000
END:STANDARD
END:VTIMEZONE
BEGIN:VEVENT
DTSTART;TZID=Europe/Berlin:20260527T190000
DTEND;TZID=Europe/Berlin:20260527T190000
DTSTAMP:20260422T035935
CREATED:20260411T115858Z
LAST-MODIFIED:20260411T115858Z
UID:3235-1779908400-1779908400@keinschrittnachrechts.de
SUMMARY:Extern | Berufsverbote - Kein Relikt der Vergangenheit
DESCRIPTION:Lisa Pöttinger (Autorin\, Aktivistin): Berufsverbote – Kein Relikt der Vergangenheit
URL:https://keinschrittnachrechts.de/event/extern-berufsverbote-kein-relikt-der-vergangenheit
LOCATION:WeltHaus Heidelberg (neu)\, Kurfürsten Anlage 25 (am Römerkreis)\, Heidelberg
CATEGORIES:Externe Veranstaltungen
END:VEVENT
END:VCALENDAR