BEGIN:VCALENDAR
VERSION:2.0
PRODID:-//Kein Schritt nach rechts - ECPv6.15.20//NONSGML v1.0//EN
CALSCALE:GREGORIAN
METHOD:PUBLISH
X-WR-CALNAME:Kein Schritt nach rechts
X-ORIGINAL-URL:https://keinschrittnachrechts.de
X-WR-CALDESC:Veranstaltungen für Kein Schritt nach rechts
REFRESH-INTERVAL;VALUE=DURATION:PT1H
X-Robots-Tag:noindex
X-PUBLISHED-TTL:PT1H
BEGIN:VTIMEZONE
TZID:Europe/Berlin
BEGIN:DAYLIGHT
TZOFFSETFROM:+0100
TZOFFSETTO:+0200
TZNAME:CEST
DTSTART:20240331T010000
END:DAYLIGHT
BEGIN:STANDARD
TZOFFSETFROM:+0200
TZOFFSETTO:+0100
TZNAME:CET
DTSTART:20241027T010000
END:STANDARD
BEGIN:DAYLIGHT
TZOFFSETFROM:+0100
TZOFFSETTO:+0200
TZNAME:CEST
DTSTART:20250330T010000
END:DAYLIGHT
BEGIN:STANDARD
TZOFFSETFROM:+0200
TZOFFSETTO:+0100
TZNAME:CET
DTSTART:20251026T010000
END:STANDARD
BEGIN:DAYLIGHT
TZOFFSETFROM:+0100
TZOFFSETTO:+0200
TZNAME:CEST
DTSTART:20260329T010000
END:DAYLIGHT
BEGIN:STANDARD
TZOFFSETFROM:+0200
TZOFFSETTO:+0100
TZNAME:CET
DTSTART:20261025T010000
END:STANDARD
END:VTIMEZONE
BEGIN:VEVENT
DTSTART;TZID=Europe/Berlin:20250524T083000
DTEND;TZID=Europe/Berlin:20250524T083000
DTSTAMP:20260425T201743
CREATED:20250522T181546Z
LAST-MODIFIED:20250522T182233Z
UID:1973-1748075400-1748075400@keinschrittnachrechts.de
SUMMARY:Extern | Seebrücke: Kundgebung:  Das individuelle Asylrecht ist nicht debattierbar
DESCRIPTION:Um 8:30 Uhr findet auf dem Uniplatz von der Seebrücke Heidelberg eine Kundgebung mit Titel ‚Das individuelle Asylrecht ist nicht debattierbar‘ statt. \n  \n 
URL:https://keinschrittnachrechts.de/event/extern-seebruecke-kundgebung-das-individuelle-asylrecht-ist-nicht-debattierbar
LOCATION:Uniplatz\, Uniplatz\, Heidelberg
CATEGORIES:Externe Veranstaltungen
END:VEVENT
END:VCALENDAR