BEGIN:VCALENDAR
VERSION:2.0
PRODID:-//Kein Schritt nach rechts - ECPv6.15.20//NONSGML v1.0//EN
CALSCALE:GREGORIAN
METHOD:PUBLISH
X-ORIGINAL-URL:https://keinschrittnachrechts.de
X-WR-CALDESC:Veranstaltungen für Kein Schritt nach rechts
REFRESH-INTERVAL;VALUE=DURATION:PT1H
X-Robots-Tag:noindex
X-PUBLISHED-TTL:PT1H
BEGIN:VTIMEZONE
TZID:Europe/Berlin
BEGIN:DAYLIGHT
TZOFFSETFROM:+0100
TZOFFSETTO:+0200
TZNAME:CEST
DTSTART:20240331T010000
END:DAYLIGHT
BEGIN:STANDARD
TZOFFSETFROM:+0200
TZOFFSETTO:+0100
TZNAME:CET
DTSTART:20241027T010000
END:STANDARD
BEGIN:DAYLIGHT
TZOFFSETFROM:+0100
TZOFFSETTO:+0200
TZNAME:CEST
DTSTART:20250330T010000
END:DAYLIGHT
BEGIN:STANDARD
TZOFFSETFROM:+0200
TZOFFSETTO:+0100
TZNAME:CET
DTSTART:20251026T010000
END:STANDARD
BEGIN:DAYLIGHT
TZOFFSETFROM:+0100
TZOFFSETTO:+0200
TZNAME:CEST
DTSTART:20260329T010000
END:DAYLIGHT
BEGIN:STANDARD
TZOFFSETFROM:+0200
TZOFFSETTO:+0100
TZNAME:CET
DTSTART:20261025T010000
END:STANDARD
END:VTIMEZONE
BEGIN:VEVENT
DTSTART;TZID=Europe/Berlin:20250512T180000
DTEND;TZID=Europe/Berlin:20250512T180000
DTSTAMP:20260425T184201
CREATED:20250507T160551Z
LAST-MODIFIED:20250507T160551Z
UID:1876-1747072800-1747072800@keinschrittnachrechts.de
SUMMARY:KSNR | Treffen des Arbeitskreises Öffentlichkeitsarbeit
DESCRIPTION:Am Montag\, dem 12. Mai um 18 Uhr trifft sich der Arbeitskreis Öffentlichkeitsarbeit. Für weitere Informationen und falls Du Lust hast\, zum Treffen dazuzukommen\, schreibe uns gerne eine Mail. \nWir freuen uns immer über Interesse und neue Menschen!
URL:https://keinschrittnachrechts.de/event/ksnr-treffen-des-arbeitskreises-oeffentlichkeitsarbeit-5
CATEGORIES:Kein Schritt nach Rechts
END:VEVENT
BEGIN:VEVENT
DTSTART;TZID=Europe/Berlin:20250514T193000
DTEND;TZID=Europe/Berlin:20250514T193000
DTSTAMP:20260425T184201
CREATED:20250417T145313Z
LAST-MODIFIED:20250417T145313Z
UID:1750-1747251000-1747251000@keinschrittnachrechts.de
SUMMARY:KSNR | Treffen des Arbeitskreises Bildung
DESCRIPTION:Am Dienstag\, dem 14. Mai\, 19:30 Uhr trifft sich der Arbeitskreis Bildung. Für weitere Informationen und falls Du Lust hast\, zum Treffen dazuzukommen\, schreibe uns gerne eine Mail. \nWir freuen uns immer über Interesse und neue Menschen!
URL:https://keinschrittnachrechts.de/event/ksnr-treffen-des-arbeitskreises-bildung-5
CATEGORIES:Kein Schritt nach Rechts
END:VEVENT
BEGIN:VEVENT
DTSTART;TZID=Europe/Berlin:20250519T193000
DTEND;TZID=Europe/Berlin:20250519T193000
DTSTAMP:20260425T184201
CREATED:20250425T155443Z
LAST-MODIFIED:20250512T133022Z
UID:1760-1747683000-1747683000@keinschrittnachrechts.de
SUMMARY:KSNR | Treffen des Arbeitskreises Kultur
DESCRIPTION:  \nAm Montag\, dem 19.05. um 19:30 Uhr trifft sich der Arbeitskreis Kultur wieder nach einer längeren Pause! Bei den OnBoarding-Veranstaltungen im Februar und März haben sich einige für diesen Arbeitskreis interessiert und ebenso bei der Feier zum Bündnis-Jubiläum am 9. April. \nFür weitere Informationen und falls Du Lust hast\, zum Treffen dazuzukommen\, schreibe uns gerne eine Mail. \nWir freuen uns über weitere Interessierte und Neue! :))
URL:https://keinschrittnachrechts.de/event/ksnr-treffen-des-arbeitskreises-kultur
CATEGORIES:Kein Schritt nach Rechts
END:VEVENT
END:VCALENDAR