BEGIN:VCALENDAR
VERSION:2.0
PRODID:-//Kein Schritt nach rechts - ECPv6.15.20//NONSGML v1.0//EN
CALSCALE:GREGORIAN
METHOD:PUBLISH
X-WR-CALNAME:Kein Schritt nach rechts
X-ORIGINAL-URL:https://keinschrittnachrechts.de
X-WR-CALDESC:Veranstaltungen für Kein Schritt nach rechts
REFRESH-INTERVAL;VALUE=DURATION:PT1H
X-Robots-Tag:noindex
X-PUBLISHED-TTL:PT1H
BEGIN:VTIMEZONE
TZID:Europe/Berlin
BEGIN:DAYLIGHT
TZOFFSETFROM:+0100
TZOFFSETTO:+0200
TZNAME:CEST
DTSTART:20240331T010000
END:DAYLIGHT
BEGIN:STANDARD
TZOFFSETFROM:+0200
TZOFFSETTO:+0100
TZNAME:CET
DTSTART:20241027T010000
END:STANDARD
BEGIN:DAYLIGHT
TZOFFSETFROM:+0100
TZOFFSETTO:+0200
TZNAME:CEST
DTSTART:20250330T010000
END:DAYLIGHT
BEGIN:STANDARD
TZOFFSETFROM:+0200
TZOFFSETTO:+0100
TZNAME:CET
DTSTART:20251026T010000
END:STANDARD
BEGIN:DAYLIGHT
TZOFFSETFROM:+0100
TZOFFSETTO:+0200
TZNAME:CEST
DTSTART:20260329T010000
END:DAYLIGHT
BEGIN:STANDARD
TZOFFSETFROM:+0200
TZOFFSETTO:+0100
TZNAME:CET
DTSTART:20261025T010000
END:STANDARD
END:VTIMEZONE
BEGIN:VEVENT
DTSTART;TZID=Europe/Berlin:20250203T180000
DTEND;TZID=Europe/Berlin:20250203T180000
DTSTAMP:20260425T232642
CREATED:20250202T161153Z
LAST-MODIFIED:20250202T161153Z
UID:1358-1738605600-1738605600@keinschrittnachrechts.de
SUMMARY:KSNR | Treffen des Arbeitskreises Events
DESCRIPTION:Am Montag\, dem 03.02 um 18.00 Uhr trifft sich der Arbeitskreis Events. Für weitere Informationen und falls Du Lust hast\, zum Treffen dazuzukommen\, schreibe uns gerne eine Mail. \nWir freuen uns immer über Interesse und neue Menschen!
URL:https://keinschrittnachrechts.de/event/ksnr-treffen-des-arbeitskreises-events
CATEGORIES:Kein Schritt nach Rechts
END:VEVENT
BEGIN:VEVENT
DTSTART;TZID=Europe/Berlin:20250213T193000
DTEND;TZID=Europe/Berlin:20250213T193000
DTSTAMP:20260425T232642
CREATED:20250202T161533Z
LAST-MODIFIED:20250214T082431Z
UID:1360-1739475000-1739475000@keinschrittnachrechts.de
SUMMARY:KSNR | Treffen des Arbeitskreises Aktion
DESCRIPTION:Jeden dritten Donnerstag\, um 19:30 Uhr trifft sich der Arbeitskreis Aktion. Für weitere Informationen und falls Du Lust hast\, zum Treffen dazuzukommen\, schreibe uns gerne eine Mail. \nWir freuen uns immer über Interesse und neue Menschen!
URL:https://keinschrittnachrechts.de/event/ksnr-treffen-des-arbeitskreises-aktion
CATEGORIES:Kein Schritt nach Rechts
END:VEVENT
BEGIN:VEVENT
DTSTART;TZID=Europe/Berlin:20250224T190000
DTEND;TZID=Europe/Berlin:20250224T190000
DTSTAMP:20260425T232642
CREATED:20250218T204728Z
LAST-MODIFIED:20250218T204728Z
UID:1486-1740423600-1740423600@keinschrittnachrechts.de
SUMMARY:KSNR | Treffen des Arbeitskreises Öffentlichkeitsarbeit
DESCRIPTION:Am Montag\, dem 24. Februar um 19.00 Uhr trifft sich der Arbeitskreis Öffentlichkeitsarbeit. Für weitere Informationen und falls Du Lust hast\, zum Treffen dazuzukommen\, schreibe uns gerne eine Mail. \nWir freuen uns immer über Interesse und neue Menschen!
URL:https://keinschrittnachrechts.de/event/ksnr-treffen-des-arbeitskreises-oeffentlichkeitsarbeit
CATEGORIES:Kein Schritt nach Rechts
END:VEVENT
BEGIN:VEVENT
DTSTART;TZID=Europe/Berlin:20250224T193000
DTEND;TZID=Europe/Berlin:20250224T193000
DTSTAMP:20260425T232642
CREATED:20250218T204527Z
LAST-MODIFIED:20250218T204527Z
UID:1484-1740425400-1740425400@keinschrittnachrechts.de
SUMMARY:KSNR | Veranstaltung: Treffen des AK Events
DESCRIPTION:Am Montag\, den 24. Februar um 19:30 Uhr trifft sich der AK Events. Für weitere Informationen und falls Du Lust hast\, zum Treffen dazuzukommen\, schreibe gerne eine Mail an info@keinschrittnachrechts.de oder eine Nachricht über Instagram & Co. Wir freuen uns u.a. immer über Menschen\, die uns bei der Erstellung von Infomaterial\, dem Schneiden und Gestalten von Reels sowie Social Media Content für das Bündnis unterstützen können.
URL:https://keinschrittnachrechts.de/event/ksnr-veranstaltung-treffen-des-ak-events-2
CATEGORIES:Kein Schritt nach Rechts
END:VEVENT
END:VCALENDAR