BEGIN:VCALENDAR
VERSION:2.0
PRODID:-//Kein Schritt nach rechts - ECPv6.15.20//NONSGML v1.0//EN
CALSCALE:GREGORIAN
METHOD:PUBLISH
X-ORIGINAL-URL:https://keinschrittnachrechts.de
X-WR-CALDESC:Veranstaltungen für Kein Schritt nach rechts
REFRESH-INTERVAL;VALUE=DURATION:PT1H
X-Robots-Tag:noindex
X-PUBLISHED-TTL:PT1H
BEGIN:VTIMEZONE
TZID:Europe/Berlin
BEGIN:DAYLIGHT
TZOFFSETFROM:+0100
TZOFFSETTO:+0200
TZNAME:CEST
DTSTART:20230326T010000
END:DAYLIGHT
BEGIN:STANDARD
TZOFFSETFROM:+0200
TZOFFSETTO:+0100
TZNAME:CET
DTSTART:20231029T010000
END:STANDARD
BEGIN:DAYLIGHT
TZOFFSETFROM:+0100
TZOFFSETTO:+0200
TZNAME:CEST
DTSTART:20240331T010000
END:DAYLIGHT
BEGIN:STANDARD
TZOFFSETFROM:+0200
TZOFFSETTO:+0100
TZNAME:CET
DTSTART:20241027T010000
END:STANDARD
BEGIN:DAYLIGHT
TZOFFSETFROM:+0100
TZOFFSETTO:+0200
TZNAME:CEST
DTSTART:20250330T010000
END:DAYLIGHT
BEGIN:STANDARD
TZOFFSETFROM:+0200
TZOFFSETTO:+0100
TZNAME:CET
DTSTART:20251026T010000
END:STANDARD
END:VTIMEZONE
BEGIN:VEVENT
DTSTART;TZID=Europe/Berlin:20241202T180000
DTEND;TZID=Europe/Berlin:20241202T180000
DTSTAMP:20260426T023756
CREATED:20241127T161238Z
LAST-MODIFIED:20241127T161607Z
UID:942-1733162400-1733162400@keinschrittnachrechts.de
SUMMARY:KSNR | Veranstaltung: Treffen des AK Events
DESCRIPTION:Am Montag\, den 2. Dezember um 18 Uhr trifft sich der AK Events. Für weitere Informationen und falls Du Lust hast\, zum Treffen dazuzukommen\, schreibe gerne eine Mail an info@keinschrittnachrechts.de oder eine Nachricht über Instagram & Co. Wir freuen uns u.a. immer über Menschen\, die uns bei der Erstellung von Infomaterial\, dem Schneiden und Gestalten von Reels sowie Social Media Content für das Bündnis unterstützen können.
URL:https://keinschrittnachrechts.de/event/ksnr-veranstaltung-treffen-des-ak-events
CATEGORIES:Kein Schritt nach Rechts
END:VEVENT
BEGIN:VEVENT
DTSTART;TZID=Europe/Berlin:20241213T180000
DTEND;TZID=Europe/Berlin:20241213T180000
DTSTAMP:20260426T023756
CREATED:20241127T161538Z
LAST-MODIFIED:20241127T161538Z
UID:945-1734112800-1734112800@keinschrittnachrechts.de
SUMMARY:KSNR | Veranstaltung: Treffen des AK Bildung
DESCRIPTION:Am Freitag\, den 13. Dezember um 18.00 Uhr findet ein Treffen des AK Bildung statt. Für weitere Informationen und falls Du Lust hast\, zum Treffen dazuzukommen\, schreibe gerne eine Mail an info@keinschrittnachrechts.de oder eine Nachricht über Instagram & Co.
URL:https://keinschrittnachrechts.de/event/ksnr-veranstaltung-treffen-des-ak-bildung-4
CATEGORIES:Kein Schritt nach Rechts
END:VEVENT
BEGIN:VEVENT
DTSTART;TZID=Europe/Berlin:20241219T193000
DTEND;TZID=Europe/Berlin:20241219T193000
DTSTAMP:20260426T023756
CREATED:20241128T223449Z
LAST-MODIFIED:20241128T223539Z
UID:961-1734636600-1734636600@keinschrittnachrechts.de
SUMMARY:KSNR | Treffen des Arbeitskreis Aktion
DESCRIPTION:Am Donnerstag\, den 19. Dezember 2024 um 19.30 Uhr findet ein Treffen des Arbeitskreis Aktion statt. Für weitere Informationen und falls Du Lust hast\, zum Treffen dazuzukommen\, schreibe uns gerne eine Mail.  \nWir freuen uns immer über Interesse und neue Menschen!
URL:https://keinschrittnachrechts.de/event/ksnr-veranstaltung-treffen-des-ak-aktion
CATEGORIES:Kein Schritt nach Rechts
END:VEVENT
END:VCALENDAR