BEGIN:VCALENDAR
VERSION:2.0
PRODID:-//Kein Schritt nach rechts - ECPv6.15.20//NONSGML v1.0//EN
CALSCALE:GREGORIAN
METHOD:PUBLISH
X-WR-CALNAME:Kein Schritt nach rechts
X-ORIGINAL-URL:https://keinschrittnachrechts.de
X-WR-CALDESC:Veranstaltungen für Kein Schritt nach rechts
REFRESH-INTERVAL;VALUE=DURATION:PT1H
X-Robots-Tag:noindex
X-PUBLISHED-TTL:PT1H
BEGIN:VTIMEZONE
TZID:Europe/Berlin
BEGIN:DAYLIGHT
TZOFFSETFROM:+0100
TZOFFSETTO:+0200
TZNAME:CEST
DTSTART:20230326T010000
END:DAYLIGHT
BEGIN:STANDARD
TZOFFSETFROM:+0200
TZOFFSETTO:+0100
TZNAME:CET
DTSTART:20231029T010000
END:STANDARD
BEGIN:DAYLIGHT
TZOFFSETFROM:+0100
TZOFFSETTO:+0200
TZNAME:CEST
DTSTART:20240331T010000
END:DAYLIGHT
BEGIN:STANDARD
TZOFFSETFROM:+0200
TZOFFSETTO:+0100
TZNAME:CET
DTSTART:20241027T010000
END:STANDARD
BEGIN:DAYLIGHT
TZOFFSETFROM:+0100
TZOFFSETTO:+0200
TZNAME:CEST
DTSTART:20250330T010000
END:DAYLIGHT
BEGIN:STANDARD
TZOFFSETFROM:+0200
TZOFFSETTO:+0100
TZNAME:CET
DTSTART:20251026T010000
END:STANDARD
END:VTIMEZONE
BEGIN:VEVENT
DTSTART;TZID=Europe/Berlin:20241119T193000
DTEND;TZID=Europe/Berlin:20241119T193000
DTSTAMP:20260426T041150
CREATED:20241115T191322Z
LAST-MODIFIED:20241115T191840Z
UID:791-1732044600-1732044600@keinschrittnachrechts.de
SUMMARY:KSNR | Veranstaltung: Treffen des AK Bildung
DESCRIPTION:Am Dienstag\, den 19. November um 19.30 Uhr findet ein Treffen des AK Bildung statt.\nFür weitere Informationen und falls Du Lust hast\, zum Treffen dazuzukommen\, schreibe gerne an: info@keinschrittnachrechts.de\nWir freuen uns immer über Unterstützung und neue Menschen!
URL:https://keinschrittnachrechts.de/event/ksnr-veranstaltung-treffen-des-ak-bildung-2
CATEGORIES:Kein Schritt nach Rechts
END:VEVENT
BEGIN:VEVENT
DTSTART;TZID=Europe/Berlin:20241126T193000
DTEND;TZID=Europe/Berlin:20241126T193000
DTSTAMP:20260426T041150
CREATED:20241121T164029Z
LAST-MODIFIED:20241121T164029Z
UID:878-1732649400-1732649400@keinschrittnachrechts.de
SUMMARY:KSNR | Veranstaltung: Treffen des AK Bildung
DESCRIPTION:Am Dienstag\, den 26. November um 19.30 Uhr findet ein Treffen des AK Bildung statt.\nFür weitere Informationen und falls Du Lust hast\, zum Treffen dazuzukommen\, schreibe gerne an: info@keinschrittnachrechts.de\nWir freuen uns immer über Unterstützung und neue Menschen!
URL:https://keinschrittnachrechts.de/event/ksnr-veranstaltung-treffen-des-ak-bildung-3
CATEGORIES:Kein Schritt nach Rechts
END:VEVENT
BEGIN:VEVENT
DTSTART;TZID=Europe/Berlin:20241128T190000
DTEND;TZID=Europe/Berlin:20241128T190000
DTSTAMP:20260426T041150
CREATED:20241121T164344Z
LAST-MODIFIED:20241121T164344Z
UID:880-1732820400-1732820400@keinschrittnachrechts.de
SUMMARY:KSNR | Veranstaltung: Treffen des AK Aktionen
DESCRIPTION:Am Donnerstag\, den 28. November um 19 Uhr findet ein Treffen des AK Aktionen statt. Für weitere Informationen und falls Du Lust hast\, zum Treffen dazuzukommen\, schreibe gerne eine Mail an info@keinschrittnachrechts.de oder eine Nachricht über Instagram.
URL:https://keinschrittnachrechts.de/event/ksnr-veranstaltung-treffen-des-ak-aktionen
CATEGORIES:Kein Schritt nach Rechts
END:VEVENT
END:VCALENDAR