BEGIN:VCALENDAR
VERSION:2.0
PRODID:-//Kein Schritt nach rechts - ECPv6.15.20//NONSGML v1.0//EN
CALSCALE:GREGORIAN
METHOD:PUBLISH
X-WR-CALNAME:Kein Schritt nach rechts
X-ORIGINAL-URL:https://keinschrittnachrechts.de
X-WR-CALDESC:Veranstaltungen für Kein Schritt nach rechts
REFRESH-INTERVAL;VALUE=DURATION:PT1H
X-Robots-Tag:noindex
X-PUBLISHED-TTL:PT1H
BEGIN:VTIMEZONE
TZID:Europe/Berlin
BEGIN:DAYLIGHT
TZOFFSETFROM:+0100
TZOFFSETTO:+0200
TZNAME:CEST
DTSTART:20240331T010000
END:DAYLIGHT
BEGIN:STANDARD
TZOFFSETFROM:+0200
TZOFFSETTO:+0100
TZNAME:CET
DTSTART:20241027T010000
END:STANDARD
BEGIN:DAYLIGHT
TZOFFSETFROM:+0100
TZOFFSETTO:+0200
TZNAME:CEST
DTSTART:20250330T010000
END:DAYLIGHT
BEGIN:STANDARD
TZOFFSETFROM:+0200
TZOFFSETTO:+0100
TZNAME:CET
DTSTART:20251026T010000
END:STANDARD
BEGIN:DAYLIGHT
TZOFFSETFROM:+0100
TZOFFSETTO:+0200
TZNAME:CEST
DTSTART:20260329T010000
END:DAYLIGHT
BEGIN:STANDARD
TZOFFSETFROM:+0200
TZOFFSETTO:+0100
TZNAME:CET
DTSTART:20261025T010000
END:STANDARD
END:VTIMEZONE
BEGIN:VEVENT
DTSTART;TZID=Europe/Berlin:20250718T170000
DTEND;TZID=Europe/Berlin:20250718T170000
DTSTAMP:20260425T163833
CREATED:20250717T093154Z
LAST-MODIFIED:20250717T093154Z
UID:2140-1752858000-1752858000@keinschrittnachrechts.de
SUMMARY:Extern | Demo & Kundgebung: Die Rechten lösen keine Krisen
DESCRIPTION:Die AfD will am 18.07. im Emmertsgrund einen Bürgerdialog veranstalten und den Leuten ihre spalterische Politik als angebliche Alternative verkaufen. Wir halten dagegen!\n🚩 Geht mit uns im Emmertsgrund auf die Straße und seid laut gegen rassistische und arbeiter:innenfeindliche Politik.\n📍 Wir treffen uns am 18.07. um 17 Uhr auf dem Alexander-Mitscherlich-Platz (Haltestelle Mombertplatz) und laufen von dort aus als Demonstration zum Bürgerhaus\, in dem die AfD ihre Veranstaltung abhält.\nDort findet eine Gegenkundgebung statt\, zu der es demnächst mehr Infos gibt.\n🔥 Kein Platz für rechte Hetze!
URL:https://keinschrittnachrechts.de/event/extern-demo-kundgebung-die-rechten-loesen-keine-krisen
LOCATION:Mombertplatz\, Mombertplatz\, Heidelberg\, 69126\, Germany
CATEGORIES:Externe Veranstaltungen
END:VEVENT
BEGIN:VEVENT
DTSTART;TZID=Europe/Berlin:20250725T190000
DTEND;TZID=Europe/Berlin:20250725T190000
DTSTAMP:20260425T163833
CREATED:20250717T092130Z
LAST-MODIFIED:20250722T085849Z
UID:2137-1753470000-1753470000@keinschrittnachrechts.de
SUMMARY:Extern | Kneipe mit Vortrag: Basics des Antimilitarismus
DESCRIPTION:📢 Waffeln statt Waffen! Basics des Antimilitarismus \n🧇 Waffeln ab 19 Uhr\n🧑🏽‍🏫 Vortrag ab 19:30 Uhr \nEinstieg\, Überblick & Diskussion \n🤔 Warum Antimilitarismus?\nWie hängt Antimilitarimus mit Klima\, Antifaschismus\, Feminismus & globalen Kämpfen zusammen?\nWas heißt das konkret für uns heute hier in Heidelberg und anders wo? \n🤠 Eine verständliche\, wütende und motivierende Einführung. die Lust machen soll auf mehr – kritisch\, transnational & praktisch!
URL:https://keinschrittnachrechts.de/event/extern-kneipe-mit-vortrag-basics-de-antimilitarismus
LOCATION:Rabatz  (Zugang von der John-Zenger-Str.)\, Rheinstr. 4\, Heidelberg\, 69115
CATEGORIES:Externe Veranstaltungen
END:VEVENT
END:VCALENDAR