BEGIN:VCALENDAR
VERSION:2.0
PRODID:-//Kein Schritt nach rechts - ECPv6.15.20//NONSGML v1.0//EN
CALSCALE:GREGORIAN
METHOD:PUBLISH
X-ORIGINAL-URL:https://keinschrittnachrechts.de
X-WR-CALDESC:Veranstaltungen für Kein Schritt nach rechts
REFRESH-INTERVAL;VALUE=DURATION:PT1H
X-Robots-Tag:noindex
X-PUBLISHED-TTL:PT1H
BEGIN:VTIMEZONE
TZID:Europe/Berlin
BEGIN:DAYLIGHT
TZOFFSETFROM:+0100
TZOFFSETTO:+0200
TZNAME:CEST
DTSTART:20240331T010000
END:DAYLIGHT
BEGIN:STANDARD
TZOFFSETFROM:+0200
TZOFFSETTO:+0100
TZNAME:CET
DTSTART:20241027T010000
END:STANDARD
BEGIN:DAYLIGHT
TZOFFSETFROM:+0100
TZOFFSETTO:+0200
TZNAME:CEST
DTSTART:20250330T010000
END:DAYLIGHT
BEGIN:STANDARD
TZOFFSETFROM:+0200
TZOFFSETTO:+0100
TZNAME:CET
DTSTART:20251026T010000
END:STANDARD
BEGIN:DAYLIGHT
TZOFFSETFROM:+0100
TZOFFSETTO:+0200
TZNAME:CEST
DTSTART:20260329T010000
END:DAYLIGHT
BEGIN:STANDARD
TZOFFSETFROM:+0200
TZOFFSETTO:+0100
TZNAME:CET
DTSTART:20261025T010000
END:STANDARD
END:VTIMEZONE
BEGIN:VEVENT
DTSTART;TZID=Europe/Berlin:20251027T190000
DTEND;TZID=Europe/Berlin:20251027T210000
DTSTAMP:20260425T133136
CREATED:20251023T112942Z
LAST-MODIFIED:20251023T112942Z
UID:2515-1761591600-1761598800@keinschrittnachrechts.de
SUMMARY:Extern | Inklusiver Filmabend
DESCRIPTION:Das Aktionsbündnis Inklusion trifft sich und Du bist willkommen! \nWir laden ein zum gemeinsamen Filmschauen 📺 \n📌 Wann? 27.Oktober 19:00 – 21:00 Uhr\n📍 Wo? Im Kulturfenster\, Heidelberg Kirchstraße 16\n🚪Freier Eintritt \nWas erwartet dich? \nWir wollen zusammen einen Überraschungsfilm schauen und zusammen über den Film sprechen. Spannender Austausch rund um Inklusion und alles\, was euch auf dem Herzen liegt. \nUnd wie immer: \nNette und offene Menschen.\nEine gemütliche Atmosphäre. \nWir freuen uns\, Dich kennenzulernen! \n*Barrierefreiheit*\n♿ rollstuhlgerechter Zugang zur Bar\, Garderobe\, Foyer\, Innenhof\n🚾 rollstuhlgerechte Toilette\n🎦 Film mit Audiodeskription\n🍿 Popcorn\, kalte Getränke an der Bar\n🦺 Awarenesskonzept: Ruheort\, Stimming Toys\, Ansprechpersonen…\n📍Raum: gute Ausleuchtung\n🚌 Bushaltestelle und Hauptbahnhof in der Nähe \nNoch Fragen oder Wünsche? Brauchst du noch etwas?\n💌 Schreib uns: aktioninklusionhd@disroot.org \n \n \nWeitere Informationen (externer Link):  \nhttps://klimanetz-heidelberg.de/inklusiver-filmabend-am-27-oktober-2025-in-heidelberg/
URL:https://keinschrittnachrechts.de/event/extern-inklusiver-filmabend
LOCATION:Kulturfenster\, Kirchstraße 16\, Heidelberg\, Germany
CATEGORIES:Externe Veranstaltungen
END:VEVENT
END:VCALENDAR