BEGIN:VCALENDAR
VERSION:2.0
PRODID:-//Kein Schritt nach rechts - ECPv6.15.20//NONSGML v1.0//EN
CALSCALE:GREGORIAN
METHOD:PUBLISH
X-ORIGINAL-URL:https://keinschrittnachrechts.de
X-WR-CALDESC:Veranstaltungen für Kein Schritt nach rechts
REFRESH-INTERVAL;VALUE=DURATION:PT1H
X-Robots-Tag:noindex
X-PUBLISHED-TTL:PT1H
BEGIN:VTIMEZONE
TZID:Europe/Berlin
BEGIN:DAYLIGHT
TZOFFSETFROM:+0100
TZOFFSETTO:+0200
TZNAME:CEST
DTSTART:20240331T010000
END:DAYLIGHT
BEGIN:STANDARD
TZOFFSETFROM:+0200
TZOFFSETTO:+0100
TZNAME:CET
DTSTART:20241027T010000
END:STANDARD
BEGIN:DAYLIGHT
TZOFFSETFROM:+0100
TZOFFSETTO:+0200
TZNAME:CEST
DTSTART:20250330T010000
END:DAYLIGHT
BEGIN:STANDARD
TZOFFSETFROM:+0200
TZOFFSETTO:+0100
TZNAME:CET
DTSTART:20251026T010000
END:STANDARD
BEGIN:DAYLIGHT
TZOFFSETFROM:+0100
TZOFFSETTO:+0200
TZNAME:CEST
DTSTART:20260329T010000
END:DAYLIGHT
BEGIN:STANDARD
TZOFFSETFROM:+0200
TZOFFSETTO:+0100
TZNAME:CET
DTSTART:20261025T010000
END:STANDARD
END:VTIMEZONE
BEGIN:VEVENT
DTSTART;TZID=Europe/Berlin:20251005T150000
DTEND;TZID=Europe/Berlin:20251005T180000
DTSTAMP:20260425T131546
CREATED:20250926T102932Z
LAST-MODIFIED:20250930T205313Z
UID:2383-1759676400-1759687200@keinschrittnachrechts.de
SUMMARY:KSNR | Demo-Plakate malen
DESCRIPTION:Du willst bereit sein\, für die nächste Demo? Du siehst immer coole Plakate und denkst dir: „Will ich auch!“? Dann sei am 5. Oktober dabei\, wenn wir gemeinsam Plakate malen! \nWo? Laden für Kultur und Politik\, Kaiserstraße 62\, 69115 Heidelberg\nWann? 5. Oktober 15 Uhr \nFarbe und Unterlagen haben wir. Bringt gerne Karton oder anderes Plakatmaterial mit.
URL:https://keinschrittnachrechts.de/event/ksnr-plakate-malen
LOCATION:Laden für Kultur und Politik\, Kaiserstr. 62\, Heidleberg
CATEGORIES:Kein Schritt nach Rechts
END:VEVENT
BEGIN:VEVENT
DTSTART;TZID=Europe/Berlin:20251006T191500
DTEND;TZID=Europe/Berlin:20251006T220000
DTSTAMP:20260425T131546
CREATED:20250930T205920Z
LAST-MODIFIED:20250930T205920Z
UID:2396-1759778100-1759788000@keinschrittnachrechts.de
SUMMARY:KSNR | Treffen des Arbeitskreises Kultur
DESCRIPTION:Am Montag\, dem 6. Oktober um 19:15 Uhr trifft sich der Arbeitskreis Kultur. Für weitere Informationen und falls du Lust hast\, zum Treffen dazuzukommen\, schreib uns gerne eine Mail. \nWir freuen uns immer über Interesse und neue Menschen!
URL:https://keinschrittnachrechts.de/event/ksnr-treffen-des-arbeitskreises-kultur-8
CATEGORIES:Kein Schritt nach Rechts
END:VEVENT
BEGIN:VEVENT
DTSTART;TZID=Europe/Berlin:20251010T190000
DTEND;TZID=Europe/Berlin:20251010T220000
DTSTAMP:20260425T131546
CREATED:20250730T104754Z
LAST-MODIFIED:20250930T203904Z
UID:2199-1760122800-1760133600@keinschrittnachrechts.de
SUMMARY:KSNR | "Trinken gegen Rechts": Kneipentour in der Unteren Straße
DESCRIPTION:Hilf mit\, den Kulturwandel in der Unteren Straße zu gestalten. Weg vom hirnlosen Saufen\, hin zu guten Gesprächen zu allen Themen\, für die das Bündnis Kein Schritt nach Rechts steht. Wenn du Lust hast\, gegen Rechts zu trinken und die Untere unsicher zu machen\, dann sei bei unserer Kneipentour dabei! \nEs gibt keinen Alkoholzwang und wir werden eine Awarenessperson dabei haben. Wir besuchen Bars die Nachtsam geschult sind oder eine Schulung demnächst durchführen. Wir versuchen möglichst barrierearme Bars auszusuchen. \nMeldet euch per Mail an: info@queerfemkollektiv.de oder akkultur@keinschrittnachrechts.de.
URL:https://keinschrittnachrechts.de/event/ksnr-trinken-gegen-rechts-kneipentour-in-der-unteren-strasse
CATEGORIES:Kein Schritt nach Rechts
END:VEVENT
END:VCALENDAR