BEGIN:VCALENDAR
VERSION:2.0
PRODID:-//Kein Schritt nach rechts - ECPv6.15.20//NONSGML v1.0//EN
CALSCALE:GREGORIAN
METHOD:PUBLISH
X-WR-CALNAME:Kein Schritt nach rechts
X-ORIGINAL-URL:https://keinschrittnachrechts.de
X-WR-CALDESC:Veranstaltungen für Kein Schritt nach rechts
REFRESH-INTERVAL;VALUE=DURATION:PT1H
X-Robots-Tag:noindex
X-PUBLISHED-TTL:PT1H
BEGIN:VTIMEZONE
TZID:Europe/Berlin
BEGIN:DAYLIGHT
TZOFFSETFROM:+0100
TZOFFSETTO:+0200
TZNAME:CEST
DTSTART:20250330T010000
END:DAYLIGHT
BEGIN:STANDARD
TZOFFSETFROM:+0200
TZOFFSETTO:+0100
TZNAME:CET
DTSTART:20251026T010000
END:STANDARD
BEGIN:DAYLIGHT
TZOFFSETFROM:+0100
TZOFFSETTO:+0200
TZNAME:CEST
DTSTART:20260329T010000
END:DAYLIGHT
BEGIN:STANDARD
TZOFFSETFROM:+0200
TZOFFSETTO:+0100
TZNAME:CET
DTSTART:20261025T010000
END:STANDARD
BEGIN:DAYLIGHT
TZOFFSETFROM:+0100
TZOFFSETTO:+0200
TZNAME:CEST
DTSTART:20270328T010000
END:DAYLIGHT
BEGIN:STANDARD
TZOFFSETFROM:+0200
TZOFFSETTO:+0100
TZNAME:CET
DTSTART:20271031T010000
END:STANDARD
END:VTIMEZONE
BEGIN:VEVENT
DTSTART;TZID=Europe/Berlin:20260302T180000
DTEND;TZID=Europe/Berlin:20260302T200000
DTSTAMP:20260425T020950
CREATED:20260202T213411Z
LAST-MODIFIED:20260202T213411Z
UID:2839-1772474400-1772481600@keinschrittnachrechts.de
SUMMARY:KSNR | Weiterer Termin! :)  : Workshop: „Stammtischkämpfer*innen“ – Ausbildung
DESCRIPTION:Wegen der hohen Nachfrage wird der Workshop noch zweimal angeboten 🙂   :\n(Mittwoch\, 18.2. und Montag 2.3.)\n„Stammtischkämpfer*innen“ – Ausbildung\nWie mit potentiell rechten Wähler*innen\, wie mit Sympathisant*innen der AfD sprechen?\nAm Arbeitsplatz\, im Familien- und Freundeskreis\, in den Vereinen\, am Infostand\, bei öffentlichen Veranstaltungen und auch an Stammtischen?\nWie versuchen wir davon zu überzeugen\, nicht den blauen Rattenfänger auf den Leim zu gehen?\nWie unterscheide ich Menschen\, die noch zu erreichen sind und jene\, die wir verloren haben und jene\, die noch nie für Argumente offen waren?\nWo lohnt sich das Gespräch\, wo nicht? \nAm 8. März sind Landtagswahlen im Ländle und mehr als jeder 5. Wahlberechtigte will auch bei uns in Baden-Württemberg sein Kreuz machen\, bei einer „gesichert rechtsextremistischen“ Partei\, so der Verfassungsschutz. Aber es gilt auch mit Angehörigen der etablierten Parteien zu sprechen\, denn deren Politik ist entscheidend vor der Wahl und nach der Wahl bei der Regierungsbildung\, damit die „Brandmauer“ in Baden-Württemberg hält. \nWelche Argumente haben wir\, welche Gesprächstechniken sind hilfreich?\nMit praktischen Übungen wollen wir uns das Handwerkszeug aneignen\, für gelingende Gespräche\, die uns alle und damit auch unsere Demokratie schützen. \nDatum/Uhrzeit: Montag\, 02. März\, 18.00 – 20:00 Uhr\nOrt: WeltHaus Heidelberg (barrierefrei)\nKurfürsten Anlage 25 (am Römerkreis)\nReferent: Ulrich Wohland\nWerkstatt für Gewaltfreie Aktion\nAnmeldung: über ulrich.wohland@wfga.de\, 0170-8134532 \n  \n  \n 
URL:https://keinschrittnachrechts.de/event/ksnr-weiterer-termin-workshop-stammtischkaempferinnen-ausbildung-2
LOCATION:WeltHaus Heidelberg (neu)\, Kurfürsten Anlage 25 (am Römerkreis)\, Heidelberg
CATEGORIES:Kein Schritt nach Rechts
END:VEVENT
BEGIN:VEVENT
DTSTART;TZID=Europe/Berlin:20260316T200000
DTEND;TZID=Europe/Berlin:20260316T220000
DTSTAMP:20260425T020950
CREATED:20260211T165315Z
LAST-MODIFIED:20260211T165315Z
UID:2909-1773691200-1773698400@keinschrittnachrechts.de
SUMMARY:KSNR | Treffen des Arbeitskreises Bildung
DESCRIPTION:Am Montag\, dem 16. März\, 20 Uhr trifft sich der Arbeitskreis Bildung das nächste Mal.\nFür weitere Informationen und falls Du Lust hast\, zum Treffen dazuzukommen\, schreibe uns gerne eine Mail. \nWir freuen uns immer über Neue.\nEs ist ziemlich bunt\, interessant und abwechslungsreich. Einfach mal anschauen. 🙂 \nKommt dazu! 🤗
URL:https://keinschrittnachrechts.de/event/ksnr-treffen-des-arbeitskreises-bildung-14
CATEGORIES:Kein Schritt nach Rechts
END:VEVENT
BEGIN:VEVENT
DTSTART;TZID=Europe/Berlin:20260323T193000
DTEND;TZID=Europe/Berlin:20260323T193000
DTSTAMP:20260425T020950
CREATED:20260321T212536Z
LAST-MODIFIED:20260321T212536Z
UID:3152-1774294200-1774294200@keinschrittnachrechts.de
SUMMARY:KSNR | Lass mal babbeln: Einsamkeitsepidemie - Mythos oder Realität?
DESCRIPTION:Wir wollen uns über unterschiedliche Themen austauschen. \nNichts ist so alt und beständig wie die Beziehungen zwischen den Geschlechtern und die dabei entstehenden Probleme. Werden die Menschen aktuell einsamer? Geht der Krieg der Geschlechter in die heißere Phase über? Und was kann man dagegen tun? \nWenn du darüber mit anderen in einer moderierten Diskussion reden willst\, komm am Montag\, 23. März 2026\, um 19:30 Uhr zum Achter\, Neuenheimer Landstraße 3A\, 69120 Heidelberg. Du kannst gerne alleine oder mit Bekannten erscheinen.
URL:https://keinschrittnachrechts.de/event/ksnr-lass-mal-babbeln-einsamkeitsepidemie-mythos-oder-realitaet
CATEGORIES:Kein Schritt nach Rechts
END:VEVENT
END:VCALENDAR