BEGIN:VCALENDAR
VERSION:2.0
PRODID:-//Kein Schritt nach rechts - ECPv6.15.20//NONSGML v1.0//EN
CALSCALE:GREGORIAN
METHOD:PUBLISH
X-WR-CALNAME:Kein Schritt nach rechts
X-ORIGINAL-URL:https://keinschrittnachrechts.de
X-WR-CALDESC:Veranstaltungen für Kein Schritt nach rechts
REFRESH-INTERVAL;VALUE=DURATION:PT1H
X-Robots-Tag:noindex
X-PUBLISHED-TTL:PT1H
BEGIN:VTIMEZONE
TZID:Europe/Berlin
BEGIN:DAYLIGHT
TZOFFSETFROM:+0100
TZOFFSETTO:+0200
TZNAME:CEST
DTSTART:20240331T010000
END:DAYLIGHT
BEGIN:STANDARD
TZOFFSETFROM:+0200
TZOFFSETTO:+0100
TZNAME:CET
DTSTART:20241027T010000
END:STANDARD
BEGIN:DAYLIGHT
TZOFFSETFROM:+0100
TZOFFSETTO:+0200
TZNAME:CEST
DTSTART:20250330T010000
END:DAYLIGHT
BEGIN:STANDARD
TZOFFSETFROM:+0200
TZOFFSETTO:+0100
TZNAME:CET
DTSTART:20251026T010000
END:STANDARD
BEGIN:DAYLIGHT
TZOFFSETFROM:+0100
TZOFFSETTO:+0200
TZNAME:CEST
DTSTART:20260329T010000
END:DAYLIGHT
BEGIN:STANDARD
TZOFFSETFROM:+0200
TZOFFSETTO:+0100
TZNAME:CET
DTSTART:20261025T010000
END:STANDARD
END:VTIMEZONE
BEGIN:VEVENT
DTSTART;TZID=Europe/Berlin:20250821T190000
DTEND;TZID=Europe/Berlin:20250821T190000
DTSTAMP:20260425T145646
CREATED:20250805T192055Z
LAST-MODIFIED:20250805T192055Z
UID:2206-1755802800-1755802800@keinschrittnachrechts.de
SUMMARY:KSNR | Treffen des Arbeitskreises Bildung
DESCRIPTION:Am Donerstag\, dem 21. August\, 19:00 Uhr trifft sich der Arbeitskreis Bildung. Für weitere Informationen und falls Du Lust hast\, zum Treffen dazuzukommen\, schreibe uns gerne eine Mail. \nWir freuen uns immer über Interesse und neue Menschen\, und jetzt vor dem Fest am 12. Oktober ganz besonders!!\nEs ist ziemlich bunt\, interessant und abwechslungsreich. Und oft auch lecker. Einfach mal anschauen. 🙂 \nKommt dazu! 🤗
URL:https://keinschrittnachrechts.de/event/ksnr-treffen-des-arbeitskreises-bildung-8
CATEGORIES:Kein Schritt nach Rechts
END:VEVENT
END:VCALENDAR