BEGIN:VCALENDAR
VERSION:2.0
PRODID:-//Kein Schritt nach rechts - ECPv6.15.20//NONSGML v1.0//EN
CALSCALE:GREGORIAN
METHOD:PUBLISH
X-ORIGINAL-URL:https://keinschrittnachrechts.de
X-WR-CALDESC:Veranstaltungen für Kein Schritt nach rechts
REFRESH-INTERVAL;VALUE=DURATION:PT1H
X-Robots-Tag:noindex
X-PUBLISHED-TTL:PT1H
BEGIN:VTIMEZONE
TZID:Europe/Berlin
BEGIN:DAYLIGHT
TZOFFSETFROM:+0100
TZOFFSETTO:+0200
TZNAME:CEST
DTSTART:20240331T010000
END:DAYLIGHT
BEGIN:STANDARD
TZOFFSETFROM:+0200
TZOFFSETTO:+0100
TZNAME:CET
DTSTART:20241027T010000
END:STANDARD
BEGIN:DAYLIGHT
TZOFFSETFROM:+0100
TZOFFSETTO:+0200
TZNAME:CEST
DTSTART:20250330T010000
END:DAYLIGHT
BEGIN:STANDARD
TZOFFSETFROM:+0200
TZOFFSETTO:+0100
TZNAME:CET
DTSTART:20251026T010000
END:STANDARD
BEGIN:DAYLIGHT
TZOFFSETFROM:+0100
TZOFFSETTO:+0200
TZNAME:CEST
DTSTART:20260329T010000
END:DAYLIGHT
BEGIN:STANDARD
TZOFFSETFROM:+0200
TZOFFSETTO:+0100
TZNAME:CET
DTSTART:20261025T010000
END:STANDARD
END:VTIMEZONE
BEGIN:VEVENT
DTSTART;TZID=Europe/Berlin:20251019T183000
DTEND;TZID=Europe/Berlin:20251019T183000
DTSTAMP:20260425T121843
CREATED:20250725T135258Z
LAST-MODIFIED:20251014T204925Z
UID:2176-1760898600-1760898600@keinschrittnachrechts.de
SUMMARY:KSNR | AK Aktion: Szenische Lesung "Normal – Eine Besichtigung des Wahns"
DESCRIPTION:Normal – Eine Besichtigung des Wahns\nEin Abend gegen Irrationalismus und instrumentelle Vernunft\nvon und mit Thomas Ebermann & Thorsten Mense & Flo Thamer \nPandemie\, Klimawandel\, Kriege\, die Steuererklärung\, der Verkehrsstau – Krisen über Krisen\, und kein Ende in Sicht. \nDie einen fliehen in den Verschwörungsglauben oder gleich vollends in den Faschismus. Sie sind die Endzeit-Krieger in Tierkostümen\, folgen QAnon bis ins Capitol. Sie sind die Aluhut-Trägerinnen\, die gegen Chemtrails und Impfzwang demonstrieren. Es sind die Reichsbürger\, die Kämpfer gegen den »Great Reset« und den »Großen Austausch«. Auch die Incels sind mit dabei\, mit ihrem Hass auf Frauen\, der bis zu Morden eskalieren kann und in Manifesten gefeiert wird. Politisierter kollektiver Wahn – immer auf der Suche nach weltbeherrschenden Drahtziehern\, die schuldig sind und meist Soros heißen. \nDie anderen halten am gesunden Menschenverstand fest. Sie verteidigen den Experten gegen den Scharlatan\, die Vernunft gegen den Wahn. Sie sind fleißig\, halten Nationen und Eigentumsordnung für so natürlich\, wie dass der Starke den Schwachen besiegen muss. Sie wissen\, dass Kollateralschäden nicht schön\, aber unvermeidbar sind: Die Hungernden\, die Obdachlosen\, die Erfrierenden in jedem Winter\, die Ertrunkenen im Mittelmeer. Auch wenn sie Horoskope lesen\, halten sie es dennoch für nicht ganz bewiesen\, dass die Sterne unser Schicksal bestimmen – und sie lesen ja auch nur solche\, die raten zu tun\, was die Gesellschaft von den Menschen ohnehin verlangt. \nAuf Bühne und Leinwand besichtigen wir – angemessen polemisch\, satirisch wie analytisch\, fragend und kritisierend – den ganz normalen Wahn und den Wahn der Normalität\, das Pathogene im Normalen\, und das Irrationale\, das nicht das Gegenteil des Normalen ist\, sondern aus diesem erwächst. Es wird so witzig\, wie Adornos Stahlbäder lustig sind. \nSzenische Lesung am Sonntag\, 19. Oktober um 18:30 Uhr im Collegium Academicum. \nWeitere Informationen (externer Link): \nhttps://www.vernunftwahn.de/ \n  \n 
URL:https://keinschrittnachrechts.de/event/ksnr-ak-aktion-szenische-lesung-von-thomas-ebermann-normalitaet-und-wahn
LOCATION:Collegium Academicum\, Heidelberg\, Marie-Clauss-Straße 3\, Heidelberg\, 69115\, Germany
CATEGORIES:Kein Schritt nach Rechts
END:VEVENT
END:VCALENDAR