BEGIN:VCALENDAR
VERSION:2.0
PRODID:-//Kein Schritt nach rechts - ECPv6.15.20//NONSGML v1.0//EN
CALSCALE:GREGORIAN
METHOD:PUBLISH
X-WR-CALNAME:Kein Schritt nach rechts
X-ORIGINAL-URL:https://keinschrittnachrechts.de
X-WR-CALDESC:Veranstaltungen für Kein Schritt nach rechts
REFRESH-INTERVAL;VALUE=DURATION:PT1H
X-Robots-Tag:noindex
X-PUBLISHED-TTL:PT1H
BEGIN:VTIMEZONE
TZID:Europe/Berlin
BEGIN:DAYLIGHT
TZOFFSETFROM:+0100
TZOFFSETTO:+0200
TZNAME:CEST
DTSTART:20250330T010000
END:DAYLIGHT
BEGIN:STANDARD
TZOFFSETFROM:+0200
TZOFFSETTO:+0100
TZNAME:CET
DTSTART:20251026T010000
END:STANDARD
BEGIN:DAYLIGHT
TZOFFSETFROM:+0100
TZOFFSETTO:+0200
TZNAME:CEST
DTSTART:20260329T010000
END:DAYLIGHT
BEGIN:STANDARD
TZOFFSETFROM:+0200
TZOFFSETTO:+0100
TZNAME:CET
DTSTART:20261025T010000
END:STANDARD
BEGIN:DAYLIGHT
TZOFFSETFROM:+0100
TZOFFSETTO:+0200
TZNAME:CEST
DTSTART:20270328T010000
END:DAYLIGHT
BEGIN:STANDARD
TZOFFSETFROM:+0200
TZOFFSETTO:+0100
TZNAME:CET
DTSTART:20271031T010000
END:STANDARD
END:VTIMEZONE
BEGIN:VEVENT
DTSTART;TZID=Europe/Berlin:20260422T163000
DTEND;TZID=Europe/Berlin:20260422T180000
DTSTAMP:20260422T014845
CREATED:20260416T160029Z
LAST-MODIFIED:20260416T160029Z
UID:3270-1776875400-1776880800@keinschrittnachrechts.de
SUMMARY:Extern | Führung durch das jüdische Schriesheim
DESCRIPTION:*Mittwoch\, 22. April 2026\, 16:30 – 18:00 Uhr\nTreffpunkt vor dem Neuen Rathaus (Haupteingang)\, Schriesheim* \nJüdische Familien hatten nach dem Dreißigjährigen Krieg Anteil an der Wiederbesiedlung von Schriesheim und prägten das Leben des Ortes bis ins 20. Jahrhundert mit. Die Plünderung der Schriesheimer Synagoge am 10. November 1938 besiegelte des Ende des jüdischen Gemeindelebens. Bis Herbst 1939 waren alle jüdischen Bürger und Bürgerinnen aus der Stadt geflohen. Viele wurden danach von anderen Orten aus deportiert und ermordet. \nDie Führung beginnt mit der Vorstellung der beiden Ausstellungsvitrinen im neuen Rathaus. Danach begeben wir uns auf einen Rundgang durch die Altstadt zu ausgewählten Häusern\, die bis 1938/1939 <tel:1938/1939> in jüdischem Besitz waren. Der Rundgang endet mit der Station vor der ehemaligen Synagoge in der Lutherischen Kirchgasse. \nDie Teilnahme ist kostenfrei und erfordert keine Anmeldung. \nProf. Dr. Joachim Maier
URL:https://keinschrittnachrechts.de/event/extern-fuehrung-durch-das-juedische-schriesheim
LOCATION:Schriesheim (neues) Rathaus\, Friedrichstraße 28-30\, Schriesheim\, 69198
CATEGORIES:Externe Veranstaltungen
END:VEVENT
BEGIN:VEVENT
DTSTART;TZID=Europe/Berlin:20260422T190000
DTEND;TZID=Europe/Berlin:20260422T210000
DTSTAMP:20260422T014845
CREATED:20260420T100715Z
LAST-MODIFIED:20260420T100715Z
UID:3293-1776884400-1776891600@keinschrittnachrechts.de
SUMMARY:Extern | Treffen der "AG Gesellschaft zusammenbringen"
DESCRIPTION:Die Werkstatt Ökonomie lädt ein zum nächsten Treffen der „AG Gesellschaft zusammenbringen“. \nAb 18:00 Uhr gibt es: Gemütliches Ankommen\, Was bisher geschah?\, Einführung zu Gemeinwohl-Ökonomie (GWÖ)\, Bücher- und Infotisch\, Bücher zum Verschenken. \nVeranstaltungsort ist das Welthaus HD\, Kurfürsten-Anlage 25\, am Römerkreis\, kleiner Meetingraum. \nBitte beachten: Das Welthaus hat eine automatische Türöffnung\, die nur von innen funktioniert. Von außen ist die Tür geschlossen. Deshalb bitte klingeln und warten\, bis jemand kommt und öffnet. Bitte nicht mit Gegenständen (z. B. Kiste oder Keil) die Tür offen halten\, das mag der automatische Türmechanismus gar nicht. \nThema und Ablauf\nDas Thema ist: Miteinander Schritt für Schritt „Ein gutes Leben für ALLE“ in Kooperation mit Kreativität und Freude umsetzen.\nBeim letzten Treffen hatten die Teilnehmenden die Möglichkeit\, mit dem Dialogformat Sprechen & Zuhören darzustellen\, wie „Ein gutes Leben für alle aussehen kann und wie es ihnen damit geht.“ \nDaran knüpfen wir an\, übertragen diese Fragestellung auf einzelne Themen und überlegen in einem zweiten Schritt\, wie Regeln (Rahmenbedingungen\, Gesetze) aussehen müssten\, die uns einladen und motivieren\, nachhaltig und global gerecht zu handeln. \n\n19:00: Begrüßung und kurzer Rückblick\n19:10: Vorstellung des Themas und des Ablaufs\, Einteilung von Kleingruppen\n19:30: Arbeit in Kleingruppen: Ein gutes Leben für ALLE zu unterschiedlichen Themen\n20:15: Ergebnisse aus den Kleingruppen im Plenum\n20:45: Nächste Schritte und Sonstiges: Nächstes Treffen vereinbaren (Mi 20.5. oder Do 21.5.)\nENDE gegen 21:00 Uhr\n\nBitte formlose Anmeldung per Mail an joachim.langer@woek.de\, damit wir besser plmeianen können. DANKE!
URL:https://keinschrittnachrechts.de/event/extern-treffen-der-ag-gesellschaft-zusammenbringen-2
LOCATION:WeltHaus Heidelberg (neu)\, Kurfürsten Anlage 25 (am Römerkreis)\, Heidelberg
CATEGORIES:Externe Veranstaltungen
END:VEVENT
END:VCALENDAR